BEGIN:VCALENDAR
VERSION:2.0
PRODID:-//Orriols en Positivo//NONSGML ESCUELA DE FAMILIAS. Juegos de conexión //EN
CALSCALE:GREGORIAN
X-WR-CALNAME:ESCUELA DE FAMILIAS. Juegos de conexión - Orriols en Positivo
X-Robots-Tag:noindex
X-WR-TIMEZONE:Europe/Madrid
BEGIN:VTIMEZONE
TZID:Europe/Madrid
X-LIC-LOCATION:Europe/Madrid
BEGIN:DAYLIGHT
TZOFFSETFROM:+0100
TZOFFSETTO:+0200
TZNAME:CEST
DTSTART:19700329T020000
RRULE:FREQ=YEARLY;BYMONTH=3;BYDAY=-1SU
END:DAYLIGHT
BEGIN:STANDARD
TZOFFSETFROM:+0200
TZOFFSETTO:+0100
TZNAME:CET
DTSTART:19701025T030000
RRULE:FREQ=YEARLY;BYMONTH=10;BYDAY=-1SU
END:STANDARD
END:VTIMEZONE
BEGIN:VEVENT
CREATED:20260422T112854Z
UID:360
DTSTART;TZID=Europe/Madrid:20260514T173000
DTEND;TZID=Europe/Madrid:20260514T193000
DTSTAMP:20260422T142154Z
LOCATION:Plaza Santa Mónica\, La Saïdia
DESCRIPTION;ENCODING=QUOTED-PRINTABLE:<p>Nos reunimos a las 17:30h en la plaza Santa Mónica\, y nos trasladaremos al antiguo cauce del río con las familias participantes. Imparte la sesión de juegos de conexión la Psicóloga Social\,  Laura García. </p><br /><p>Importante presencia de NNA y familiar.</p><br /><p>CONFIRMA TU PLAZA EN EL TELÉFONO 619 96 30 78 </p><br />
X-ALT-DESC;FMTTYPE=text/html:<p>Nos reunimos a las 17:30h en la plaza Santa Mónica\, y nos trasladaremos al antiguo cauce del río con las familias participantes. Imparte la sesión de juegos de conexión la Psicóloga Social\,  Laura García. </p><br /><p>Importante presencia de NNA y familiar.</p><br /><p>CONFIRMA TU PLAZA EN EL TELÉFONO 619 96 30 78 </p><br />
SUMMARY:ESCUELA DE FAMILIAS. Juegos de conexión
ORGANIZER:Centro de día San Eugenio. Hijas de la Caridad
URL;VALUE=URI:https://orriolsenpositivo.es/actividades/escuela-de-familias-juegos-de-conexion/
TRANSP:OPAQUE
END:VEVENT
END:VCALENDAR
