BEGIN:VCALENDAR
VERSION:2.0
PRODID:-//Orriols en Positivo//NONSGML MUJERES QUE INSPIRAN //EN
CALSCALE:GREGORIAN
X-WR-CALNAME:MUJERES QUE INSPIRAN - Orriols en Positivo
X-Robots-Tag:noindex
X-WR-TIMEZONE:Europe/Madrid
BEGIN:VTIMEZONE
TZID:Europe/Madrid
X-LIC-LOCATION:Europe/Madrid
BEGIN:DAYLIGHT
TZOFFSETFROM:+0100
TZOFFSETTO:+0200
TZNAME:CEST
DTSTART:19700329T020000
RRULE:FREQ=YEARLY;BYMONTH=3;BYDAY=-1SU
END:DAYLIGHT
BEGIN:STANDARD
TZOFFSETFROM:+0200
TZOFFSETTO:+0100
TZNAME:CET
DTSTART:19701025T030000
RRULE:FREQ=YEARLY;BYMONTH=10;BYDAY=-1SU
END:STANDARD
END:VTIMEZONE
BEGIN:VEVENT
CREATED:20260420T103230Z
UID:359
DTSTART;TZID=Europe/Madrid:20260624T173000
DTEND;TZID=Europe/Madrid:20260624T190000
DTSTAMP:20260420T145444Z
LOCATION:AVENIDAD CONSTITUCIÓN Nº 256 B (LA MISTI))
DESCRIPTION;ENCODING=QUOTED-PRINTABLE:<p>ESPACIO DONDE PODER REUNIRSE SOLO MUJERES DE TODAS LAS EDADES Y CULTURAS PARA EL APOYO MUTUO\, DONDE SE COMPARTE: EXPERIENCIAS Y SABIDURIA  VIVENCIAS DESDE LA PERSPECTIVA  MUJER</p><br />
X-ALT-DESC;FMTTYPE=text/html:<p>ESPACIO DONDE PODER REUNIRSE SOLO MUJERES DE TODAS LAS EDADES Y CULTURAS PARA EL APOYO MUTUO\, DONDE SE COMPARTE: EXPERIENCIAS Y SABIDURIA  VIVENCIAS DESDE LA PERSPECTIVA  MUJER</p><br />
SUMMARY:MUJERES QUE INSPIRAN
ORGANIZER:TOTS SOM UN
URL;VALUE=URI:https://orriolsenpositivo.es/actividades/mujeres-que-inspiran/
TRANSP:OPAQUE
END:VEVENT
BEGIN:VEVENT
CREATED:20260420T103230Z
UID:358
DTSTART;TZID=Europe/Madrid:20260527T173000
DTEND;TZID=Europe/Madrid:20260527T190000
DTSTAMP:20260420T145444Z
LOCATION:AVENIDAD CONSTITUCIÓN Nº 256 B (LA MISTI))
DESCRIPTION;ENCODING=QUOTED-PRINTABLE:<p>ESPACIO DONDE PODER REUNIRSE SOLO MUJERES DE TODAS LAS EDADES Y CULTURAS PARA EL APOYO MUTUO\, DONDE SE COMPARTE: EXPERIENCIAS Y SABIDURIA  VIVENCIAS DESDE LA PERSPECTIVA  MUJER</p><br />
X-ALT-DESC;FMTTYPE=text/html:<p>ESPACIO DONDE PODER REUNIRSE SOLO MUJERES DE TODAS LAS EDADES Y CULTURAS PARA EL APOYO MUTUO\, DONDE SE COMPARTE: EXPERIENCIAS Y SABIDURIA  VIVENCIAS DESDE LA PERSPECTIVA  MUJER</p><br />
SUMMARY:MUJERES QUE INSPIRAN
ORGANIZER:TOTS SOM UN
URL;VALUE=URI:https://orriolsenpositivo.es/actividades/mujeres-que-inspiran/
TRANSP:OPAQUE
END:VEVENT
BEGIN:VEVENT
CREATED:20260420T103230Z
UID:357
DTSTART;TZID=Europe/Madrid:20260422T173000
DTEND;TZID=Europe/Madrid:20260422T190000
DTSTAMP:20260420T145444Z
LOCATION:AVENIDAD CONSTITUCIÓN Nº 256 B (LA MISTI))
DESCRIPTION;ENCODING=QUOTED-PRINTABLE:<p>ESPACIO DONDE PODER REUNIRSE SOLO MUJERES DE TODAS LAS EDADES Y CULTURAS PARA EL APOYO MUTUO\, DONDE SE COMPARTE: EXPERIENCIAS Y SABIDURIA  VIVENCIAS DESDE LA PERSPECTIVA  MUJER</p><br />
X-ALT-DESC;FMTTYPE=text/html:<p>ESPACIO DONDE PODER REUNIRSE SOLO MUJERES DE TODAS LAS EDADES Y CULTURAS PARA EL APOYO MUTUO\, DONDE SE COMPARTE: EXPERIENCIAS Y SABIDURIA  VIVENCIAS DESDE LA PERSPECTIVA  MUJER</p><br />
SUMMARY:MUJERES QUE INSPIRAN
ORGANIZER:TOTS SOM UN
URL;VALUE=URI:https://orriolsenpositivo.es/actividades/mujeres-que-inspiran/
TRANSP:OPAQUE
END:VEVENT
BEGIN:VEVENT
CREATED:20260420T103230Z
UID:356
DTSTART;TZID=Europe/Madrid:20260325T173000
DTEND;TZID=Europe/Madrid:20260325T190000
DTSTAMP:20260420T145444Z
LOCATION:AVENIDAD CONSTITUCIÓN Nº 256 B (LA MISTI))
DESCRIPTION;ENCODING=QUOTED-PRINTABLE:<p>ESPACIO DONDE PODER REUNIRSE SOLO MUJERES DE TODAS LAS EDADES Y CULTURAS PARA EL APOYO MUTUO\, DONDE SE COMPARTE: EXPERIENCIAS Y SABIDURIA  VIVENCIAS DESDE LA PERSPECTIVA  MUJER</p><br />
X-ALT-DESC;FMTTYPE=text/html:<p>ESPACIO DONDE PODER REUNIRSE SOLO MUJERES DE TODAS LAS EDADES Y CULTURAS PARA EL APOYO MUTUO\, DONDE SE COMPARTE: EXPERIENCIAS Y SABIDURIA  VIVENCIAS DESDE LA PERSPECTIVA  MUJER</p><br />
SUMMARY:MUJERES QUE INSPIRAN
ORGANIZER:TOTS SOM UN
URL;VALUE=URI:https://orriolsenpositivo.es/actividades/mujeres-que-inspiran/
TRANSP:OPAQUE
END:VEVENT
BEGIN:VEVENT
CREATED:20260420T103230Z
UID:355
DTSTART;TZID=Europe/Madrid:20260225T173000
DTEND;TZID=Europe/Madrid:20260225T190000
DTSTAMP:20260420T145444Z
LOCATION:AVENIDAD CONSTITUCIÓN Nº 256 B (LA MISTI))
DESCRIPTION;ENCODING=QUOTED-PRINTABLE:<p>ESPACIO DONDE PODER REUNIRSE SOLO MUJERES DE TODAS LAS EDADES Y CULTURAS PARA EL APOYO MUTUO\, DONDE SE COMPARTE: EXPERIENCIAS Y SABIDURIA  VIVENCIAS DESDE LA PERSPECTIVA  MUJER</p><br />
X-ALT-DESC;FMTTYPE=text/html:<p>ESPACIO DONDE PODER REUNIRSE SOLO MUJERES DE TODAS LAS EDADES Y CULTURAS PARA EL APOYO MUTUO\, DONDE SE COMPARTE: EXPERIENCIAS Y SABIDURIA  VIVENCIAS DESDE LA PERSPECTIVA  MUJER</p><br />
SUMMARY:MUJERES QUE INSPIRAN
ORGANIZER:TOTS SOM UN
URL;VALUE=URI:https://orriolsenpositivo.es/actividades/mujeres-que-inspiran/
TRANSP:OPAQUE
END:VEVENT
BEGIN:VEVENT
CREATED:20260420T103230Z
UID:354
DTSTART;TZID=Europe/Madrid:20260128T173000
DTEND;TZID=Europe/Madrid:20260128T190000
DTSTAMP:20260420T145444Z
LOCATION:AVENIDAD CONSTITUCIÓN Nº 256 B (LA MISTI))
DESCRIPTION;ENCODING=QUOTED-PRINTABLE:<p>ESPACIO DONDE PODER REUNIRSE SOLO MUJERES DE TODAS LAS EDADES Y CULTURAS PARA EL APOYO MUTUO\, DONDE SE COMPARTE: EXPERIENCIAS Y SABIDURIA  VIVENCIAS DESDE LA PERSPECTIVA  MUJER</p><br />
X-ALT-DESC;FMTTYPE=text/html:<p>ESPACIO DONDE PODER REUNIRSE SOLO MUJERES DE TODAS LAS EDADES Y CULTURAS PARA EL APOYO MUTUO\, DONDE SE COMPARTE: EXPERIENCIAS Y SABIDURIA  VIVENCIAS DESDE LA PERSPECTIVA  MUJER</p><br />
SUMMARY:MUJERES QUE INSPIRAN
ORGANIZER:TOTS SOM UN
URL;VALUE=URI:https://orriolsenpositivo.es/actividades/mujeres-que-inspiran/
TRANSP:OPAQUE
END:VEVENT
BEGIN:VEVENT
CREATED:20260420T103230Z
UID:353
DTSTART;TZID=Europe/Madrid:20251224T173000
DTEND;TZID=Europe/Madrid:20251224T190000
DTSTAMP:20260420T145444Z
LOCATION:AVENIDAD CONSTITUCIÓN Nº 256 B (LA MISTI))
DESCRIPTION;ENCODING=QUOTED-PRINTABLE:<p>ESPACIO DONDE PODER REUNIRSE SOLO MUJERES DE TODAS LAS EDADES Y CULTURAS PARA EL APOYO MUTUO\, DONDE SE COMPARTE: EXPERIENCIAS Y SABIDURIA  VIVENCIAS DESDE LA PERSPECTIVA  MUJER</p><br />
X-ALT-DESC;FMTTYPE=text/html:<p>ESPACIO DONDE PODER REUNIRSE SOLO MUJERES DE TODAS LAS EDADES Y CULTURAS PARA EL APOYO MUTUO\, DONDE SE COMPARTE: EXPERIENCIAS Y SABIDURIA  VIVENCIAS DESDE LA PERSPECTIVA  MUJER</p><br />
SUMMARY:MUJERES QUE INSPIRAN
ORGANIZER:TOTS SOM UN
URL;VALUE=URI:https://orriolsenpositivo.es/actividades/mujeres-que-inspiran/
TRANSP:OPAQUE
END:VEVENT
END:VCALENDAR
