BEGIN:VCALENDAR
VERSION:2.0
PRODID:-//Orriols en Positivo//NONSGML MUNDO CREATIVO //EN
CALSCALE:GREGORIAN
X-WR-CALNAME:MUNDO CREATIVO - Orriols en Positivo
X-Robots-Tag:noindex
X-WR-TIMEZONE:Europe/Madrid
BEGIN:VTIMEZONE
TZID:Europe/Madrid
X-LIC-LOCATION:Europe/Madrid
BEGIN:DAYLIGHT
TZOFFSETFROM:+0100
TZOFFSETTO:+0200
TZNAME:CEST
DTSTART:19700329T020000
RRULE:FREQ=YEARLY;BYMONTH=3;BYDAY=-1SU
END:DAYLIGHT
BEGIN:STANDARD
TZOFFSETFROM:+0200
TZOFFSETTO:+0100
TZNAME:CET
DTSTART:19701025T030000
RRULE:FREQ=YEARLY;BYMONTH=10;BYDAY=-1SU
END:STANDARD
END:VTIMEZONE
BEGIN:VEVENT
CREATED:20260420T102257Z
UID:352
DTSTART;TZID=Europe/Madrid:20260704T113000
DTEND;TZID=Europe/Madrid:20260704T130000
DTSTAMP:20260422T115114Z
LOCATION:CALLE ARQUITECTO RODRIGUEZ Nº 34
DESCRIPTION;ENCODING=QUOTED-PRINTABLE:<p>Creación  artística\, dirigido a todas las personas del barrio de Orriols siendo una actividad intergeneracional\, intercultural y de igualdad de género\,  buscando la cohesión a través de la creación donde puedan  manifestar sus  emociones  </p><br />
X-ALT-DESC;FMTTYPE=text/html:<p>Creación  artística\, dirigido a todas las personas del barrio de Orriols siendo una actividad intergeneracional\, intercultural y de igualdad de género\,  buscando la cohesión a través de la creación donde puedan  manifestar sus  emociones  </p><br />
SUMMARY:MUNDO CREATIVO
ORGANIZER:TOTS SOM UN
URL;VALUE=URI:https://orriolsenpositivo.es/actividades/mundo-creativo-2/
TRANSP:OPAQUE
END:VEVENT
BEGIN:VEVENT
CREATED:20260420T102257Z
UID:351
DTSTART;TZID=Europe/Madrid:20260627T113000
DTEND;TZID=Europe/Madrid:20260627T130000
DTSTAMP:20260422T115114Z
LOCATION:CALLE ARQUITECTO RODRIGUEZ Nº 34
DESCRIPTION;ENCODING=QUOTED-PRINTABLE:<p>Creación  artística\, dirigido a todas las personas del barrio de Orriols siendo una actividad intergeneracional\, intercultural y de igualdad de género\,  buscando la cohesión a través de la creación donde puedan  manifestar sus  emociones  </p><br />
X-ALT-DESC;FMTTYPE=text/html:<p>Creación  artística\, dirigido a todas las personas del barrio de Orriols siendo una actividad intergeneracional\, intercultural y de igualdad de género\,  buscando la cohesión a través de la creación donde puedan  manifestar sus  emociones  </p><br />
SUMMARY:MUNDO CREATIVO
ORGANIZER:TOTS SOM UN
URL;VALUE=URI:https://orriolsenpositivo.es/actividades/mundo-creativo-2/
TRANSP:OPAQUE
END:VEVENT
BEGIN:VEVENT
CREATED:20260420T102257Z
UID:350
DTSTART;TZID=Europe/Madrid:20260620T113000
DTEND;TZID=Europe/Madrid:20260620T130000
DTSTAMP:20260422T115114Z
LOCATION:CALLE ARQUITECTO RODRIGUEZ Nº 34
DESCRIPTION;ENCODING=QUOTED-PRINTABLE:<p>Creación  artística\, dirigido a todas las personas del barrio de Orriols siendo una actividad intergeneracional\, intercultural y de igualdad de género\,  buscando la cohesión a través de la creación donde puedan  manifestar sus  emociones  </p><br />
X-ALT-DESC;FMTTYPE=text/html:<p>Creación  artística\, dirigido a todas las personas del barrio de Orriols siendo una actividad intergeneracional\, intercultural y de igualdad de género\,  buscando la cohesión a través de la creación donde puedan  manifestar sus  emociones  </p><br />
SUMMARY:MUNDO CREATIVO
ORGANIZER:TOTS SOM UN
URL;VALUE=URI:https://orriolsenpositivo.es/actividades/mundo-creativo-2/
TRANSP:OPAQUE
END:VEVENT
BEGIN:VEVENT
CREATED:20260420T102257Z
UID:349
DTSTART;TZID=Europe/Madrid:20260613T113000
DTEND;TZID=Europe/Madrid:20260613T130000
DTSTAMP:20260422T115114Z
LOCATION:CALLE ARQUITECTO RODRIGUEZ Nº 34
DESCRIPTION;ENCODING=QUOTED-PRINTABLE:<p>Creación  artística\, dirigido a todas las personas del barrio de Orriols siendo una actividad intergeneracional\, intercultural y de igualdad de género\,  buscando la cohesión a través de la creación donde puedan  manifestar sus  emociones  </p><br />
X-ALT-DESC;FMTTYPE=text/html:<p>Creación  artística\, dirigido a todas las personas del barrio de Orriols siendo una actividad intergeneracional\, intercultural y de igualdad de género\,  buscando la cohesión a través de la creación donde puedan  manifestar sus  emociones  </p><br />
SUMMARY:MUNDO CREATIVO
ORGANIZER:TOTS SOM UN
URL;VALUE=URI:https://orriolsenpositivo.es/actividades/mundo-creativo-2/
TRANSP:OPAQUE
END:VEVENT
BEGIN:VEVENT
CREATED:20260420T102257Z
UID:348
DTSTART;TZID=Europe/Madrid:20260606T113000
DTEND;TZID=Europe/Madrid:20260606T130000
DTSTAMP:20260422T115114Z
LOCATION:CALLE ARQUITECTO RODRIGUEZ Nº 34
DESCRIPTION;ENCODING=QUOTED-PRINTABLE:<p>Creación  artística\, dirigido a todas las personas del barrio de Orriols siendo una actividad intergeneracional\, intercultural y de igualdad de género\,  buscando la cohesión a través de la creación donde puedan  manifestar sus  emociones  </p><br />
X-ALT-DESC;FMTTYPE=text/html:<p>Creación  artística\, dirigido a todas las personas del barrio de Orriols siendo una actividad intergeneracional\, intercultural y de igualdad de género\,  buscando la cohesión a través de la creación donde puedan  manifestar sus  emociones  </p><br />
SUMMARY:MUNDO CREATIVO
ORGANIZER:TOTS SOM UN
URL;VALUE=URI:https://orriolsenpositivo.es/actividades/mundo-creativo-2/
TRANSP:OPAQUE
END:VEVENT
BEGIN:VEVENT
CREATED:20260420T102257Z
UID:347
DTSTART;TZID=Europe/Madrid:20260530T113000
DTEND;TZID=Europe/Madrid:20260530T130000
DTSTAMP:20260422T115114Z
LOCATION:CALLE ARQUITECTO RODRIGUEZ Nº 34
DESCRIPTION;ENCODING=QUOTED-PRINTABLE:<p>Creación  artística\, dirigido a todas las personas del barrio de Orriols siendo una actividad intergeneracional\, intercultural y de igualdad de género\,  buscando la cohesión a través de la creación donde puedan  manifestar sus  emociones  </p><br />
X-ALT-DESC;FMTTYPE=text/html:<p>Creación  artística\, dirigido a todas las personas del barrio de Orriols siendo una actividad intergeneracional\, intercultural y de igualdad de género\,  buscando la cohesión a través de la creación donde puedan  manifestar sus  emociones  </p><br />
SUMMARY:MUNDO CREATIVO
ORGANIZER:TOTS SOM UN
URL;VALUE=URI:https://orriolsenpositivo.es/actividades/mundo-creativo-2/
TRANSP:OPAQUE
END:VEVENT
BEGIN:VEVENT
CREATED:20260420T102257Z
UID:346
DTSTART;TZID=Europe/Madrid:20260523T113000
DTEND;TZID=Europe/Madrid:20260523T130000
DTSTAMP:20260422T115114Z
LOCATION:CALLE ARQUITECTO RODRIGUEZ Nº 34
DESCRIPTION;ENCODING=QUOTED-PRINTABLE:<p>Creación  artística\, dirigido a todas las personas del barrio de Orriols siendo una actividad intergeneracional\, intercultural y de igualdad de género\,  buscando la cohesión a través de la creación donde puedan  manifestar sus  emociones  </p><br />
X-ALT-DESC;FMTTYPE=text/html:<p>Creación  artística\, dirigido a todas las personas del barrio de Orriols siendo una actividad intergeneracional\, intercultural y de igualdad de género\,  buscando la cohesión a través de la creación donde puedan  manifestar sus  emociones  </p><br />
SUMMARY:MUNDO CREATIVO
ORGANIZER:TOTS SOM UN
URL;VALUE=URI:https://orriolsenpositivo.es/actividades/mundo-creativo-2/
TRANSP:OPAQUE
END:VEVENT
BEGIN:VEVENT
CREATED:20260420T102257Z
UID:345
DTSTART;TZID=Europe/Madrid:20260516T113000
DTEND;TZID=Europe/Madrid:20260516T130000
DTSTAMP:20260422T115114Z
LOCATION:CALLE ARQUITECTO RODRIGUEZ Nº 34
DESCRIPTION;ENCODING=QUOTED-PRINTABLE:<p>Creación  artística\, dirigido a todas las personas del barrio de Orriols siendo una actividad intergeneracional\, intercultural y de igualdad de género\,  buscando la cohesión a través de la creación donde puedan  manifestar sus  emociones  </p><br />
X-ALT-DESC;FMTTYPE=text/html:<p>Creación  artística\, dirigido a todas las personas del barrio de Orriols siendo una actividad intergeneracional\, intercultural y de igualdad de género\,  buscando la cohesión a través de la creación donde puedan  manifestar sus  emociones  </p><br />
SUMMARY:MUNDO CREATIVO
ORGANIZER:TOTS SOM UN
URL;VALUE=URI:https://orriolsenpositivo.es/actividades/mundo-creativo-2/
TRANSP:OPAQUE
END:VEVENT
BEGIN:VEVENT
CREATED:20260420T102257Z
UID:344
DTSTART;TZID=Europe/Madrid:20260509T113000
DTEND;TZID=Europe/Madrid:20260509T130000
DTSTAMP:20260422T115114Z
LOCATION:CALLE ARQUITECTO RODRIGUEZ Nº 34
DESCRIPTION;ENCODING=QUOTED-PRINTABLE:<p>Creación  artística\, dirigido a todas las personas del barrio de Orriols siendo una actividad intergeneracional\, intercultural y de igualdad de género\,  buscando la cohesión a través de la creación donde puedan  manifestar sus  emociones  </p><br />
X-ALT-DESC;FMTTYPE=text/html:<p>Creación  artística\, dirigido a todas las personas del barrio de Orriols siendo una actividad intergeneracional\, intercultural y de igualdad de género\,  buscando la cohesión a través de la creación donde puedan  manifestar sus  emociones  </p><br />
SUMMARY:MUNDO CREATIVO
ORGANIZER:TOTS SOM UN
URL;VALUE=URI:https://orriolsenpositivo.es/actividades/mundo-creativo-2/
TRANSP:OPAQUE
END:VEVENT
BEGIN:VEVENT
CREATED:20260420T102257Z
UID:343
DTSTART;TZID=Europe/Madrid:20260502T113000
DTEND;TZID=Europe/Madrid:20260502T130000
DTSTAMP:20260422T115114Z
LOCATION:CALLE ARQUITECTO RODRIGUEZ Nº 34
DESCRIPTION;ENCODING=QUOTED-PRINTABLE:<p>Creación  artística\, dirigido a todas las personas del barrio de Orriols siendo una actividad intergeneracional\, intercultural y de igualdad de género\,  buscando la cohesión a través de la creación donde puedan  manifestar sus  emociones  </p><br />
X-ALT-DESC;FMTTYPE=text/html:<p>Creación  artística\, dirigido a todas las personas del barrio de Orriols siendo una actividad intergeneracional\, intercultural y de igualdad de género\,  buscando la cohesión a través de la creación donde puedan  manifestar sus  emociones  </p><br />
SUMMARY:MUNDO CREATIVO
ORGANIZER:TOTS SOM UN
URL;VALUE=URI:https://orriolsenpositivo.es/actividades/mundo-creativo-2/
TRANSP:OPAQUE
END:VEVENT
BEGIN:VEVENT
CREATED:20260420T102257Z
UID:342
DTSTART;TZID=Europe/Madrid:20260425T113000
DTEND;TZID=Europe/Madrid:20260425T130000
DTSTAMP:20260422T115114Z
LOCATION:CALLE ARQUITECTO RODRIGUEZ Nº 34
DESCRIPTION;ENCODING=QUOTED-PRINTABLE:<p>Creación  artística\, dirigido a todas las personas del barrio de Orriols siendo una actividad intergeneracional\, intercultural y de igualdad de género\,  buscando la cohesión a través de la creación donde puedan  manifestar sus  emociones  </p><br />
X-ALT-DESC;FMTTYPE=text/html:<p>Creación  artística\, dirigido a todas las personas del barrio de Orriols siendo una actividad intergeneracional\, intercultural y de igualdad de género\,  buscando la cohesión a través de la creación donde puedan  manifestar sus  emociones  </p><br />
SUMMARY:MUNDO CREATIVO
ORGANIZER:TOTS SOM UN
URL;VALUE=URI:https://orriolsenpositivo.es/actividades/mundo-creativo-2/
TRANSP:OPAQUE
END:VEVENT
BEGIN:VEVENT
CREATED:20260420T102257Z
UID:341
DTSTART;TZID=Europe/Madrid:20260418T113000
DTEND;TZID=Europe/Madrid:20260418T130000
DTSTAMP:20260422T115114Z
LOCATION:CALLE ARQUITECTO RODRIGUEZ Nº 34
DESCRIPTION;ENCODING=QUOTED-PRINTABLE:<p>Creación  artística\, dirigido a todas las personas del barrio de Orriols siendo una actividad intergeneracional\, intercultural y de igualdad de género\,  buscando la cohesión a través de la creación donde puedan  manifestar sus  emociones  </p><br />
X-ALT-DESC;FMTTYPE=text/html:<p>Creación  artística\, dirigido a todas las personas del barrio de Orriols siendo una actividad intergeneracional\, intercultural y de igualdad de género\,  buscando la cohesión a través de la creación donde puedan  manifestar sus  emociones  </p><br />
SUMMARY:MUNDO CREATIVO
ORGANIZER:TOTS SOM UN
URL;VALUE=URI:https://orriolsenpositivo.es/actividades/mundo-creativo-2/
TRANSP:OPAQUE
END:VEVENT
BEGIN:VEVENT
CREATED:20260420T102257Z
UID:340
DTSTART;TZID=Europe/Madrid:20260411T113000
DTEND;TZID=Europe/Madrid:20260411T130000
DTSTAMP:20260422T115114Z
LOCATION:CALLE ARQUITECTO RODRIGUEZ Nº 34
DESCRIPTION;ENCODING=QUOTED-PRINTABLE:<p>Creación  artística\, dirigido a todas las personas del barrio de Orriols siendo una actividad intergeneracional\, intercultural y de igualdad de género\,  buscando la cohesión a través de la creación donde puedan  manifestar sus  emociones  </p><br />
X-ALT-DESC;FMTTYPE=text/html:<p>Creación  artística\, dirigido a todas las personas del barrio de Orriols siendo una actividad intergeneracional\, intercultural y de igualdad de género\,  buscando la cohesión a través de la creación donde puedan  manifestar sus  emociones  </p><br />
SUMMARY:MUNDO CREATIVO
ORGANIZER:TOTS SOM UN
URL;VALUE=URI:https://orriolsenpositivo.es/actividades/mundo-creativo-2/
TRANSP:OPAQUE
END:VEVENT
BEGIN:VEVENT
CREATED:20260420T102257Z
UID:339
DTSTART;TZID=Europe/Madrid:20260404T113000
DTEND;TZID=Europe/Madrid:20260404T130000
DTSTAMP:20260422T115114Z
LOCATION:CALLE ARQUITECTO RODRIGUEZ Nº 34
DESCRIPTION;ENCODING=QUOTED-PRINTABLE:<p>Creación  artística\, dirigido a todas las personas del barrio de Orriols siendo una actividad intergeneracional\, intercultural y de igualdad de género\,  buscando la cohesión a través de la creación donde puedan  manifestar sus  emociones  </p><br />
X-ALT-DESC;FMTTYPE=text/html:<p>Creación  artística\, dirigido a todas las personas del barrio de Orriols siendo una actividad intergeneracional\, intercultural y de igualdad de género\,  buscando la cohesión a través de la creación donde puedan  manifestar sus  emociones  </p><br />
SUMMARY:MUNDO CREATIVO
ORGANIZER:TOTS SOM UN
URL;VALUE=URI:https://orriolsenpositivo.es/actividades/mundo-creativo-2/
TRANSP:OPAQUE
END:VEVENT
BEGIN:VEVENT
CREATED:20260420T102257Z
UID:338
DTSTART;TZID=Europe/Madrid:20260328T113000
DTEND;TZID=Europe/Madrid:20260328T130000
DTSTAMP:20260422T115114Z
LOCATION:CALLE ARQUITECTO RODRIGUEZ Nº 34
DESCRIPTION;ENCODING=QUOTED-PRINTABLE:<p>Creación  artística\, dirigido a todas las personas del barrio de Orriols siendo una actividad intergeneracional\, intercultural y de igualdad de género\,  buscando la cohesión a través de la creación donde puedan  manifestar sus  emociones  </p><br />
X-ALT-DESC;FMTTYPE=text/html:<p>Creación  artística\, dirigido a todas las personas del barrio de Orriols siendo una actividad intergeneracional\, intercultural y de igualdad de género\,  buscando la cohesión a través de la creación donde puedan  manifestar sus  emociones  </p><br />
SUMMARY:MUNDO CREATIVO
ORGANIZER:TOTS SOM UN
URL;VALUE=URI:https://orriolsenpositivo.es/actividades/mundo-creativo-2/
TRANSP:OPAQUE
END:VEVENT
BEGIN:VEVENT
CREATED:20260420T102257Z
UID:337
DTSTART;TZID=Europe/Madrid:20260321T113000
DTEND;TZID=Europe/Madrid:20260321T130000
DTSTAMP:20260422T115114Z
LOCATION:CALLE ARQUITECTO RODRIGUEZ Nº 34
DESCRIPTION;ENCODING=QUOTED-PRINTABLE:<p>Creación  artística\, dirigido a todas las personas del barrio de Orriols siendo una actividad intergeneracional\, intercultural y de igualdad de género\,  buscando la cohesión a través de la creación donde puedan  manifestar sus  emociones  </p><br />
X-ALT-DESC;FMTTYPE=text/html:<p>Creación  artística\, dirigido a todas las personas del barrio de Orriols siendo una actividad intergeneracional\, intercultural y de igualdad de género\,  buscando la cohesión a través de la creación donde puedan  manifestar sus  emociones  </p><br />
SUMMARY:MUNDO CREATIVO
ORGANIZER:TOTS SOM UN
URL;VALUE=URI:https://orriolsenpositivo.es/actividades/mundo-creativo-2/
TRANSP:OPAQUE
END:VEVENT
BEGIN:VEVENT
CREATED:20260420T102257Z
UID:336
DTSTART;TZID=Europe/Madrid:20260314T113000
DTEND;TZID=Europe/Madrid:20260314T130000
DTSTAMP:20260422T115114Z
LOCATION:CALLE ARQUITECTO RODRIGUEZ Nº 34
DESCRIPTION;ENCODING=QUOTED-PRINTABLE:<p>Creación  artística\, dirigido a todas las personas del barrio de Orriols siendo una actividad intergeneracional\, intercultural y de igualdad de género\,  buscando la cohesión a través de la creación donde puedan  manifestar sus  emociones  </p><br />
X-ALT-DESC;FMTTYPE=text/html:<p>Creación  artística\, dirigido a todas las personas del barrio de Orriols siendo una actividad intergeneracional\, intercultural y de igualdad de género\,  buscando la cohesión a través de la creación donde puedan  manifestar sus  emociones  </p><br />
SUMMARY:MUNDO CREATIVO
ORGANIZER:TOTS SOM UN
URL;VALUE=URI:https://orriolsenpositivo.es/actividades/mundo-creativo-2/
TRANSP:OPAQUE
END:VEVENT
BEGIN:VEVENT
CREATED:20260420T102257Z
UID:335
DTSTART;TZID=Europe/Madrid:20260307T113000
DTEND;TZID=Europe/Madrid:20260307T130000
DTSTAMP:20260422T115114Z
LOCATION:CALLE ARQUITECTO RODRIGUEZ Nº 34
DESCRIPTION;ENCODING=QUOTED-PRINTABLE:<p>Creación  artística\, dirigido a todas las personas del barrio de Orriols siendo una actividad intergeneracional\, intercultural y de igualdad de género\,  buscando la cohesión a través de la creación donde puedan  manifestar sus  emociones  </p><br />
X-ALT-DESC;FMTTYPE=text/html:<p>Creación  artística\, dirigido a todas las personas del barrio de Orriols siendo una actividad intergeneracional\, intercultural y de igualdad de género\,  buscando la cohesión a través de la creación donde puedan  manifestar sus  emociones  </p><br />
SUMMARY:MUNDO CREATIVO
ORGANIZER:TOTS SOM UN
URL;VALUE=URI:https://orriolsenpositivo.es/actividades/mundo-creativo-2/
TRANSP:OPAQUE
END:VEVENT
BEGIN:VEVENT
CREATED:20260420T102257Z
UID:334
DTSTART;TZID=Europe/Madrid:20260228T113000
DTEND;TZID=Europe/Madrid:20260228T130000
DTSTAMP:20260422T115114Z
LOCATION:CALLE ARQUITECTO RODRIGUEZ Nº 34
DESCRIPTION;ENCODING=QUOTED-PRINTABLE:<p>Creación  artística\, dirigido a todas las personas del barrio de Orriols siendo una actividad intergeneracional\, intercultural y de igualdad de género\,  buscando la cohesión a través de la creación donde puedan  manifestar sus  emociones  </p><br />
X-ALT-DESC;FMTTYPE=text/html:<p>Creación  artística\, dirigido a todas las personas del barrio de Orriols siendo una actividad intergeneracional\, intercultural y de igualdad de género\,  buscando la cohesión a través de la creación donde puedan  manifestar sus  emociones  </p><br />
SUMMARY:MUNDO CREATIVO
ORGANIZER:TOTS SOM UN
URL;VALUE=URI:https://orriolsenpositivo.es/actividades/mundo-creativo-2/
TRANSP:OPAQUE
END:VEVENT
BEGIN:VEVENT
CREATED:20260420T102257Z
UID:333
DTSTART;TZID=Europe/Madrid:20260221T113000
DTEND;TZID=Europe/Madrid:20260221T130000
DTSTAMP:20260422T115114Z
LOCATION:CALLE ARQUITECTO RODRIGUEZ Nº 34
DESCRIPTION;ENCODING=QUOTED-PRINTABLE:<p>Creación  artística\, dirigido a todas las personas del barrio de Orriols siendo una actividad intergeneracional\, intercultural y de igualdad de género\,  buscando la cohesión a través de la creación donde puedan  manifestar sus  emociones  </p><br />
X-ALT-DESC;FMTTYPE=text/html:<p>Creación  artística\, dirigido a todas las personas del barrio de Orriols siendo una actividad intergeneracional\, intercultural y de igualdad de género\,  buscando la cohesión a través de la creación donde puedan  manifestar sus  emociones  </p><br />
SUMMARY:MUNDO CREATIVO
ORGANIZER:TOTS SOM UN
URL;VALUE=URI:https://orriolsenpositivo.es/actividades/mundo-creativo-2/
TRANSP:OPAQUE
END:VEVENT
BEGIN:VEVENT
CREATED:20260420T102257Z
UID:332
DTSTART;TZID=Europe/Madrid:20260214T113000
DTEND;TZID=Europe/Madrid:20260214T130000
DTSTAMP:20260422T115114Z
LOCATION:CALLE ARQUITECTO RODRIGUEZ Nº 34
DESCRIPTION;ENCODING=QUOTED-PRINTABLE:<p>Creación  artística\, dirigido a todas las personas del barrio de Orriols siendo una actividad intergeneracional\, intercultural y de igualdad de género\,  buscando la cohesión a través de la creación donde puedan  manifestar sus  emociones  </p><br />
X-ALT-DESC;FMTTYPE=text/html:<p>Creación  artística\, dirigido a todas las personas del barrio de Orriols siendo una actividad intergeneracional\, intercultural y de igualdad de género\,  buscando la cohesión a través de la creación donde puedan  manifestar sus  emociones  </p><br />
SUMMARY:MUNDO CREATIVO
ORGANIZER:TOTS SOM UN
URL;VALUE=URI:https://orriolsenpositivo.es/actividades/mundo-creativo-2/
TRANSP:OPAQUE
END:VEVENT
BEGIN:VEVENT
CREATED:20260420T102257Z
UID:331
DTSTART;TZID=Europe/Madrid:20260207T113000
DTEND;TZID=Europe/Madrid:20260207T130000
DTSTAMP:20260422T115114Z
LOCATION:CALLE ARQUITECTO RODRIGUEZ Nº 34
DESCRIPTION;ENCODING=QUOTED-PRINTABLE:<p>Creación  artística\, dirigido a todas las personas del barrio de Orriols siendo una actividad intergeneracional\, intercultural y de igualdad de género\,  buscando la cohesión a través de la creación donde puedan  manifestar sus  emociones  </p><br />
X-ALT-DESC;FMTTYPE=text/html:<p>Creación  artística\, dirigido a todas las personas del barrio de Orriols siendo una actividad intergeneracional\, intercultural y de igualdad de género\,  buscando la cohesión a través de la creación donde puedan  manifestar sus  emociones  </p><br />
SUMMARY:MUNDO CREATIVO
ORGANIZER:TOTS SOM UN
URL;VALUE=URI:https://orriolsenpositivo.es/actividades/mundo-creativo-2/
TRANSP:OPAQUE
END:VEVENT
BEGIN:VEVENT
CREATED:20260420T102257Z
UID:330
DTSTART;TZID=Europe/Madrid:20260131T113000
DTEND;TZID=Europe/Madrid:20260131T130000
DTSTAMP:20260422T115114Z
LOCATION:CALLE ARQUITECTO RODRIGUEZ Nº 34
DESCRIPTION;ENCODING=QUOTED-PRINTABLE:<p>Creación  artística\, dirigido a todas las personas del barrio de Orriols siendo una actividad intergeneracional\, intercultural y de igualdad de género\,  buscando la cohesión a través de la creación donde puedan  manifestar sus  emociones  </p><br />
X-ALT-DESC;FMTTYPE=text/html:<p>Creación  artística\, dirigido a todas las personas del barrio de Orriols siendo una actividad intergeneracional\, intercultural y de igualdad de género\,  buscando la cohesión a través de la creación donde puedan  manifestar sus  emociones  </p><br />
SUMMARY:MUNDO CREATIVO
ORGANIZER:TOTS SOM UN
URL;VALUE=URI:https://orriolsenpositivo.es/actividades/mundo-creativo-2/
TRANSP:OPAQUE
END:VEVENT
BEGIN:VEVENT
CREATED:20260420T102257Z
UID:329
DTSTART;TZID=Europe/Madrid:20260124T113000
DTEND;TZID=Europe/Madrid:20260124T130000
DTSTAMP:20260422T115114Z
LOCATION:CALLE ARQUITECTO RODRIGUEZ Nº 34
DESCRIPTION;ENCODING=QUOTED-PRINTABLE:<p>Creación  artística\, dirigido a todas las personas del barrio de Orriols siendo una actividad intergeneracional\, intercultural y de igualdad de género\,  buscando la cohesión a través de la creación donde puedan  manifestar sus  emociones  </p><br />
X-ALT-DESC;FMTTYPE=text/html:<p>Creación  artística\, dirigido a todas las personas del barrio de Orriols siendo una actividad intergeneracional\, intercultural y de igualdad de género\,  buscando la cohesión a través de la creación donde puedan  manifestar sus  emociones  </p><br />
SUMMARY:MUNDO CREATIVO
ORGANIZER:TOTS SOM UN
URL;VALUE=URI:https://orriolsenpositivo.es/actividades/mundo-creativo-2/
TRANSP:OPAQUE
END:VEVENT
BEGIN:VEVENT
CREATED:20260420T102257Z
UID:328
DTSTART;TZID=Europe/Madrid:20260117T113000
DTEND;TZID=Europe/Madrid:20260117T130000
DTSTAMP:20260422T115114Z
LOCATION:CALLE ARQUITECTO RODRIGUEZ Nº 34
DESCRIPTION;ENCODING=QUOTED-PRINTABLE:<p>Creación  artística\, dirigido a todas las personas del barrio de Orriols siendo una actividad intergeneracional\, intercultural y de igualdad de género\,  buscando la cohesión a través de la creación donde puedan  manifestar sus  emociones  </p><br />
X-ALT-DESC;FMTTYPE=text/html:<p>Creación  artística\, dirigido a todas las personas del barrio de Orriols siendo una actividad intergeneracional\, intercultural y de igualdad de género\,  buscando la cohesión a través de la creación donde puedan  manifestar sus  emociones  </p><br />
SUMMARY:MUNDO CREATIVO
ORGANIZER:TOTS SOM UN
URL;VALUE=URI:https://orriolsenpositivo.es/actividades/mundo-creativo-2/
TRANSP:OPAQUE
END:VEVENT
BEGIN:VEVENT
CREATED:20260420T102257Z
UID:327
DTSTART;TZID=Europe/Madrid:20260110T113000
DTEND;TZID=Europe/Madrid:20260110T130000
DTSTAMP:20260422T115114Z
LOCATION:CALLE ARQUITECTO RODRIGUEZ Nº 34
DESCRIPTION;ENCODING=QUOTED-PRINTABLE:<p>Creación  artística\, dirigido a todas las personas del barrio de Orriols siendo una actividad intergeneracional\, intercultural y de igualdad de género\,  buscando la cohesión a través de la creación donde puedan  manifestar sus  emociones  </p><br />
X-ALT-DESC;FMTTYPE=text/html:<p>Creación  artística\, dirigido a todas las personas del barrio de Orriols siendo una actividad intergeneracional\, intercultural y de igualdad de género\,  buscando la cohesión a través de la creación donde puedan  manifestar sus  emociones  </p><br />
SUMMARY:MUNDO CREATIVO
ORGANIZER:TOTS SOM UN
URL;VALUE=URI:https://orriolsenpositivo.es/actividades/mundo-creativo-2/
TRANSP:OPAQUE
END:VEVENT
END:VCALENDAR
