BEGIN:VCALENDAR
VERSION:2.0
PRODID:-//Orriols en Positivo//NONSGML Convive. Bajo la misma piel. //EN
CALSCALE:GREGORIAN
X-WR-CALNAME:Convive. Bajo la misma piel. - Orriols en Positivo
X-Robots-Tag:noindex
X-WR-TIMEZONE:Europe/Madrid
BEGIN:VTIMEZONE
TZID:Europe/Madrid
X-LIC-LOCATION:Europe/Madrid
BEGIN:DAYLIGHT
TZOFFSETFROM:+0100
TZOFFSETTO:+0200
TZNAME:CEST
DTSTART:19700329T020000
RRULE:FREQ=YEARLY;BYMONTH=3;BYDAY=-1SU
END:DAYLIGHT
BEGIN:STANDARD
TZOFFSETFROM:+0200
TZOFFSETTO:+0100
TZNAME:CET
DTSTART:19701025T030000
RRULE:FREQ=YEARLY;BYMONTH=10;BYDAY=-1SU
END:STANDARD
END:VTIMEZONE
BEGIN:VEVENT
CREATED:20260414T113652Z
UID:320
DTSTART;TZID=Europe/Madrid:20260422T170000
DTEND;TZID=Europe/Madrid:20260422T180000
DTSTAMP:20260422T083718Z
LOCATION:Centro Municipal de Juventud de Orriols: Carrer de Santiago Rusiñol\, 3
DESCRIPTION;ENCODING=QUOTED-PRINTABLE:<p>Sesión dirigida a familias para clarificar cuál es el efecto psicológico del racismo en el alumnado. Un taller práctico para explicar técnicas para tratar a nivel emocional las consecuencias de los daños racistas y concienciar sobre cómo afecta el abandono escolar en las aulas españolas.</p><br />
X-ALT-DESC;FMTTYPE=text/html:<p>Sesión dirigida a familias para clarificar cuál es el efecto psicológico del racismo en el alumnado. Un taller práctico para explicar técnicas para tratar a nivel emocional las consecuencias de los daños racistas y concienciar sobre cómo afecta el abandono escolar en las aulas españolas.</p><br />
SUMMARY:Convive. Bajo la misma piel.
ORGANIZER:Despierta Sonrisas
URL;VALUE=URI:https://orriolsenpositivo.es/actividades/convive-bajo-la-misma-piel/
TRANSP:OPAQUE
END:VEVENT
END:VCALENDAR
