BEGIN:VCALENDAR
VERSION:2.0
PRODID:-//Orriols en Positivo//NONSGML Clases valenciano //EN
CALSCALE:GREGORIAN
X-WR-CALNAME:Clases valenciano - Orriols en Positivo
X-Robots-Tag:noindex
X-WR-TIMEZONE:Europe/Madrid
BEGIN:VTIMEZONE
TZID:Europe/Madrid
X-LIC-LOCATION:Europe/Madrid
BEGIN:DAYLIGHT
TZOFFSETFROM:+0100
TZOFFSETTO:+0200
TZNAME:CEST
DTSTART:19700329T020000
RRULE:FREQ=YEARLY;BYMONTH=3;BYDAY=-1SU
END:DAYLIGHT
BEGIN:STANDARD
TZOFFSETFROM:+0200
TZOFFSETTO:+0100
TZNAME:CET
DTSTART:19701025T030000
RRULE:FREQ=YEARLY;BYMONTH=10;BYDAY=-1SU
END:STANDARD
END:VTIMEZONE
BEGIN:VEVENT
CREATED:20260407T083030Z
UID:319
DTSTART;TZID=Europe/Madrid:20260706T113000
DTEND;TZID=Europe/Madrid:20260706T130000
DTSTAMP:20260420T114133Z
LOCATION:Calle peris brell\, 51
DESCRIPTION;ENCODING=QUOTED-PRINTABLE:<p>El grupo de valenciano nivel básico está pensado para personas que quieren iniciarse en el idioma de forma sencilla y práctica. No es necesario tener conocimientos previos\, ya que empezamos desde lo más básico: vocabulario cotidiano\, expresiones útiles y comprensión oral.</p><br /><p>Las clases se desarrollan en un ambiente cercano y participativo\, donde se fomenta la conversación desde el primer día para que el aprendizaje sea natural y ameno. Trabajamos con situaciones reales del día a día\, lo que permite ganar confianza rápidamente al hablar.</p><br /><p>El grupo es reducido\, lo que facilita una atención más personalizada y un ritmo adaptado a las necesidades de cada persona. Es un espacio ideal tanto para quienes quieren integrarse mejor en el entorno como para quienes simplemente tienen interés por la lengua y la cultura valenciana.</p><br />
X-ALT-DESC;FMTTYPE=text/html:<p>El grupo de valenciano nivel básico está pensado para personas que quieren iniciarse en el idioma de forma sencilla y práctica. No es necesario tener conocimientos previos\, ya que empezamos desde lo más básico: vocabulario cotidiano\, expresiones útiles y comprensión oral.</p><br /><p>Las clases se desarrollan en un ambiente cercano y participativo\, donde se fomenta la conversación desde el primer día para que el aprendizaje sea natural y ameno. Trabajamos con situaciones reales del día a día\, lo que permite ganar confianza rápidamente al hablar.</p><br /><p>El grupo es reducido\, lo que facilita una atención más personalizada y un ritmo adaptado a las necesidades de cada persona. Es un espacio ideal tanto para quienes quieren integrarse mejor en el entorno como para quienes simplemente tienen interés por la lengua y la cultura valenciana.</p><br />
SUMMARY:Clases valenciano
ORGANIZER:Coordinadora Solidaria Valencia
URL;VALUE=URI:https://orriolsenpositivo.es/actividades/clases-valenciano/
TRANSP:OPAQUE
END:VEVENT
BEGIN:VEVENT
CREATED:20260407T083030Z
UID:318
DTSTART;TZID=Europe/Madrid:20260629T113000
DTEND;TZID=Europe/Madrid:20260629T130000
DTSTAMP:20260420T114133Z
LOCATION:Calle peris brell\, 51
DESCRIPTION;ENCODING=QUOTED-PRINTABLE:<p>El grupo de valenciano nivel básico está pensado para personas que quieren iniciarse en el idioma de forma sencilla y práctica. No es necesario tener conocimientos previos\, ya que empezamos desde lo más básico: vocabulario cotidiano\, expresiones útiles y comprensión oral.</p><br /><p>Las clases se desarrollan en un ambiente cercano y participativo\, donde se fomenta la conversación desde el primer día para que el aprendizaje sea natural y ameno. Trabajamos con situaciones reales del día a día\, lo que permite ganar confianza rápidamente al hablar.</p><br /><p>El grupo es reducido\, lo que facilita una atención más personalizada y un ritmo adaptado a las necesidades de cada persona. Es un espacio ideal tanto para quienes quieren integrarse mejor en el entorno como para quienes simplemente tienen interés por la lengua y la cultura valenciana.</p><br />
X-ALT-DESC;FMTTYPE=text/html:<p>El grupo de valenciano nivel básico está pensado para personas que quieren iniciarse en el idioma de forma sencilla y práctica. No es necesario tener conocimientos previos\, ya que empezamos desde lo más básico: vocabulario cotidiano\, expresiones útiles y comprensión oral.</p><br /><p>Las clases se desarrollan en un ambiente cercano y participativo\, donde se fomenta la conversación desde el primer día para que el aprendizaje sea natural y ameno. Trabajamos con situaciones reales del día a día\, lo que permite ganar confianza rápidamente al hablar.</p><br /><p>El grupo es reducido\, lo que facilita una atención más personalizada y un ritmo adaptado a las necesidades de cada persona. Es un espacio ideal tanto para quienes quieren integrarse mejor en el entorno como para quienes simplemente tienen interés por la lengua y la cultura valenciana.</p><br />
SUMMARY:Clases valenciano
ORGANIZER:Coordinadora Solidaria Valencia
URL;VALUE=URI:https://orriolsenpositivo.es/actividades/clases-valenciano/
TRANSP:OPAQUE
END:VEVENT
BEGIN:VEVENT
CREATED:20260407T083030Z
UID:317
DTSTART;TZID=Europe/Madrid:20260622T113000
DTEND;TZID=Europe/Madrid:20260622T130000
DTSTAMP:20260420T114133Z
LOCATION:Calle peris brell\, 51
DESCRIPTION;ENCODING=QUOTED-PRINTABLE:<p>El grupo de valenciano nivel básico está pensado para personas que quieren iniciarse en el idioma de forma sencilla y práctica. No es necesario tener conocimientos previos\, ya que empezamos desde lo más básico: vocabulario cotidiano\, expresiones útiles y comprensión oral.</p><br /><p>Las clases se desarrollan en un ambiente cercano y participativo\, donde se fomenta la conversación desde el primer día para que el aprendizaje sea natural y ameno. Trabajamos con situaciones reales del día a día\, lo que permite ganar confianza rápidamente al hablar.</p><br /><p>El grupo es reducido\, lo que facilita una atención más personalizada y un ritmo adaptado a las necesidades de cada persona. Es un espacio ideal tanto para quienes quieren integrarse mejor en el entorno como para quienes simplemente tienen interés por la lengua y la cultura valenciana.</p><br />
X-ALT-DESC;FMTTYPE=text/html:<p>El grupo de valenciano nivel básico está pensado para personas que quieren iniciarse en el idioma de forma sencilla y práctica. No es necesario tener conocimientos previos\, ya que empezamos desde lo más básico: vocabulario cotidiano\, expresiones útiles y comprensión oral.</p><br /><p>Las clases se desarrollan en un ambiente cercano y participativo\, donde se fomenta la conversación desde el primer día para que el aprendizaje sea natural y ameno. Trabajamos con situaciones reales del día a día\, lo que permite ganar confianza rápidamente al hablar.</p><br /><p>El grupo es reducido\, lo que facilita una atención más personalizada y un ritmo adaptado a las necesidades de cada persona. Es un espacio ideal tanto para quienes quieren integrarse mejor en el entorno como para quienes simplemente tienen interés por la lengua y la cultura valenciana.</p><br />
SUMMARY:Clases valenciano
ORGANIZER:Coordinadora Solidaria Valencia
URL;VALUE=URI:https://orriolsenpositivo.es/actividades/clases-valenciano/
TRANSP:OPAQUE
END:VEVENT
BEGIN:VEVENT
CREATED:20260407T083030Z
UID:316
DTSTART;TZID=Europe/Madrid:20260615T113000
DTEND;TZID=Europe/Madrid:20260615T130000
DTSTAMP:20260420T114133Z
LOCATION:Calle peris brell\, 51
DESCRIPTION;ENCODING=QUOTED-PRINTABLE:<p>El grupo de valenciano nivel básico está pensado para personas que quieren iniciarse en el idioma de forma sencilla y práctica. No es necesario tener conocimientos previos\, ya que empezamos desde lo más básico: vocabulario cotidiano\, expresiones útiles y comprensión oral.</p><br /><p>Las clases se desarrollan en un ambiente cercano y participativo\, donde se fomenta la conversación desde el primer día para que el aprendizaje sea natural y ameno. Trabajamos con situaciones reales del día a día\, lo que permite ganar confianza rápidamente al hablar.</p><br /><p>El grupo es reducido\, lo que facilita una atención más personalizada y un ritmo adaptado a las necesidades de cada persona. Es un espacio ideal tanto para quienes quieren integrarse mejor en el entorno como para quienes simplemente tienen interés por la lengua y la cultura valenciana.</p><br />
X-ALT-DESC;FMTTYPE=text/html:<p>El grupo de valenciano nivel básico está pensado para personas que quieren iniciarse en el idioma de forma sencilla y práctica. No es necesario tener conocimientos previos\, ya que empezamos desde lo más básico: vocabulario cotidiano\, expresiones útiles y comprensión oral.</p><br /><p>Las clases se desarrollan en un ambiente cercano y participativo\, donde se fomenta la conversación desde el primer día para que el aprendizaje sea natural y ameno. Trabajamos con situaciones reales del día a día\, lo que permite ganar confianza rápidamente al hablar.</p><br /><p>El grupo es reducido\, lo que facilita una atención más personalizada y un ritmo adaptado a las necesidades de cada persona. Es un espacio ideal tanto para quienes quieren integrarse mejor en el entorno como para quienes simplemente tienen interés por la lengua y la cultura valenciana.</p><br />
SUMMARY:Clases valenciano
ORGANIZER:Coordinadora Solidaria Valencia
URL;VALUE=URI:https://orriolsenpositivo.es/actividades/clases-valenciano/
TRANSP:OPAQUE
END:VEVENT
BEGIN:VEVENT
CREATED:20260407T083030Z
UID:315
DTSTART;TZID=Europe/Madrid:20260608T113000
DTEND;TZID=Europe/Madrid:20260608T130000
DTSTAMP:20260420T114133Z
LOCATION:Calle peris brell\, 51
DESCRIPTION;ENCODING=QUOTED-PRINTABLE:<p>El grupo de valenciano nivel básico está pensado para personas que quieren iniciarse en el idioma de forma sencilla y práctica. No es necesario tener conocimientos previos\, ya que empezamos desde lo más básico: vocabulario cotidiano\, expresiones útiles y comprensión oral.</p><br /><p>Las clases se desarrollan en un ambiente cercano y participativo\, donde se fomenta la conversación desde el primer día para que el aprendizaje sea natural y ameno. Trabajamos con situaciones reales del día a día\, lo que permite ganar confianza rápidamente al hablar.</p><br /><p>El grupo es reducido\, lo que facilita una atención más personalizada y un ritmo adaptado a las necesidades de cada persona. Es un espacio ideal tanto para quienes quieren integrarse mejor en el entorno como para quienes simplemente tienen interés por la lengua y la cultura valenciana.</p><br />
X-ALT-DESC;FMTTYPE=text/html:<p>El grupo de valenciano nivel básico está pensado para personas que quieren iniciarse en el idioma de forma sencilla y práctica. No es necesario tener conocimientos previos\, ya que empezamos desde lo más básico: vocabulario cotidiano\, expresiones útiles y comprensión oral.</p><br /><p>Las clases se desarrollan en un ambiente cercano y participativo\, donde se fomenta la conversación desde el primer día para que el aprendizaje sea natural y ameno. Trabajamos con situaciones reales del día a día\, lo que permite ganar confianza rápidamente al hablar.</p><br /><p>El grupo es reducido\, lo que facilita una atención más personalizada y un ritmo adaptado a las necesidades de cada persona. Es un espacio ideal tanto para quienes quieren integrarse mejor en el entorno como para quienes simplemente tienen interés por la lengua y la cultura valenciana.</p><br />
SUMMARY:Clases valenciano
ORGANIZER:Coordinadora Solidaria Valencia
URL;VALUE=URI:https://orriolsenpositivo.es/actividades/clases-valenciano/
TRANSP:OPAQUE
END:VEVENT
BEGIN:VEVENT
CREATED:20260407T083030Z
UID:314
DTSTART;TZID=Europe/Madrid:20260601T113000
DTEND;TZID=Europe/Madrid:20260601T130000
DTSTAMP:20260420T114133Z
LOCATION:Calle peris brell\, 51
DESCRIPTION;ENCODING=QUOTED-PRINTABLE:<p>El grupo de valenciano nivel básico está pensado para personas que quieren iniciarse en el idioma de forma sencilla y práctica. No es necesario tener conocimientos previos\, ya que empezamos desde lo más básico: vocabulario cotidiano\, expresiones útiles y comprensión oral.</p><br /><p>Las clases se desarrollan en un ambiente cercano y participativo\, donde se fomenta la conversación desde el primer día para que el aprendizaje sea natural y ameno. Trabajamos con situaciones reales del día a día\, lo que permite ganar confianza rápidamente al hablar.</p><br /><p>El grupo es reducido\, lo que facilita una atención más personalizada y un ritmo adaptado a las necesidades de cada persona. Es un espacio ideal tanto para quienes quieren integrarse mejor en el entorno como para quienes simplemente tienen interés por la lengua y la cultura valenciana.</p><br />
X-ALT-DESC;FMTTYPE=text/html:<p>El grupo de valenciano nivel básico está pensado para personas que quieren iniciarse en el idioma de forma sencilla y práctica. No es necesario tener conocimientos previos\, ya que empezamos desde lo más básico: vocabulario cotidiano\, expresiones útiles y comprensión oral.</p><br /><p>Las clases se desarrollan en un ambiente cercano y participativo\, donde se fomenta la conversación desde el primer día para que el aprendizaje sea natural y ameno. Trabajamos con situaciones reales del día a día\, lo que permite ganar confianza rápidamente al hablar.</p><br /><p>El grupo es reducido\, lo que facilita una atención más personalizada y un ritmo adaptado a las necesidades de cada persona. Es un espacio ideal tanto para quienes quieren integrarse mejor en el entorno como para quienes simplemente tienen interés por la lengua y la cultura valenciana.</p><br />
SUMMARY:Clases valenciano
ORGANIZER:Coordinadora Solidaria Valencia
URL;VALUE=URI:https://orriolsenpositivo.es/actividades/clases-valenciano/
TRANSP:OPAQUE
END:VEVENT
BEGIN:VEVENT
CREATED:20260407T083030Z
UID:313
DTSTART;TZID=Europe/Madrid:20260525T113000
DTEND;TZID=Europe/Madrid:20260525T130000
DTSTAMP:20260420T114133Z
LOCATION:Calle peris brell\, 51
DESCRIPTION;ENCODING=QUOTED-PRINTABLE:<p>El grupo de valenciano nivel básico está pensado para personas que quieren iniciarse en el idioma de forma sencilla y práctica. No es necesario tener conocimientos previos\, ya que empezamos desde lo más básico: vocabulario cotidiano\, expresiones útiles y comprensión oral.</p><br /><p>Las clases se desarrollan en un ambiente cercano y participativo\, donde se fomenta la conversación desde el primer día para que el aprendizaje sea natural y ameno. Trabajamos con situaciones reales del día a día\, lo que permite ganar confianza rápidamente al hablar.</p><br /><p>El grupo es reducido\, lo que facilita una atención más personalizada y un ritmo adaptado a las necesidades de cada persona. Es un espacio ideal tanto para quienes quieren integrarse mejor en el entorno como para quienes simplemente tienen interés por la lengua y la cultura valenciana.</p><br />
X-ALT-DESC;FMTTYPE=text/html:<p>El grupo de valenciano nivel básico está pensado para personas que quieren iniciarse en el idioma de forma sencilla y práctica. No es necesario tener conocimientos previos\, ya que empezamos desde lo más básico: vocabulario cotidiano\, expresiones útiles y comprensión oral.</p><br /><p>Las clases se desarrollan en un ambiente cercano y participativo\, donde se fomenta la conversación desde el primer día para que el aprendizaje sea natural y ameno. Trabajamos con situaciones reales del día a día\, lo que permite ganar confianza rápidamente al hablar.</p><br /><p>El grupo es reducido\, lo que facilita una atención más personalizada y un ritmo adaptado a las necesidades de cada persona. Es un espacio ideal tanto para quienes quieren integrarse mejor en el entorno como para quienes simplemente tienen interés por la lengua y la cultura valenciana.</p><br />
SUMMARY:Clases valenciano
ORGANIZER:Coordinadora Solidaria Valencia
URL;VALUE=URI:https://orriolsenpositivo.es/actividades/clases-valenciano/
TRANSP:OPAQUE
END:VEVENT
BEGIN:VEVENT
CREATED:20260407T083030Z
UID:312
DTSTART;TZID=Europe/Madrid:20260518T113000
DTEND;TZID=Europe/Madrid:20260518T130000
DTSTAMP:20260420T114133Z
LOCATION:Calle peris brell\, 51
DESCRIPTION;ENCODING=QUOTED-PRINTABLE:<p>El grupo de valenciano nivel básico está pensado para personas que quieren iniciarse en el idioma de forma sencilla y práctica. No es necesario tener conocimientos previos\, ya que empezamos desde lo más básico: vocabulario cotidiano\, expresiones útiles y comprensión oral.</p><br /><p>Las clases se desarrollan en un ambiente cercano y participativo\, donde se fomenta la conversación desde el primer día para que el aprendizaje sea natural y ameno. Trabajamos con situaciones reales del día a día\, lo que permite ganar confianza rápidamente al hablar.</p><br /><p>El grupo es reducido\, lo que facilita una atención más personalizada y un ritmo adaptado a las necesidades de cada persona. Es un espacio ideal tanto para quienes quieren integrarse mejor en el entorno como para quienes simplemente tienen interés por la lengua y la cultura valenciana.</p><br />
X-ALT-DESC;FMTTYPE=text/html:<p>El grupo de valenciano nivel básico está pensado para personas que quieren iniciarse en el idioma de forma sencilla y práctica. No es necesario tener conocimientos previos\, ya que empezamos desde lo más básico: vocabulario cotidiano\, expresiones útiles y comprensión oral.</p><br /><p>Las clases se desarrollan en un ambiente cercano y participativo\, donde se fomenta la conversación desde el primer día para que el aprendizaje sea natural y ameno. Trabajamos con situaciones reales del día a día\, lo que permite ganar confianza rápidamente al hablar.</p><br /><p>El grupo es reducido\, lo que facilita una atención más personalizada y un ritmo adaptado a las necesidades de cada persona. Es un espacio ideal tanto para quienes quieren integrarse mejor en el entorno como para quienes simplemente tienen interés por la lengua y la cultura valenciana.</p><br />
SUMMARY:Clases valenciano
ORGANIZER:Coordinadora Solidaria Valencia
URL;VALUE=URI:https://orriolsenpositivo.es/actividades/clases-valenciano/
TRANSP:OPAQUE
END:VEVENT
BEGIN:VEVENT
CREATED:20260407T083030Z
UID:311
DTSTART;TZID=Europe/Madrid:20260511T113000
DTEND;TZID=Europe/Madrid:20260511T130000
DTSTAMP:20260420T114133Z
LOCATION:Calle peris brell\, 51
DESCRIPTION;ENCODING=QUOTED-PRINTABLE:<p>El grupo de valenciano nivel básico está pensado para personas que quieren iniciarse en el idioma de forma sencilla y práctica. No es necesario tener conocimientos previos\, ya que empezamos desde lo más básico: vocabulario cotidiano\, expresiones útiles y comprensión oral.</p><br /><p>Las clases se desarrollan en un ambiente cercano y participativo\, donde se fomenta la conversación desde el primer día para que el aprendizaje sea natural y ameno. Trabajamos con situaciones reales del día a día\, lo que permite ganar confianza rápidamente al hablar.</p><br /><p>El grupo es reducido\, lo que facilita una atención más personalizada y un ritmo adaptado a las necesidades de cada persona. Es un espacio ideal tanto para quienes quieren integrarse mejor en el entorno como para quienes simplemente tienen interés por la lengua y la cultura valenciana.</p><br />
X-ALT-DESC;FMTTYPE=text/html:<p>El grupo de valenciano nivel básico está pensado para personas que quieren iniciarse en el idioma de forma sencilla y práctica. No es necesario tener conocimientos previos\, ya que empezamos desde lo más básico: vocabulario cotidiano\, expresiones útiles y comprensión oral.</p><br /><p>Las clases se desarrollan en un ambiente cercano y participativo\, donde se fomenta la conversación desde el primer día para que el aprendizaje sea natural y ameno. Trabajamos con situaciones reales del día a día\, lo que permite ganar confianza rápidamente al hablar.</p><br /><p>El grupo es reducido\, lo que facilita una atención más personalizada y un ritmo adaptado a las necesidades de cada persona. Es un espacio ideal tanto para quienes quieren integrarse mejor en el entorno como para quienes simplemente tienen interés por la lengua y la cultura valenciana.</p><br />
SUMMARY:Clases valenciano
ORGANIZER:Coordinadora Solidaria Valencia
URL;VALUE=URI:https://orriolsenpositivo.es/actividades/clases-valenciano/
TRANSP:OPAQUE
END:VEVENT
BEGIN:VEVENT
CREATED:20260407T083030Z
UID:310
DTSTART;TZID=Europe/Madrid:20260504T113000
DTEND;TZID=Europe/Madrid:20260504T130000
DTSTAMP:20260420T114133Z
LOCATION:Calle peris brell\, 51
DESCRIPTION;ENCODING=QUOTED-PRINTABLE:<p>El grupo de valenciano nivel básico está pensado para personas que quieren iniciarse en el idioma de forma sencilla y práctica. No es necesario tener conocimientos previos\, ya que empezamos desde lo más básico: vocabulario cotidiano\, expresiones útiles y comprensión oral.</p><br /><p>Las clases se desarrollan en un ambiente cercano y participativo\, donde se fomenta la conversación desde el primer día para que el aprendizaje sea natural y ameno. Trabajamos con situaciones reales del día a día\, lo que permite ganar confianza rápidamente al hablar.</p><br /><p>El grupo es reducido\, lo que facilita una atención más personalizada y un ritmo adaptado a las necesidades de cada persona. Es un espacio ideal tanto para quienes quieren integrarse mejor en el entorno como para quienes simplemente tienen interés por la lengua y la cultura valenciana.</p><br />
X-ALT-DESC;FMTTYPE=text/html:<p>El grupo de valenciano nivel básico está pensado para personas que quieren iniciarse en el idioma de forma sencilla y práctica. No es necesario tener conocimientos previos\, ya que empezamos desde lo más básico: vocabulario cotidiano\, expresiones útiles y comprensión oral.</p><br /><p>Las clases se desarrollan en un ambiente cercano y participativo\, donde se fomenta la conversación desde el primer día para que el aprendizaje sea natural y ameno. Trabajamos con situaciones reales del día a día\, lo que permite ganar confianza rápidamente al hablar.</p><br /><p>El grupo es reducido\, lo que facilita una atención más personalizada y un ritmo adaptado a las necesidades de cada persona. Es un espacio ideal tanto para quienes quieren integrarse mejor en el entorno como para quienes simplemente tienen interés por la lengua y la cultura valenciana.</p><br />
SUMMARY:Clases valenciano
ORGANIZER:Coordinadora Solidaria Valencia
URL;VALUE=URI:https://orriolsenpositivo.es/actividades/clases-valenciano/
TRANSP:OPAQUE
END:VEVENT
BEGIN:VEVENT
CREATED:20260407T083030Z
UID:309
DTSTART;TZID=Europe/Madrid:20260427T113000
DTEND;TZID=Europe/Madrid:20260427T130000
DTSTAMP:20260420T114133Z
LOCATION:Calle peris brell\, 51
DESCRIPTION;ENCODING=QUOTED-PRINTABLE:<p>El grupo de valenciano nivel básico está pensado para personas que quieren iniciarse en el idioma de forma sencilla y práctica. No es necesario tener conocimientos previos\, ya que empezamos desde lo más básico: vocabulario cotidiano\, expresiones útiles y comprensión oral.</p><br /><p>Las clases se desarrollan en un ambiente cercano y participativo\, donde se fomenta la conversación desde el primer día para que el aprendizaje sea natural y ameno. Trabajamos con situaciones reales del día a día\, lo que permite ganar confianza rápidamente al hablar.</p><br /><p>El grupo es reducido\, lo que facilita una atención más personalizada y un ritmo adaptado a las necesidades de cada persona. Es un espacio ideal tanto para quienes quieren integrarse mejor en el entorno como para quienes simplemente tienen interés por la lengua y la cultura valenciana.</p><br />
X-ALT-DESC;FMTTYPE=text/html:<p>El grupo de valenciano nivel básico está pensado para personas que quieren iniciarse en el idioma de forma sencilla y práctica. No es necesario tener conocimientos previos\, ya que empezamos desde lo más básico: vocabulario cotidiano\, expresiones útiles y comprensión oral.</p><br /><p>Las clases se desarrollan en un ambiente cercano y participativo\, donde se fomenta la conversación desde el primer día para que el aprendizaje sea natural y ameno. Trabajamos con situaciones reales del día a día\, lo que permite ganar confianza rápidamente al hablar.</p><br /><p>El grupo es reducido\, lo que facilita una atención más personalizada y un ritmo adaptado a las necesidades de cada persona. Es un espacio ideal tanto para quienes quieren integrarse mejor en el entorno como para quienes simplemente tienen interés por la lengua y la cultura valenciana.</p><br />
SUMMARY:Clases valenciano
ORGANIZER:Coordinadora Solidaria Valencia
URL;VALUE=URI:https://orriolsenpositivo.es/actividades/clases-valenciano/
TRANSP:OPAQUE
END:VEVENT
BEGIN:VEVENT
CREATED:20260407T083030Z
UID:308
DTSTART;TZID=Europe/Madrid:20260420T113000
DTEND;TZID=Europe/Madrid:20260420T130000
DTSTAMP:20260420T114133Z
LOCATION:Calle peris brell\, 51
DESCRIPTION;ENCODING=QUOTED-PRINTABLE:<p>El grupo de valenciano nivel básico está pensado para personas que quieren iniciarse en el idioma de forma sencilla y práctica. No es necesario tener conocimientos previos\, ya que empezamos desde lo más básico: vocabulario cotidiano\, expresiones útiles y comprensión oral.</p><br /><p>Las clases se desarrollan en un ambiente cercano y participativo\, donde se fomenta la conversación desde el primer día para que el aprendizaje sea natural y ameno. Trabajamos con situaciones reales del día a día\, lo que permite ganar confianza rápidamente al hablar.</p><br /><p>El grupo es reducido\, lo que facilita una atención más personalizada y un ritmo adaptado a las necesidades de cada persona. Es un espacio ideal tanto para quienes quieren integrarse mejor en el entorno como para quienes simplemente tienen interés por la lengua y la cultura valenciana.</p><br />
X-ALT-DESC;FMTTYPE=text/html:<p>El grupo de valenciano nivel básico está pensado para personas que quieren iniciarse en el idioma de forma sencilla y práctica. No es necesario tener conocimientos previos\, ya que empezamos desde lo más básico: vocabulario cotidiano\, expresiones útiles y comprensión oral.</p><br /><p>Las clases se desarrollan en un ambiente cercano y participativo\, donde se fomenta la conversación desde el primer día para que el aprendizaje sea natural y ameno. Trabajamos con situaciones reales del día a día\, lo que permite ganar confianza rápidamente al hablar.</p><br /><p>El grupo es reducido\, lo que facilita una atención más personalizada y un ritmo adaptado a las necesidades de cada persona. Es un espacio ideal tanto para quienes quieren integrarse mejor en el entorno como para quienes simplemente tienen interés por la lengua y la cultura valenciana.</p><br />
SUMMARY:Clases valenciano
ORGANIZER:Coordinadora Solidaria Valencia
URL;VALUE=URI:https://orriolsenpositivo.es/actividades/clases-valenciano/
TRANSP:OPAQUE
END:VEVENT
END:VCALENDAR
