BEGIN:VCALENDAR
VERSION:2.0
PRODID:-//Orriols en Positivo//NONSGML Taller currículum digital //EN
CALSCALE:GREGORIAN
X-WR-CALNAME:Taller currículum digital - Orriols en Positivo
X-Robots-Tag:noindex
X-WR-TIMEZONE:Europe/Madrid
BEGIN:VTIMEZONE
TZID:Europe/Madrid
X-LIC-LOCATION:Europe/Madrid
BEGIN:DAYLIGHT
TZOFFSETFROM:+0100
TZOFFSETTO:+0200
TZNAME:CEST
DTSTART:19700329T020000
RRULE:FREQ=YEARLY;BYMONTH=3;BYDAY=-1SU
END:DAYLIGHT
BEGIN:STANDARD
TZOFFSETFROM:+0200
TZOFFSETTO:+0100
TZNAME:CET
DTSTART:19701025T030000
RRULE:FREQ=YEARLY;BYMONTH=10;BYDAY=-1SU
END:STANDARD
END:VTIMEZONE
BEGIN:VEVENT
CREATED:20260407T080702Z
UID:307
DTSTART;TZID=Europe/Madrid:20260428T090000
DTEND;TZID=Europe/Madrid:20260428T120000
DTSTAMP:20260420T113943Z
LOCATION:Calle peris brell\, 51
DESCRIPTION;ENCODING=QUOTED-PRINTABLE:<p>En este curso aprenderás qué es un currículum digital y cómo diseñarlo de forma accesible e inclusiva para mejorar tus oportunidades de inserción laboral. Descubrirás sus partes básicas\, las principales herramientas digitales para crearlo y las claves para adaptarlo a distintos contextos profesionales. Una formación práctica orientada a que puedas crear y compartir tu currículum de manera eficaz y actual.</p><br />
X-ALT-DESC;FMTTYPE=text/html:<p>En este curso aprenderás qué es un currículum digital y cómo diseñarlo de forma accesible e inclusiva para mejorar tus oportunidades de inserción laboral. Descubrirás sus partes básicas\, las principales herramientas digitales para crearlo y las claves para adaptarlo a distintos contextos profesionales. Una formación práctica orientada a que puedas crear y compartir tu currículum de manera eficaz y actual.</p><br />
SUMMARY:Taller currículum digital
ORGANIZER:Coordinadora Solidaria Valencia
URL;VALUE=URI:https://orriolsenpositivo.es/actividades/taller-curriculum-digital/
TRANSP:OPAQUE
END:VEVENT
BEGIN:VEVENT
CREATED:20260407T080702Z
UID:306
DTSTART;TZID=Europe/Madrid:20260423T090000
DTEND;TZID=Europe/Madrid:20260423T120000
DTSTAMP:20260420T113943Z
LOCATION:Calle peris brell\, 51
DESCRIPTION;ENCODING=QUOTED-PRINTABLE:<p>En este curso aprenderás qué es un currículum digital y cómo diseñarlo de forma accesible e inclusiva para mejorar tus oportunidades de inserción laboral. Descubrirás sus partes básicas\, las principales herramientas digitales para crearlo y las claves para adaptarlo a distintos contextos profesionales. Una formación práctica orientada a que puedas crear y compartir tu currículum de manera eficaz y actual.</p><br />
X-ALT-DESC;FMTTYPE=text/html:<p>En este curso aprenderás qué es un currículum digital y cómo diseñarlo de forma accesible e inclusiva para mejorar tus oportunidades de inserción laboral. Descubrirás sus partes básicas\, las principales herramientas digitales para crearlo y las claves para adaptarlo a distintos contextos profesionales. Una formación práctica orientada a que puedas crear y compartir tu currículum de manera eficaz y actual.</p><br />
SUMMARY:Taller currículum digital
ORGANIZER:Coordinadora Solidaria Valencia
URL;VALUE=URI:https://orriolsenpositivo.es/actividades/taller-curriculum-digital/
TRANSP:OPAQUE
END:VEVENT
BEGIN:VEVENT
CREATED:20260407T080702Z
UID:305
DTSTART;TZID=Europe/Madrid:20260422T090000
DTEND;TZID=Europe/Madrid:20260422T120000
DTSTAMP:20260420T113943Z
LOCATION:Calle peris brell\, 51
DESCRIPTION;ENCODING=QUOTED-PRINTABLE:<p>En este curso aprenderás qué es un currículum digital y cómo diseñarlo de forma accesible e inclusiva para mejorar tus oportunidades de inserción laboral. Descubrirás sus partes básicas\, las principales herramientas digitales para crearlo y las claves para adaptarlo a distintos contextos profesionales. Una formación práctica orientada a que puedas crear y compartir tu currículum de manera eficaz y actual.</p><br />
X-ALT-DESC;FMTTYPE=text/html:<p>En este curso aprenderás qué es un currículum digital y cómo diseñarlo de forma accesible e inclusiva para mejorar tus oportunidades de inserción laboral. Descubrirás sus partes básicas\, las principales herramientas digitales para crearlo y las claves para adaptarlo a distintos contextos profesionales. Una formación práctica orientada a que puedas crear y compartir tu currículum de manera eficaz y actual.</p><br />
SUMMARY:Taller currículum digital
ORGANIZER:Coordinadora Solidaria Valencia
URL;VALUE=URI:https://orriolsenpositivo.es/actividades/taller-curriculum-digital/
TRANSP:OPAQUE
END:VEVENT
BEGIN:VEVENT
CREATED:20260407T080702Z
UID:304
DTSTART;TZID=Europe/Madrid:20260421T090000
DTEND;TZID=Europe/Madrid:20260421T120000
DTSTAMP:20260420T113943Z
LOCATION:Calle peris brell\, 51
DESCRIPTION;ENCODING=QUOTED-PRINTABLE:<p>En este curso aprenderás qué es un currículum digital y cómo diseñarlo de forma accesible e inclusiva para mejorar tus oportunidades de inserción laboral. Descubrirás sus partes básicas\, las principales herramientas digitales para crearlo y las claves para adaptarlo a distintos contextos profesionales. Una formación práctica orientada a que puedas crear y compartir tu currículum de manera eficaz y actual.</p><br />
X-ALT-DESC;FMTTYPE=text/html:<p>En este curso aprenderás qué es un currículum digital y cómo diseñarlo de forma accesible e inclusiva para mejorar tus oportunidades de inserción laboral. Descubrirás sus partes básicas\, las principales herramientas digitales para crearlo y las claves para adaptarlo a distintos contextos profesionales. Una formación práctica orientada a que puedas crear y compartir tu currículum de manera eficaz y actual.</p><br />
SUMMARY:Taller currículum digital
ORGANIZER:Coordinadora Solidaria Valencia
URL;VALUE=URI:https://orriolsenpositivo.es/actividades/taller-curriculum-digital/
TRANSP:OPAQUE
END:VEVENT
END:VCALENDAR
