BEGIN:VCALENDAR
VERSION:2.0
PRODID:-//Orriols en Positivo//NONSGML Grupo de apoyo mujeres //EN
CALSCALE:GREGORIAN
X-WR-CALNAME:Grupo de apoyo mujeres - Orriols en Positivo
X-Robots-Tag:noindex
X-WR-TIMEZONE:Europe/Madrid
BEGIN:VTIMEZONE
TZID:Europe/Madrid
X-LIC-LOCATION:Europe/Madrid
BEGIN:DAYLIGHT
TZOFFSETFROM:+0100
TZOFFSETTO:+0200
TZNAME:CEST
DTSTART:19700329T020000
RRULE:FREQ=YEARLY;BYMONTH=3;BYDAY=-1SU
END:DAYLIGHT
BEGIN:STANDARD
TZOFFSETFROM:+0200
TZOFFSETTO:+0100
TZNAME:CET
DTSTART:19701025T030000
RRULE:FREQ=YEARLY;BYMONTH=10;BYDAY=-1SU
END:STANDARD
END:VTIMEZONE
BEGIN:VEVENT
CREATED:20260407T080136Z
UID:303
DTSTART;TZID=Europe/Madrid:20260703T113000
DTEND;TZID=Europe/Madrid:20260703T123000
DTSTAMP:20260420T113954Z
LOCATION:Calle peris brell\, 51
DESCRIPTION;ENCODING=QUOTED-PRINTABLE:<p>El grupo de apoyo para mujeres es un espacio seguro donde las mujeres pueden compartir experiencias\, desafíos o problemas que las atraviesan. Se comparten emociones y estrategias de afrontamiento. Este grupo busca empoderar a sus integrantes\, promover la equidad de género y fomentar la autonomía personal a través de la ayuda mutua.</p><br />
X-ALT-DESC;FMTTYPE=text/html:<p>El grupo de apoyo para mujeres es un espacio seguro donde las mujeres pueden compartir experiencias\, desafíos o problemas que las atraviesan. Se comparten emociones y estrategias de afrontamiento. Este grupo busca empoderar a sus integrantes\, promover la equidad de género y fomentar la autonomía personal a través de la ayuda mutua.</p><br />
SUMMARY:Grupo de apoyo mujeres
ORGANIZER:Coordinadora Solidaria Valencia
URL;VALUE=URI:https://orriolsenpositivo.es/actividades/grupo-de-apoyo-mujeres/
TRANSP:OPAQUE
END:VEVENT
BEGIN:VEVENT
CREATED:20260407T080136Z
UID:302
DTSTART;TZID=Europe/Madrid:20260626T113000
DTEND;TZID=Europe/Madrid:20260626T123000
DTSTAMP:20260420T113954Z
LOCATION:Calle peris brell\, 51
DESCRIPTION;ENCODING=QUOTED-PRINTABLE:<p>El grupo de apoyo para mujeres es un espacio seguro donde las mujeres pueden compartir experiencias\, desafíos o problemas que las atraviesan. Se comparten emociones y estrategias de afrontamiento. Este grupo busca empoderar a sus integrantes\, promover la equidad de género y fomentar la autonomía personal a través de la ayuda mutua.</p><br />
X-ALT-DESC;FMTTYPE=text/html:<p>El grupo de apoyo para mujeres es un espacio seguro donde las mujeres pueden compartir experiencias\, desafíos o problemas que las atraviesan. Se comparten emociones y estrategias de afrontamiento. Este grupo busca empoderar a sus integrantes\, promover la equidad de género y fomentar la autonomía personal a través de la ayuda mutua.</p><br />
SUMMARY:Grupo de apoyo mujeres
ORGANIZER:Coordinadora Solidaria Valencia
URL;VALUE=URI:https://orriolsenpositivo.es/actividades/grupo-de-apoyo-mujeres/
TRANSP:OPAQUE
END:VEVENT
BEGIN:VEVENT
CREATED:20260407T080136Z
UID:301
DTSTART;TZID=Europe/Madrid:20260619T113000
DTEND;TZID=Europe/Madrid:20260619T123000
DTSTAMP:20260420T113954Z
LOCATION:Calle peris brell\, 51
DESCRIPTION;ENCODING=QUOTED-PRINTABLE:<p>El grupo de apoyo para mujeres es un espacio seguro donde las mujeres pueden compartir experiencias\, desafíos o problemas que las atraviesan. Se comparten emociones y estrategias de afrontamiento. Este grupo busca empoderar a sus integrantes\, promover la equidad de género y fomentar la autonomía personal a través de la ayuda mutua.</p><br />
X-ALT-DESC;FMTTYPE=text/html:<p>El grupo de apoyo para mujeres es un espacio seguro donde las mujeres pueden compartir experiencias\, desafíos o problemas que las atraviesan. Se comparten emociones y estrategias de afrontamiento. Este grupo busca empoderar a sus integrantes\, promover la equidad de género y fomentar la autonomía personal a través de la ayuda mutua.</p><br />
SUMMARY:Grupo de apoyo mujeres
ORGANIZER:Coordinadora Solidaria Valencia
URL;VALUE=URI:https://orriolsenpositivo.es/actividades/grupo-de-apoyo-mujeres/
TRANSP:OPAQUE
END:VEVENT
BEGIN:VEVENT
CREATED:20260407T080136Z
UID:300
DTSTART;TZID=Europe/Madrid:20260612T113000
DTEND;TZID=Europe/Madrid:20260612T123000
DTSTAMP:20260420T113954Z
LOCATION:Calle peris brell\, 51
DESCRIPTION;ENCODING=QUOTED-PRINTABLE:<p>El grupo de apoyo para mujeres es un espacio seguro donde las mujeres pueden compartir experiencias\, desafíos o problemas que las atraviesan. Se comparten emociones y estrategias de afrontamiento. Este grupo busca empoderar a sus integrantes\, promover la equidad de género y fomentar la autonomía personal a través de la ayuda mutua.</p><br />
X-ALT-DESC;FMTTYPE=text/html:<p>El grupo de apoyo para mujeres es un espacio seguro donde las mujeres pueden compartir experiencias\, desafíos o problemas que las atraviesan. Se comparten emociones y estrategias de afrontamiento. Este grupo busca empoderar a sus integrantes\, promover la equidad de género y fomentar la autonomía personal a través de la ayuda mutua.</p><br />
SUMMARY:Grupo de apoyo mujeres
ORGANIZER:Coordinadora Solidaria Valencia
URL;VALUE=URI:https://orriolsenpositivo.es/actividades/grupo-de-apoyo-mujeres/
TRANSP:OPAQUE
END:VEVENT
BEGIN:VEVENT
CREATED:20260407T080136Z
UID:299
DTSTART;TZID=Europe/Madrid:20260605T113000
DTEND;TZID=Europe/Madrid:20260605T123000
DTSTAMP:20260420T113954Z
LOCATION:Calle peris brell\, 51
DESCRIPTION;ENCODING=QUOTED-PRINTABLE:<p>El grupo de apoyo para mujeres es un espacio seguro donde las mujeres pueden compartir experiencias\, desafíos o problemas que las atraviesan. Se comparten emociones y estrategias de afrontamiento. Este grupo busca empoderar a sus integrantes\, promover la equidad de género y fomentar la autonomía personal a través de la ayuda mutua.</p><br />
X-ALT-DESC;FMTTYPE=text/html:<p>El grupo de apoyo para mujeres es un espacio seguro donde las mujeres pueden compartir experiencias\, desafíos o problemas que las atraviesan. Se comparten emociones y estrategias de afrontamiento. Este grupo busca empoderar a sus integrantes\, promover la equidad de género y fomentar la autonomía personal a través de la ayuda mutua.</p><br />
SUMMARY:Grupo de apoyo mujeres
ORGANIZER:Coordinadora Solidaria Valencia
URL;VALUE=URI:https://orriolsenpositivo.es/actividades/grupo-de-apoyo-mujeres/
TRANSP:OPAQUE
END:VEVENT
BEGIN:VEVENT
CREATED:20260407T080136Z
UID:298
DTSTART;TZID=Europe/Madrid:20260529T113000
DTEND;TZID=Europe/Madrid:20260529T123000
DTSTAMP:20260420T113954Z
LOCATION:Calle peris brell\, 51
DESCRIPTION;ENCODING=QUOTED-PRINTABLE:<p>El grupo de apoyo para mujeres es un espacio seguro donde las mujeres pueden compartir experiencias\, desafíos o problemas que las atraviesan. Se comparten emociones y estrategias de afrontamiento. Este grupo busca empoderar a sus integrantes\, promover la equidad de género y fomentar la autonomía personal a través de la ayuda mutua.</p><br />
X-ALT-DESC;FMTTYPE=text/html:<p>El grupo de apoyo para mujeres es un espacio seguro donde las mujeres pueden compartir experiencias\, desafíos o problemas que las atraviesan. Se comparten emociones y estrategias de afrontamiento. Este grupo busca empoderar a sus integrantes\, promover la equidad de género y fomentar la autonomía personal a través de la ayuda mutua.</p><br />
SUMMARY:Grupo de apoyo mujeres
ORGANIZER:Coordinadora Solidaria Valencia
URL;VALUE=URI:https://orriolsenpositivo.es/actividades/grupo-de-apoyo-mujeres/
TRANSP:OPAQUE
END:VEVENT
BEGIN:VEVENT
CREATED:20260407T080136Z
UID:297
DTSTART;TZID=Europe/Madrid:20260522T113000
DTEND;TZID=Europe/Madrid:20260522T123000
DTSTAMP:20260420T113954Z
LOCATION:Calle peris brell\, 51
DESCRIPTION;ENCODING=QUOTED-PRINTABLE:<p>El grupo de apoyo para mujeres es un espacio seguro donde las mujeres pueden compartir experiencias\, desafíos o problemas que las atraviesan. Se comparten emociones y estrategias de afrontamiento. Este grupo busca empoderar a sus integrantes\, promover la equidad de género y fomentar la autonomía personal a través de la ayuda mutua.</p><br />
X-ALT-DESC;FMTTYPE=text/html:<p>El grupo de apoyo para mujeres es un espacio seguro donde las mujeres pueden compartir experiencias\, desafíos o problemas que las atraviesan. Se comparten emociones y estrategias de afrontamiento. Este grupo busca empoderar a sus integrantes\, promover la equidad de género y fomentar la autonomía personal a través de la ayuda mutua.</p><br />
SUMMARY:Grupo de apoyo mujeres
ORGANIZER:Coordinadora Solidaria Valencia
URL;VALUE=URI:https://orriolsenpositivo.es/actividades/grupo-de-apoyo-mujeres/
TRANSP:OPAQUE
END:VEVENT
BEGIN:VEVENT
CREATED:20260407T080136Z
UID:296
DTSTART;TZID=Europe/Madrid:20260515T113000
DTEND;TZID=Europe/Madrid:20260515T123000
DTSTAMP:20260420T113954Z
LOCATION:Calle peris brell\, 51
DESCRIPTION;ENCODING=QUOTED-PRINTABLE:<p>El grupo de apoyo para mujeres es un espacio seguro donde las mujeres pueden compartir experiencias\, desafíos o problemas que las atraviesan. Se comparten emociones y estrategias de afrontamiento. Este grupo busca empoderar a sus integrantes\, promover la equidad de género y fomentar la autonomía personal a través de la ayuda mutua.</p><br />
X-ALT-DESC;FMTTYPE=text/html:<p>El grupo de apoyo para mujeres es un espacio seguro donde las mujeres pueden compartir experiencias\, desafíos o problemas que las atraviesan. Se comparten emociones y estrategias de afrontamiento. Este grupo busca empoderar a sus integrantes\, promover la equidad de género y fomentar la autonomía personal a través de la ayuda mutua.</p><br />
SUMMARY:Grupo de apoyo mujeres
ORGANIZER:Coordinadora Solidaria Valencia
URL;VALUE=URI:https://orriolsenpositivo.es/actividades/grupo-de-apoyo-mujeres/
TRANSP:OPAQUE
END:VEVENT
BEGIN:VEVENT
CREATED:20260407T080136Z
UID:295
DTSTART;TZID=Europe/Madrid:20260508T113000
DTEND;TZID=Europe/Madrid:20260508T123000
DTSTAMP:20260420T113954Z
LOCATION:Calle peris brell\, 51
DESCRIPTION;ENCODING=QUOTED-PRINTABLE:<p>El grupo de apoyo para mujeres es un espacio seguro donde las mujeres pueden compartir experiencias\, desafíos o problemas que las atraviesan. Se comparten emociones y estrategias de afrontamiento. Este grupo busca empoderar a sus integrantes\, promover la equidad de género y fomentar la autonomía personal a través de la ayuda mutua.</p><br />
X-ALT-DESC;FMTTYPE=text/html:<p>El grupo de apoyo para mujeres es un espacio seguro donde las mujeres pueden compartir experiencias\, desafíos o problemas que las atraviesan. Se comparten emociones y estrategias de afrontamiento. Este grupo busca empoderar a sus integrantes\, promover la equidad de género y fomentar la autonomía personal a través de la ayuda mutua.</p><br />
SUMMARY:Grupo de apoyo mujeres
ORGANIZER:Coordinadora Solidaria Valencia
URL;VALUE=URI:https://orriolsenpositivo.es/actividades/grupo-de-apoyo-mujeres/
TRANSP:OPAQUE
END:VEVENT
BEGIN:VEVENT
CREATED:20260407T080136Z
UID:294
DTSTART;TZID=Europe/Madrid:20260501T113000
DTEND;TZID=Europe/Madrid:20260501T123000
DTSTAMP:20260420T113954Z
LOCATION:Calle peris brell\, 51
DESCRIPTION;ENCODING=QUOTED-PRINTABLE:<p>El grupo de apoyo para mujeres es un espacio seguro donde las mujeres pueden compartir experiencias\, desafíos o problemas que las atraviesan. Se comparten emociones y estrategias de afrontamiento. Este grupo busca empoderar a sus integrantes\, promover la equidad de género y fomentar la autonomía personal a través de la ayuda mutua.</p><br />
X-ALT-DESC;FMTTYPE=text/html:<p>El grupo de apoyo para mujeres es un espacio seguro donde las mujeres pueden compartir experiencias\, desafíos o problemas que las atraviesan. Se comparten emociones y estrategias de afrontamiento. Este grupo busca empoderar a sus integrantes\, promover la equidad de género y fomentar la autonomía personal a través de la ayuda mutua.</p><br />
SUMMARY:Grupo de apoyo mujeres
ORGANIZER:Coordinadora Solidaria Valencia
URL;VALUE=URI:https://orriolsenpositivo.es/actividades/grupo-de-apoyo-mujeres/
TRANSP:OPAQUE
END:VEVENT
BEGIN:VEVENT
CREATED:20260407T080136Z
UID:293
DTSTART;TZID=Europe/Madrid:20260424T113000
DTEND;TZID=Europe/Madrid:20260424T123000
DTSTAMP:20260420T113954Z
LOCATION:Calle peris brell\, 51
DESCRIPTION;ENCODING=QUOTED-PRINTABLE:<p>El grupo de apoyo para mujeres es un espacio seguro donde las mujeres pueden compartir experiencias\, desafíos o problemas que las atraviesan. Se comparten emociones y estrategias de afrontamiento. Este grupo busca empoderar a sus integrantes\, promover la equidad de género y fomentar la autonomía personal a través de la ayuda mutua.</p><br />
X-ALT-DESC;FMTTYPE=text/html:<p>El grupo de apoyo para mujeres es un espacio seguro donde las mujeres pueden compartir experiencias\, desafíos o problemas que las atraviesan. Se comparten emociones y estrategias de afrontamiento. Este grupo busca empoderar a sus integrantes\, promover la equidad de género y fomentar la autonomía personal a través de la ayuda mutua.</p><br />
SUMMARY:Grupo de apoyo mujeres
ORGANIZER:Coordinadora Solidaria Valencia
URL;VALUE=URI:https://orriolsenpositivo.es/actividades/grupo-de-apoyo-mujeres/
TRANSP:OPAQUE
END:VEVENT
BEGIN:VEVENT
CREATED:20260407T080136Z
UID:292
DTSTART;TZID=Europe/Madrid:20260417T113000
DTEND;TZID=Europe/Madrid:20260417T123000
DTSTAMP:20260420T113954Z
LOCATION:Calle peris brell\, 51
DESCRIPTION;ENCODING=QUOTED-PRINTABLE:<p>El grupo de apoyo para mujeres es un espacio seguro donde las mujeres pueden compartir experiencias\, desafíos o problemas que las atraviesan. Se comparten emociones y estrategias de afrontamiento. Este grupo busca empoderar a sus integrantes\, promover la equidad de género y fomentar la autonomía personal a través de la ayuda mutua.</p><br />
X-ALT-DESC;FMTTYPE=text/html:<p>El grupo de apoyo para mujeres es un espacio seguro donde las mujeres pueden compartir experiencias\, desafíos o problemas que las atraviesan. Se comparten emociones y estrategias de afrontamiento. Este grupo busca empoderar a sus integrantes\, promover la equidad de género y fomentar la autonomía personal a través de la ayuda mutua.</p><br />
SUMMARY:Grupo de apoyo mujeres
ORGANIZER:Coordinadora Solidaria Valencia
URL;VALUE=URI:https://orriolsenpositivo.es/actividades/grupo-de-apoyo-mujeres/
TRANSP:OPAQUE
END:VEVENT
BEGIN:VEVENT
CREATED:20260407T080136Z
UID:291
DTSTART;TZID=Europe/Madrid:20260410T113000
DTEND;TZID=Europe/Madrid:20260410T123000
DTSTAMP:20260420T113954Z
LOCATION:Calle peris brell\, 51
DESCRIPTION;ENCODING=QUOTED-PRINTABLE:<p>El grupo de apoyo para mujeres es un espacio seguro donde las mujeres pueden compartir experiencias\, desafíos o problemas que las atraviesan. Se comparten emociones y estrategias de afrontamiento. Este grupo busca empoderar a sus integrantes\, promover la equidad de género y fomentar la autonomía personal a través de la ayuda mutua.</p><br />
X-ALT-DESC;FMTTYPE=text/html:<p>El grupo de apoyo para mujeres es un espacio seguro donde las mujeres pueden compartir experiencias\, desafíos o problemas que las atraviesan. Se comparten emociones y estrategias de afrontamiento. Este grupo busca empoderar a sus integrantes\, promover la equidad de género y fomentar la autonomía personal a través de la ayuda mutua.</p><br />
SUMMARY:Grupo de apoyo mujeres
ORGANIZER:Coordinadora Solidaria Valencia
URL;VALUE=URI:https://orriolsenpositivo.es/actividades/grupo-de-apoyo-mujeres/
TRANSP:OPAQUE
END:VEVENT
END:VCALENDAR
