BEGIN:VCALENDAR
VERSION:2.0
PRODID:-//Orriols en Positivo//NONSGML Taller para familias TDAH, impulsividad y gestión emocional en la infancia //EN
CALSCALE:GREGORIAN
X-WR-CALNAME:Taller para familias TDAH, impulsividad y gestión emocional en la infancia - Orriols en Positivo
X-Robots-Tag:noindex
X-WR-TIMEZONE:Europe/Madrid
BEGIN:VTIMEZONE
TZID:Europe/Madrid
X-LIC-LOCATION:Europe/Madrid
BEGIN:DAYLIGHT
TZOFFSETFROM:+0100
TZOFFSETTO:+0200
TZNAME:CEST
DTSTART:19700329T020000
RRULE:FREQ=YEARLY;BYMONTH=3;BYDAY=-1SU
END:DAYLIGHT
BEGIN:STANDARD
TZOFFSETFROM:+0200
TZOFFSETTO:+0100
TZNAME:CET
DTSTART:19701025T030000
RRULE:FREQ=YEARLY;BYMONTH=10;BYDAY=-1SU
END:STANDARD
END:VTIMEZONE
BEGIN:VEVENT
CREATED:20260331T124309Z
UID:290
DTSTART;TZID=Europe/Madrid:20260422T171500
DTEND;TZID=Europe/Madrid:20260422T183000
DTSTAMP:20260420T114132Z
LOCATION:
DESCRIPTION;ENCODING=QUOTED-PRINTABLE:<p>Se trabajará TDAH\, impulsividad y gestión emocional en la infancia se ofrecerán a las familias técnicas para mejorar la convivencia familiar. </p><br />
X-ALT-DESC;FMTTYPE=text/html:<p>Se trabajará TDAH\, impulsividad y gestión emocional en la infancia se ofrecerán a las familias técnicas para mejorar la convivencia familiar. </p><br />
SUMMARY:Taller para familias TDAH\, impulsividad y gestión emocional en la infancia
ORGANIZER:FISAT-Infancia Orriols
URL;VALUE=URI:https://orriolsenpositivo.es/actividades/taller-para-familias-tdah-impulsividad-y-gestion-emocional-en-la-infancia/
TRANSP:OPAQUE
END:VEVENT
END:VCALENDAR
