BEGIN:VCALENDAR
VERSION:2.0
PRODID:-//Orriols en Positivo//NONSGML Refuerzo escolar //EN
CALSCALE:GREGORIAN
X-WR-CALNAME:Refuerzo escolar - Orriols en Positivo
X-Robots-Tag:noindex
X-WR-TIMEZONE:Europe/Madrid
BEGIN:VTIMEZONE
TZID:Europe/Madrid
X-LIC-LOCATION:Europe/Madrid
BEGIN:DAYLIGHT
TZOFFSETFROM:+0100
TZOFFSETTO:+0200
TZNAME:CEST
DTSTART:19700329T020000
RRULE:FREQ=YEARLY;BYMONTH=3;BYDAY=-1SU
END:DAYLIGHT
BEGIN:STANDARD
TZOFFSETFROM:+0200
TZOFFSETTO:+0100
TZNAME:CET
DTSTART:19701025T030000
RRULE:FREQ=YEARLY;BYMONTH=10;BYDAY=-1SU
END:STANDARD
END:VTIMEZONE
BEGIN:VEVENT
CREATED:20260330T074423Z
UID:289
DTSTART;TZID=Europe/Madrid:20260527T163000
DTEND;TZID=Europe/Madrid:20260527T183000
DTSTAMP:20260420T113943Z
LOCATION:Calle San juan de la Peña nº 6
DESCRIPTION;ENCODING=QUOTED-PRINTABLE:<p>El programa de refuerzo escolar para menores tiene como objetivo apoyar el proceso educativo de niños y niñas\, proporcionando un espacio estructurado donde puedan mejorar su rendimiento académico\, adquirir hábitos de estudio y reforzar contenidos trabajados en el ámbito escolar.</p><br /><p>A través de este servicio\, se ofrece acompañamiento personalizado adaptado a las necesidades de cada menor\, prestando especial atención a áreas instrumentales como la lectura\, la escritura y el cálculo\, así como al desarrollo de la comprensión y la expresión.</p><br /><p>Además del apoyo académico\, el programa fomenta habilidades fundamentales como la organización del tiempo\, la autonomía en el aprendizaje\, la responsabilidad y la motivación hacia los estudios. Se promueve un ambiente positivo y de confianza que favorece la participación activa y el aprendizaje significativo.</p><br /><p>El refuerzo escolar también tiene un componente socioeducativo\, contribuyendo a la inclusión\, la igualdad de oportunidades y la prevención del fracaso escolar\, especialmente en menores que puedan encontrarse en situación de vulnerabilidad.</p><br /><p>Las actividades se desarrollan de forma dinámica y adaptada a la edad\, combinando tareas escolares\, técnicas de estudio y recursos educativos que facilitan la comprensión de los contenidos.</p><br />
X-ALT-DESC;FMTTYPE=text/html:<p>El programa de refuerzo escolar para menores tiene como objetivo apoyar el proceso educativo de niños y niñas\, proporcionando un espacio estructurado donde puedan mejorar su rendimiento académico\, adquirir hábitos de estudio y reforzar contenidos trabajados en el ámbito escolar.</p><br /><p>A través de este servicio\, se ofrece acompañamiento personalizado adaptado a las necesidades de cada menor\, prestando especial atención a áreas instrumentales como la lectura\, la escritura y el cálculo\, así como al desarrollo de la comprensión y la expresión.</p><br /><p>Además del apoyo académico\, el programa fomenta habilidades fundamentales como la organización del tiempo\, la autonomía en el aprendizaje\, la responsabilidad y la motivación hacia los estudios. Se promueve un ambiente positivo y de confianza que favorece la participación activa y el aprendizaje significativo.</p><br /><p>El refuerzo escolar también tiene un componente socioeducativo\, contribuyendo a la inclusión\, la igualdad de oportunidades y la prevención del fracaso escolar\, especialmente en menores que puedan encontrarse en situación de vulnerabilidad.</p><br /><p>Las actividades se desarrollan de forma dinámica y adaptada a la edad\, combinando tareas escolares\, técnicas de estudio y recursos educativos que facilitan la comprensión de los contenidos.</p><br />
SUMMARY:Refuerzo escolar
ORGANIZER:Coordinadora Solidaria Valencia
URL;VALUE=URI:https://orriolsenpositivo.es/actividades/refuerzo-escolar-2/
TRANSP:OPAQUE
END:VEVENT
BEGIN:VEVENT
CREATED:20260330T074423Z
UID:288
DTSTART;TZID=Europe/Madrid:20260520T163000
DTEND;TZID=Europe/Madrid:20260520T183000
DTSTAMP:20260420T113943Z
LOCATION:Calle San juan de la Peña nº 6
DESCRIPTION;ENCODING=QUOTED-PRINTABLE:<p>El programa de refuerzo escolar para menores tiene como objetivo apoyar el proceso educativo de niños y niñas\, proporcionando un espacio estructurado donde puedan mejorar su rendimiento académico\, adquirir hábitos de estudio y reforzar contenidos trabajados en el ámbito escolar.</p><br /><p>A través de este servicio\, se ofrece acompañamiento personalizado adaptado a las necesidades de cada menor\, prestando especial atención a áreas instrumentales como la lectura\, la escritura y el cálculo\, así como al desarrollo de la comprensión y la expresión.</p><br /><p>Además del apoyo académico\, el programa fomenta habilidades fundamentales como la organización del tiempo\, la autonomía en el aprendizaje\, la responsabilidad y la motivación hacia los estudios. Se promueve un ambiente positivo y de confianza que favorece la participación activa y el aprendizaje significativo.</p><br /><p>El refuerzo escolar también tiene un componente socioeducativo\, contribuyendo a la inclusión\, la igualdad de oportunidades y la prevención del fracaso escolar\, especialmente en menores que puedan encontrarse en situación de vulnerabilidad.</p><br /><p>Las actividades se desarrollan de forma dinámica y adaptada a la edad\, combinando tareas escolares\, técnicas de estudio y recursos educativos que facilitan la comprensión de los contenidos.</p><br />
X-ALT-DESC;FMTTYPE=text/html:<p>El programa de refuerzo escolar para menores tiene como objetivo apoyar el proceso educativo de niños y niñas\, proporcionando un espacio estructurado donde puedan mejorar su rendimiento académico\, adquirir hábitos de estudio y reforzar contenidos trabajados en el ámbito escolar.</p><br /><p>A través de este servicio\, se ofrece acompañamiento personalizado adaptado a las necesidades de cada menor\, prestando especial atención a áreas instrumentales como la lectura\, la escritura y el cálculo\, así como al desarrollo de la comprensión y la expresión.</p><br /><p>Además del apoyo académico\, el programa fomenta habilidades fundamentales como la organización del tiempo\, la autonomía en el aprendizaje\, la responsabilidad y la motivación hacia los estudios. Se promueve un ambiente positivo y de confianza que favorece la participación activa y el aprendizaje significativo.</p><br /><p>El refuerzo escolar también tiene un componente socioeducativo\, contribuyendo a la inclusión\, la igualdad de oportunidades y la prevención del fracaso escolar\, especialmente en menores que puedan encontrarse en situación de vulnerabilidad.</p><br /><p>Las actividades se desarrollan de forma dinámica y adaptada a la edad\, combinando tareas escolares\, técnicas de estudio y recursos educativos que facilitan la comprensión de los contenidos.</p><br />
SUMMARY:Refuerzo escolar
ORGANIZER:Coordinadora Solidaria Valencia
URL;VALUE=URI:https://orriolsenpositivo.es/actividades/refuerzo-escolar-2/
TRANSP:OPAQUE
END:VEVENT
BEGIN:VEVENT
CREATED:20260330T074423Z
UID:287
DTSTART;TZID=Europe/Madrid:20260513T163000
DTEND;TZID=Europe/Madrid:20260513T183000
DTSTAMP:20260420T113943Z
LOCATION:Calle San juan de la Peña nº 6
DESCRIPTION;ENCODING=QUOTED-PRINTABLE:<p>El programa de refuerzo escolar para menores tiene como objetivo apoyar el proceso educativo de niños y niñas\, proporcionando un espacio estructurado donde puedan mejorar su rendimiento académico\, adquirir hábitos de estudio y reforzar contenidos trabajados en el ámbito escolar.</p><br /><p>A través de este servicio\, se ofrece acompañamiento personalizado adaptado a las necesidades de cada menor\, prestando especial atención a áreas instrumentales como la lectura\, la escritura y el cálculo\, así como al desarrollo de la comprensión y la expresión.</p><br /><p>Además del apoyo académico\, el programa fomenta habilidades fundamentales como la organización del tiempo\, la autonomía en el aprendizaje\, la responsabilidad y la motivación hacia los estudios. Se promueve un ambiente positivo y de confianza que favorece la participación activa y el aprendizaje significativo.</p><br /><p>El refuerzo escolar también tiene un componente socioeducativo\, contribuyendo a la inclusión\, la igualdad de oportunidades y la prevención del fracaso escolar\, especialmente en menores que puedan encontrarse en situación de vulnerabilidad.</p><br /><p>Las actividades se desarrollan de forma dinámica y adaptada a la edad\, combinando tareas escolares\, técnicas de estudio y recursos educativos que facilitan la comprensión de los contenidos.</p><br />
X-ALT-DESC;FMTTYPE=text/html:<p>El programa de refuerzo escolar para menores tiene como objetivo apoyar el proceso educativo de niños y niñas\, proporcionando un espacio estructurado donde puedan mejorar su rendimiento académico\, adquirir hábitos de estudio y reforzar contenidos trabajados en el ámbito escolar.</p><br /><p>A través de este servicio\, se ofrece acompañamiento personalizado adaptado a las necesidades de cada menor\, prestando especial atención a áreas instrumentales como la lectura\, la escritura y el cálculo\, así como al desarrollo de la comprensión y la expresión.</p><br /><p>Además del apoyo académico\, el programa fomenta habilidades fundamentales como la organización del tiempo\, la autonomía en el aprendizaje\, la responsabilidad y la motivación hacia los estudios. Se promueve un ambiente positivo y de confianza que favorece la participación activa y el aprendizaje significativo.</p><br /><p>El refuerzo escolar también tiene un componente socioeducativo\, contribuyendo a la inclusión\, la igualdad de oportunidades y la prevención del fracaso escolar\, especialmente en menores que puedan encontrarse en situación de vulnerabilidad.</p><br /><p>Las actividades se desarrollan de forma dinámica y adaptada a la edad\, combinando tareas escolares\, técnicas de estudio y recursos educativos que facilitan la comprensión de los contenidos.</p><br />
SUMMARY:Refuerzo escolar
ORGANIZER:Coordinadora Solidaria Valencia
URL;VALUE=URI:https://orriolsenpositivo.es/actividades/refuerzo-escolar-2/
TRANSP:OPAQUE
END:VEVENT
BEGIN:VEVENT
CREATED:20260330T074423Z
UID:286
DTSTART;TZID=Europe/Madrid:20260506T163000
DTEND;TZID=Europe/Madrid:20260506T183000
DTSTAMP:20260420T113943Z
LOCATION:Calle San juan de la Peña nº 6
DESCRIPTION;ENCODING=QUOTED-PRINTABLE:<p>El programa de refuerzo escolar para menores tiene como objetivo apoyar el proceso educativo de niños y niñas\, proporcionando un espacio estructurado donde puedan mejorar su rendimiento académico\, adquirir hábitos de estudio y reforzar contenidos trabajados en el ámbito escolar.</p><br /><p>A través de este servicio\, se ofrece acompañamiento personalizado adaptado a las necesidades de cada menor\, prestando especial atención a áreas instrumentales como la lectura\, la escritura y el cálculo\, así como al desarrollo de la comprensión y la expresión.</p><br /><p>Además del apoyo académico\, el programa fomenta habilidades fundamentales como la organización del tiempo\, la autonomía en el aprendizaje\, la responsabilidad y la motivación hacia los estudios. Se promueve un ambiente positivo y de confianza que favorece la participación activa y el aprendizaje significativo.</p><br /><p>El refuerzo escolar también tiene un componente socioeducativo\, contribuyendo a la inclusión\, la igualdad de oportunidades y la prevención del fracaso escolar\, especialmente en menores que puedan encontrarse en situación de vulnerabilidad.</p><br /><p>Las actividades se desarrollan de forma dinámica y adaptada a la edad\, combinando tareas escolares\, técnicas de estudio y recursos educativos que facilitan la comprensión de los contenidos.</p><br />
X-ALT-DESC;FMTTYPE=text/html:<p>El programa de refuerzo escolar para menores tiene como objetivo apoyar el proceso educativo de niños y niñas\, proporcionando un espacio estructurado donde puedan mejorar su rendimiento académico\, adquirir hábitos de estudio y reforzar contenidos trabajados en el ámbito escolar.</p><br /><p>A través de este servicio\, se ofrece acompañamiento personalizado adaptado a las necesidades de cada menor\, prestando especial atención a áreas instrumentales como la lectura\, la escritura y el cálculo\, así como al desarrollo de la comprensión y la expresión.</p><br /><p>Además del apoyo académico\, el programa fomenta habilidades fundamentales como la organización del tiempo\, la autonomía en el aprendizaje\, la responsabilidad y la motivación hacia los estudios. Se promueve un ambiente positivo y de confianza que favorece la participación activa y el aprendizaje significativo.</p><br /><p>El refuerzo escolar también tiene un componente socioeducativo\, contribuyendo a la inclusión\, la igualdad de oportunidades y la prevención del fracaso escolar\, especialmente en menores que puedan encontrarse en situación de vulnerabilidad.</p><br /><p>Las actividades se desarrollan de forma dinámica y adaptada a la edad\, combinando tareas escolares\, técnicas de estudio y recursos educativos que facilitan la comprensión de los contenidos.</p><br />
SUMMARY:Refuerzo escolar
ORGANIZER:Coordinadora Solidaria Valencia
URL;VALUE=URI:https://orriolsenpositivo.es/actividades/refuerzo-escolar-2/
TRANSP:OPAQUE
END:VEVENT
BEGIN:VEVENT
CREATED:20260330T074423Z
UID:285
DTSTART;TZID=Europe/Madrid:20260429T163000
DTEND;TZID=Europe/Madrid:20260429T183000
DTSTAMP:20260420T113943Z
LOCATION:Calle San juan de la Peña nº 6
DESCRIPTION;ENCODING=QUOTED-PRINTABLE:<p>El programa de refuerzo escolar para menores tiene como objetivo apoyar el proceso educativo de niños y niñas\, proporcionando un espacio estructurado donde puedan mejorar su rendimiento académico\, adquirir hábitos de estudio y reforzar contenidos trabajados en el ámbito escolar.</p><br /><p>A través de este servicio\, se ofrece acompañamiento personalizado adaptado a las necesidades de cada menor\, prestando especial atención a áreas instrumentales como la lectura\, la escritura y el cálculo\, así como al desarrollo de la comprensión y la expresión.</p><br /><p>Además del apoyo académico\, el programa fomenta habilidades fundamentales como la organización del tiempo\, la autonomía en el aprendizaje\, la responsabilidad y la motivación hacia los estudios. Se promueve un ambiente positivo y de confianza que favorece la participación activa y el aprendizaje significativo.</p><br /><p>El refuerzo escolar también tiene un componente socioeducativo\, contribuyendo a la inclusión\, la igualdad de oportunidades y la prevención del fracaso escolar\, especialmente en menores que puedan encontrarse en situación de vulnerabilidad.</p><br /><p>Las actividades se desarrollan de forma dinámica y adaptada a la edad\, combinando tareas escolares\, técnicas de estudio y recursos educativos que facilitan la comprensión de los contenidos.</p><br />
X-ALT-DESC;FMTTYPE=text/html:<p>El programa de refuerzo escolar para menores tiene como objetivo apoyar el proceso educativo de niños y niñas\, proporcionando un espacio estructurado donde puedan mejorar su rendimiento académico\, adquirir hábitos de estudio y reforzar contenidos trabajados en el ámbito escolar.</p><br /><p>A través de este servicio\, se ofrece acompañamiento personalizado adaptado a las necesidades de cada menor\, prestando especial atención a áreas instrumentales como la lectura\, la escritura y el cálculo\, así como al desarrollo de la comprensión y la expresión.</p><br /><p>Además del apoyo académico\, el programa fomenta habilidades fundamentales como la organización del tiempo\, la autonomía en el aprendizaje\, la responsabilidad y la motivación hacia los estudios. Se promueve un ambiente positivo y de confianza que favorece la participación activa y el aprendizaje significativo.</p><br /><p>El refuerzo escolar también tiene un componente socioeducativo\, contribuyendo a la inclusión\, la igualdad de oportunidades y la prevención del fracaso escolar\, especialmente en menores que puedan encontrarse en situación de vulnerabilidad.</p><br /><p>Las actividades se desarrollan de forma dinámica y adaptada a la edad\, combinando tareas escolares\, técnicas de estudio y recursos educativos que facilitan la comprensión de los contenidos.</p><br />
SUMMARY:Refuerzo escolar
ORGANIZER:Coordinadora Solidaria Valencia
URL;VALUE=URI:https://orriolsenpositivo.es/actividades/refuerzo-escolar-2/
TRANSP:OPAQUE
END:VEVENT
BEGIN:VEVENT
CREATED:20260330T074423Z
UID:284
DTSTART;TZID=Europe/Madrid:20260422T163000
DTEND;TZID=Europe/Madrid:20260422T183000
DTSTAMP:20260420T113943Z
LOCATION:Calle San juan de la Peña nº 6
DESCRIPTION;ENCODING=QUOTED-PRINTABLE:<p>El programa de refuerzo escolar para menores tiene como objetivo apoyar el proceso educativo de niños y niñas\, proporcionando un espacio estructurado donde puedan mejorar su rendimiento académico\, adquirir hábitos de estudio y reforzar contenidos trabajados en el ámbito escolar.</p><br /><p>A través de este servicio\, se ofrece acompañamiento personalizado adaptado a las necesidades de cada menor\, prestando especial atención a áreas instrumentales como la lectura\, la escritura y el cálculo\, así como al desarrollo de la comprensión y la expresión.</p><br /><p>Además del apoyo académico\, el programa fomenta habilidades fundamentales como la organización del tiempo\, la autonomía en el aprendizaje\, la responsabilidad y la motivación hacia los estudios. Se promueve un ambiente positivo y de confianza que favorece la participación activa y el aprendizaje significativo.</p><br /><p>El refuerzo escolar también tiene un componente socioeducativo\, contribuyendo a la inclusión\, la igualdad de oportunidades y la prevención del fracaso escolar\, especialmente en menores que puedan encontrarse en situación de vulnerabilidad.</p><br /><p>Las actividades se desarrollan de forma dinámica y adaptada a la edad\, combinando tareas escolares\, técnicas de estudio y recursos educativos que facilitan la comprensión de los contenidos.</p><br />
X-ALT-DESC;FMTTYPE=text/html:<p>El programa de refuerzo escolar para menores tiene como objetivo apoyar el proceso educativo de niños y niñas\, proporcionando un espacio estructurado donde puedan mejorar su rendimiento académico\, adquirir hábitos de estudio y reforzar contenidos trabajados en el ámbito escolar.</p><br /><p>A través de este servicio\, se ofrece acompañamiento personalizado adaptado a las necesidades de cada menor\, prestando especial atención a áreas instrumentales como la lectura\, la escritura y el cálculo\, así como al desarrollo de la comprensión y la expresión.</p><br /><p>Además del apoyo académico\, el programa fomenta habilidades fundamentales como la organización del tiempo\, la autonomía en el aprendizaje\, la responsabilidad y la motivación hacia los estudios. Se promueve un ambiente positivo y de confianza que favorece la participación activa y el aprendizaje significativo.</p><br /><p>El refuerzo escolar también tiene un componente socioeducativo\, contribuyendo a la inclusión\, la igualdad de oportunidades y la prevención del fracaso escolar\, especialmente en menores que puedan encontrarse en situación de vulnerabilidad.</p><br /><p>Las actividades se desarrollan de forma dinámica y adaptada a la edad\, combinando tareas escolares\, técnicas de estudio y recursos educativos que facilitan la comprensión de los contenidos.</p><br />
SUMMARY:Refuerzo escolar
ORGANIZER:Coordinadora Solidaria Valencia
URL;VALUE=URI:https://orriolsenpositivo.es/actividades/refuerzo-escolar-2/
TRANSP:OPAQUE
END:VEVENT
BEGIN:VEVENT
CREATED:20260330T074423Z
UID:283
DTSTART;TZID=Europe/Madrid:20260415T163000
DTEND;TZID=Europe/Madrid:20260415T183000
DTSTAMP:20260420T113943Z
LOCATION:Calle San juan de la Peña nº 6
DESCRIPTION;ENCODING=QUOTED-PRINTABLE:<p>El programa de refuerzo escolar para menores tiene como objetivo apoyar el proceso educativo de niños y niñas\, proporcionando un espacio estructurado donde puedan mejorar su rendimiento académico\, adquirir hábitos de estudio y reforzar contenidos trabajados en el ámbito escolar.</p><br /><p>A través de este servicio\, se ofrece acompañamiento personalizado adaptado a las necesidades de cada menor\, prestando especial atención a áreas instrumentales como la lectura\, la escritura y el cálculo\, así como al desarrollo de la comprensión y la expresión.</p><br /><p>Además del apoyo académico\, el programa fomenta habilidades fundamentales como la organización del tiempo\, la autonomía en el aprendizaje\, la responsabilidad y la motivación hacia los estudios. Se promueve un ambiente positivo y de confianza que favorece la participación activa y el aprendizaje significativo.</p><br /><p>El refuerzo escolar también tiene un componente socioeducativo\, contribuyendo a la inclusión\, la igualdad de oportunidades y la prevención del fracaso escolar\, especialmente en menores que puedan encontrarse en situación de vulnerabilidad.</p><br /><p>Las actividades se desarrollan de forma dinámica y adaptada a la edad\, combinando tareas escolares\, técnicas de estudio y recursos educativos que facilitan la comprensión de los contenidos.</p><br />
X-ALT-DESC;FMTTYPE=text/html:<p>El programa de refuerzo escolar para menores tiene como objetivo apoyar el proceso educativo de niños y niñas\, proporcionando un espacio estructurado donde puedan mejorar su rendimiento académico\, adquirir hábitos de estudio y reforzar contenidos trabajados en el ámbito escolar.</p><br /><p>A través de este servicio\, se ofrece acompañamiento personalizado adaptado a las necesidades de cada menor\, prestando especial atención a áreas instrumentales como la lectura\, la escritura y el cálculo\, así como al desarrollo de la comprensión y la expresión.</p><br /><p>Además del apoyo académico\, el programa fomenta habilidades fundamentales como la organización del tiempo\, la autonomía en el aprendizaje\, la responsabilidad y la motivación hacia los estudios. Se promueve un ambiente positivo y de confianza que favorece la participación activa y el aprendizaje significativo.</p><br /><p>El refuerzo escolar también tiene un componente socioeducativo\, contribuyendo a la inclusión\, la igualdad de oportunidades y la prevención del fracaso escolar\, especialmente en menores que puedan encontrarse en situación de vulnerabilidad.</p><br /><p>Las actividades se desarrollan de forma dinámica y adaptada a la edad\, combinando tareas escolares\, técnicas de estudio y recursos educativos que facilitan la comprensión de los contenidos.</p><br />
SUMMARY:Refuerzo escolar
ORGANIZER:Coordinadora Solidaria Valencia
URL;VALUE=URI:https://orriolsenpositivo.es/actividades/refuerzo-escolar-2/
TRANSP:OPAQUE
END:VEVENT
BEGIN:VEVENT
CREATED:20260330T074423Z
UID:282
DTSTART;TZID=Europe/Madrid:20260408T163000
DTEND;TZID=Europe/Madrid:20260408T183000
DTSTAMP:20260420T113943Z
LOCATION:Calle San juan de la Peña nº 6
DESCRIPTION;ENCODING=QUOTED-PRINTABLE:<p>El programa de refuerzo escolar para menores tiene como objetivo apoyar el proceso educativo de niños y niñas\, proporcionando un espacio estructurado donde puedan mejorar su rendimiento académico\, adquirir hábitos de estudio y reforzar contenidos trabajados en el ámbito escolar.</p><br /><p>A través de este servicio\, se ofrece acompañamiento personalizado adaptado a las necesidades de cada menor\, prestando especial atención a áreas instrumentales como la lectura\, la escritura y el cálculo\, así como al desarrollo de la comprensión y la expresión.</p><br /><p>Además del apoyo académico\, el programa fomenta habilidades fundamentales como la organización del tiempo\, la autonomía en el aprendizaje\, la responsabilidad y la motivación hacia los estudios. Se promueve un ambiente positivo y de confianza que favorece la participación activa y el aprendizaje significativo.</p><br /><p>El refuerzo escolar también tiene un componente socioeducativo\, contribuyendo a la inclusión\, la igualdad de oportunidades y la prevención del fracaso escolar\, especialmente en menores que puedan encontrarse en situación de vulnerabilidad.</p><br /><p>Las actividades se desarrollan de forma dinámica y adaptada a la edad\, combinando tareas escolares\, técnicas de estudio y recursos educativos que facilitan la comprensión de los contenidos.</p><br />
X-ALT-DESC;FMTTYPE=text/html:<p>El programa de refuerzo escolar para menores tiene como objetivo apoyar el proceso educativo de niños y niñas\, proporcionando un espacio estructurado donde puedan mejorar su rendimiento académico\, adquirir hábitos de estudio y reforzar contenidos trabajados en el ámbito escolar.</p><br /><p>A través de este servicio\, se ofrece acompañamiento personalizado adaptado a las necesidades de cada menor\, prestando especial atención a áreas instrumentales como la lectura\, la escritura y el cálculo\, así como al desarrollo de la comprensión y la expresión.</p><br /><p>Además del apoyo académico\, el programa fomenta habilidades fundamentales como la organización del tiempo\, la autonomía en el aprendizaje\, la responsabilidad y la motivación hacia los estudios. Se promueve un ambiente positivo y de confianza que favorece la participación activa y el aprendizaje significativo.</p><br /><p>El refuerzo escolar también tiene un componente socioeducativo\, contribuyendo a la inclusión\, la igualdad de oportunidades y la prevención del fracaso escolar\, especialmente en menores que puedan encontrarse en situación de vulnerabilidad.</p><br /><p>Las actividades se desarrollan de forma dinámica y adaptada a la edad\, combinando tareas escolares\, técnicas de estudio y recursos educativos que facilitan la comprensión de los contenidos.</p><br />
SUMMARY:Refuerzo escolar
ORGANIZER:Coordinadora Solidaria Valencia
URL;VALUE=URI:https://orriolsenpositivo.es/actividades/refuerzo-escolar-2/
TRANSP:OPAQUE
END:VEVENT
BEGIN:VEVENT
CREATED:20260330T074423Z
UID:281
DTSTART;TZID=Europe/Madrid:20260401T163000
DTEND;TZID=Europe/Madrid:20260401T183000
DTSTAMP:20260420T113943Z
LOCATION:Calle San juan de la Peña nº 6
DESCRIPTION;ENCODING=QUOTED-PRINTABLE:<p>El programa de refuerzo escolar para menores tiene como objetivo apoyar el proceso educativo de niños y niñas\, proporcionando un espacio estructurado donde puedan mejorar su rendimiento académico\, adquirir hábitos de estudio y reforzar contenidos trabajados en el ámbito escolar.</p><br /><p>A través de este servicio\, se ofrece acompañamiento personalizado adaptado a las necesidades de cada menor\, prestando especial atención a áreas instrumentales como la lectura\, la escritura y el cálculo\, así como al desarrollo de la comprensión y la expresión.</p><br /><p>Además del apoyo académico\, el programa fomenta habilidades fundamentales como la organización del tiempo\, la autonomía en el aprendizaje\, la responsabilidad y la motivación hacia los estudios. Se promueve un ambiente positivo y de confianza que favorece la participación activa y el aprendizaje significativo.</p><br /><p>El refuerzo escolar también tiene un componente socioeducativo\, contribuyendo a la inclusión\, la igualdad de oportunidades y la prevención del fracaso escolar\, especialmente en menores que puedan encontrarse en situación de vulnerabilidad.</p><br /><p>Las actividades se desarrollan de forma dinámica y adaptada a la edad\, combinando tareas escolares\, técnicas de estudio y recursos educativos que facilitan la comprensión de los contenidos.</p><br />
X-ALT-DESC;FMTTYPE=text/html:<p>El programa de refuerzo escolar para menores tiene como objetivo apoyar el proceso educativo de niños y niñas\, proporcionando un espacio estructurado donde puedan mejorar su rendimiento académico\, adquirir hábitos de estudio y reforzar contenidos trabajados en el ámbito escolar.</p><br /><p>A través de este servicio\, se ofrece acompañamiento personalizado adaptado a las necesidades de cada menor\, prestando especial atención a áreas instrumentales como la lectura\, la escritura y el cálculo\, así como al desarrollo de la comprensión y la expresión.</p><br /><p>Además del apoyo académico\, el programa fomenta habilidades fundamentales como la organización del tiempo\, la autonomía en el aprendizaje\, la responsabilidad y la motivación hacia los estudios. Se promueve un ambiente positivo y de confianza que favorece la participación activa y el aprendizaje significativo.</p><br /><p>El refuerzo escolar también tiene un componente socioeducativo\, contribuyendo a la inclusión\, la igualdad de oportunidades y la prevención del fracaso escolar\, especialmente en menores que puedan encontrarse en situación de vulnerabilidad.</p><br /><p>Las actividades se desarrollan de forma dinámica y adaptada a la edad\, combinando tareas escolares\, técnicas de estudio y recursos educativos que facilitan la comprensión de los contenidos.</p><br />
SUMMARY:Refuerzo escolar
ORGANIZER:Coordinadora Solidaria Valencia
URL;VALUE=URI:https://orriolsenpositivo.es/actividades/refuerzo-escolar-2/
TRANSP:OPAQUE
END:VEVENT
END:VCALENDAR
