BEGIN:VCALENDAR
VERSION:2.0
PRODID:-//Orriols en Positivo//NONSGML Taller de ciudadanía e identidad digital //EN
CALSCALE:GREGORIAN
X-WR-CALNAME:Taller de ciudadanía e identidad digital - Orriols en Positivo
X-Robots-Tag:noindex
X-WR-TIMEZONE:Europe/Madrid
BEGIN:VTIMEZONE
TZID:Europe/Madrid
X-LIC-LOCATION:Europe/Madrid
BEGIN:DAYLIGHT
TZOFFSETFROM:+0100
TZOFFSETTO:+0200
TZNAME:CEST
DTSTART:19700329T020000
RRULE:FREQ=YEARLY;BYMONTH=3;BYDAY=-1SU
END:DAYLIGHT
BEGIN:STANDARD
TZOFFSETFROM:+0200
TZOFFSETTO:+0100
TZNAME:CET
DTSTART:19701025T030000
RRULE:FREQ=YEARLY;BYMONTH=10;BYDAY=-1SU
END:STANDARD
END:VTIMEZONE
BEGIN:VEVENT
CREATED:20260330T074000Z
UID:239
DTSTART;TZID=Europe/Madrid:20260409T093000
DTEND;TZID=Europe/Madrid:20260409T113000
DTSTAMP:20260422T085849Z
LOCATION:Calle Peris brell\, 51
DESCRIPTION;ENCODING=QUOTED-PRINTABLE:<p>Este taller está diseñado para acercar a las personas al uso práctico de herramientas digitales necesarias para realizar gestiones administrativas de forma autónoma\, segura y eficaz. A lo largo de cinco módulos\, se trabajan conocimientos básicos y habilidades aplicadas para interactuar con diferentes servicios públicos digitales.</p><br /><p>· Módulo1: Que es el certificado digital\, y firma electrónica\, y CL@VE y para qué me sirve cada uno de ellos<br />· Módulo2: Aprendo a solicitare instalar mi certificado digital<br />· Módulo3: Me relaciono con la Agencia Tributaria: campaña de la renta<br />· Módulo4: Mi carpeta ciudadana<br />· Módulo5: La DGT en mi móvil</p><br />
X-ALT-DESC;FMTTYPE=text/html:<p>Este taller está diseñado para acercar a las personas al uso práctico de herramientas digitales necesarias para realizar gestiones administrativas de forma autónoma\, segura y eficaz. A lo largo de cinco módulos\, se trabajan conocimientos básicos y habilidades aplicadas para interactuar con diferentes servicios públicos digitales.</p><br /><p>· Módulo1: Que es el certificado digital\, y firma electrónica\, y CL@VE y para qué me sirve cada uno de ellos<br />· Módulo2: Aprendo a solicitare instalar mi certificado digital<br />· Módulo3: Me relaciono con la Agencia Tributaria: campaña de la renta<br />· Módulo4: Mi carpeta ciudadana<br />· Módulo5: La DGT en mi móvil</p><br />
SUMMARY:Taller de ciudadanía e identidad digital
ORGANIZER:Coordinadora Solidaria Valencia
URL;VALUE=URI:https://orriolsenpositivo.es/actividades/taller-de-ciudadania-e-identidad-digital/
TRANSP:OPAQUE
END:VEVENT
BEGIN:VEVENT
CREATED:20260330T074000Z
UID:238
DTSTART;TZID=Europe/Madrid:20260408T093000
DTEND;TZID=Europe/Madrid:20260408T113000
DTSTAMP:20260422T085849Z
LOCATION:Calle Peris brell\, 51
DESCRIPTION;ENCODING=QUOTED-PRINTABLE:<p>Este taller está diseñado para acercar a las personas al uso práctico de herramientas digitales necesarias para realizar gestiones administrativas de forma autónoma\, segura y eficaz. A lo largo de cinco módulos\, se trabajan conocimientos básicos y habilidades aplicadas para interactuar con diferentes servicios públicos digitales.</p><br /><p>· Módulo1: Que es el certificado digital\, y firma electrónica\, y CL@VE y para qué me sirve cada uno de ellos<br />· Módulo2: Aprendo a solicitare instalar mi certificado digital<br />· Módulo3: Me relaciono con la Agencia Tributaria: campaña de la renta<br />· Módulo4: Mi carpeta ciudadana<br />· Módulo5: La DGT en mi móvil</p><br />
X-ALT-DESC;FMTTYPE=text/html:<p>Este taller está diseñado para acercar a las personas al uso práctico de herramientas digitales necesarias para realizar gestiones administrativas de forma autónoma\, segura y eficaz. A lo largo de cinco módulos\, se trabajan conocimientos básicos y habilidades aplicadas para interactuar con diferentes servicios públicos digitales.</p><br /><p>· Módulo1: Que es el certificado digital\, y firma electrónica\, y CL@VE y para qué me sirve cada uno de ellos<br />· Módulo2: Aprendo a solicitare instalar mi certificado digital<br />· Módulo3: Me relaciono con la Agencia Tributaria: campaña de la renta<br />· Módulo4: Mi carpeta ciudadana<br />· Módulo5: La DGT en mi móvil</p><br />
SUMMARY:Taller de ciudadanía e identidad digital
ORGANIZER:Coordinadora Solidaria Valencia
URL;VALUE=URI:https://orriolsenpositivo.es/actividades/taller-de-ciudadania-e-identidad-digital/
TRANSP:OPAQUE
END:VEVENT
BEGIN:VEVENT
CREATED:20260330T074000Z
UID:237
DTSTART;TZID=Europe/Madrid:20260407T093000
DTEND;TZID=Europe/Madrid:20260407T113000
DTSTAMP:20260422T085849Z
LOCATION:Calle Peris brell\, 51
DESCRIPTION;ENCODING=QUOTED-PRINTABLE:<p>Este taller está diseñado para acercar a las personas al uso práctico de herramientas digitales necesarias para realizar gestiones administrativas de forma autónoma\, segura y eficaz. A lo largo de cinco módulos\, se trabajan conocimientos básicos y habilidades aplicadas para interactuar con diferentes servicios públicos digitales.</p><br /><p>· Módulo1: Que es el certificado digital\, y firma electrónica\, y CL@VE y para qué me sirve cada uno de ellos<br />· Módulo2: Aprendo a solicitare instalar mi certificado digital<br />· Módulo3: Me relaciono con la Agencia Tributaria: campaña de la renta<br />· Módulo4: Mi carpeta ciudadana<br />· Módulo5: La DGT en mi móvil</p><br />
X-ALT-DESC;FMTTYPE=text/html:<p>Este taller está diseñado para acercar a las personas al uso práctico de herramientas digitales necesarias para realizar gestiones administrativas de forma autónoma\, segura y eficaz. A lo largo de cinco módulos\, se trabajan conocimientos básicos y habilidades aplicadas para interactuar con diferentes servicios públicos digitales.</p><br /><p>· Módulo1: Que es el certificado digital\, y firma electrónica\, y CL@VE y para qué me sirve cada uno de ellos<br />· Módulo2: Aprendo a solicitare instalar mi certificado digital<br />· Módulo3: Me relaciono con la Agencia Tributaria: campaña de la renta<br />· Módulo4: Mi carpeta ciudadana<br />· Módulo5: La DGT en mi móvil</p><br />
SUMMARY:Taller de ciudadanía e identidad digital
ORGANIZER:Coordinadora Solidaria Valencia
URL;VALUE=URI:https://orriolsenpositivo.es/actividades/taller-de-ciudadania-e-identidad-digital/
TRANSP:OPAQUE
END:VEVENT
END:VCALENDAR
