BEGIN:VCALENDAR
VERSION:2.0
PRODID:-//Orriols en Positivo//NONSGML Rap para la evolución del Ser //EN
CALSCALE:GREGORIAN
X-WR-CALNAME:Rap para la evolución del Ser - Orriols en Positivo
X-Robots-Tag:noindex
X-WR-TIMEZONE:Europe/Madrid
BEGIN:VTIMEZONE
TZID:Europe/Madrid
X-LIC-LOCATION:Europe/Madrid
BEGIN:DAYLIGHT
TZOFFSETFROM:+0100
TZOFFSETTO:+0200
TZNAME:CEST
DTSTART:19700329T020000
RRULE:FREQ=YEARLY;BYMONTH=3;BYDAY=-1SU
END:DAYLIGHT
BEGIN:STANDARD
TZOFFSETFROM:+0200
TZOFFSETTO:+0100
TZNAME:CET
DTSTART:19701025T030000
RRULE:FREQ=YEARLY;BYMONTH=10;BYDAY=-1SU
END:STANDARD
END:VTIMEZONE
BEGIN:VEVENT
CREATED:20260309T155925Z
UID:233
DTSTART;TZID=Europe/Madrid:20260523T110000
DTEND;TZID=Europe/Madrid:20260523T123000
DTSTAMP:20260422T114834Z
LOCATION:C/ Santiago Rusinyol\, 3 (Alquería Albors)
DESCRIPTION;ENCODING=QUOTED-PRINTABLE:<p>Se combinarán el Rap y la improvisación con herramientas de introspección como la meditación guiada\, esto con el fin de intencionar cada una de las actividades hacia el desarrollo personal de cada participante\, consiguiendo así que se trabajen temas que giran en torno al Amor propio como la Autoaceptación\, Autoestima y Autoconfianza a través de una herramienta lúdica y acogida a día de hoy como lo es la música y el Freestyle.</p><br /><p>Inscripciones: https://www.joventut-valencia.es/actividad/3906/21-de-mayo-orriols-rap-para-la-evolucion-del-ser/</p><br />
X-ALT-DESC;FMTTYPE=text/html:<p>Se combinarán el Rap y la improvisación con herramientas de introspección como la meditación guiada\, esto con el fin de intencionar cada una de las actividades hacia el desarrollo personal de cada participante\, consiguiendo así que se trabajen temas que giran en torno al Amor propio como la Autoaceptación\, Autoestima y Autoconfianza a través de una herramienta lúdica y acogida a día de hoy como lo es la música y el Freestyle.</p><br /><p>Inscripciones: https://www.joventut-valencia.es/actividad/3906/21-de-mayo-orriols-rap-para-la-evolucion-del-ser/</p><br />
SUMMARY:Rap para la evolución del Ser
ORGANIZER:CMJ Orriols
URL;VALUE=URI:https://orriolsenpositivo.es/actividades/rap-para-la-evolucion-del-ser/
TRANSP:OPAQUE
END:VEVENT
BEGIN:VEVENT
CREATED:20260309T155925Z
UID:232
DTSTART;TZID=Europe/Madrid:20260522T173000
DTEND;TZID=Europe/Madrid:20260522T190000
DTSTAMP:20260422T114834Z
LOCATION:C/ Santiago Rusinyol\, 3 (Alquería Albors)
DESCRIPTION;ENCODING=QUOTED-PRINTABLE:<p>Se combinarán el Rap y la improvisación con herramientas de introspección como la meditación guiada\, esto con el fin de intencionar cada una de las actividades hacia el desarrollo personal de cada participante\, consiguiendo así que se trabajen temas que giran en torno al Amor propio como la Autoaceptación\, Autoestima y Autoconfianza a través de una herramienta lúdica y acogida a día de hoy como lo es la música y el Freestyle.</p><br /><p>Inscripciones: https://www.joventut-valencia.es/actividad/3906/21-de-mayo-orriols-rap-para-la-evolucion-del-ser/</p><br />
X-ALT-DESC;FMTTYPE=text/html:<p>Se combinarán el Rap y la improvisación con herramientas de introspección como la meditación guiada\, esto con el fin de intencionar cada una de las actividades hacia el desarrollo personal de cada participante\, consiguiendo así que se trabajen temas que giran en torno al Amor propio como la Autoaceptación\, Autoestima y Autoconfianza a través de una herramienta lúdica y acogida a día de hoy como lo es la música y el Freestyle.</p><br /><p>Inscripciones: https://www.joventut-valencia.es/actividad/3906/21-de-mayo-orriols-rap-para-la-evolucion-del-ser/</p><br />
SUMMARY:Rap para la evolución del Ser
ORGANIZER:CMJ Orriols
URL;VALUE=URI:https://orriolsenpositivo.es/actividades/rap-para-la-evolucion-del-ser/
TRANSP:OPAQUE
END:VEVENT
BEGIN:VEVENT
CREATED:20260309T155925Z
UID:231
DTSTART;TZID=Europe/Madrid:20260521T173000
DTEND;TZID=Europe/Madrid:20260521T190000
DTSTAMP:20260422T114834Z
LOCATION:C/ Santiago Rusinyol\, 3 (Alquería Albors)
DESCRIPTION;ENCODING=QUOTED-PRINTABLE:<p>Se combinarán el Rap y la improvisación con herramientas de introspección como la meditación guiada\, esto con el fin de intencionar cada una de las actividades hacia el desarrollo personal de cada participante\, consiguiendo así que se trabajen temas que giran en torno al Amor propio como la Autoaceptación\, Autoestima y Autoconfianza a través de una herramienta lúdica y acogida a día de hoy como lo es la música y el Freestyle.</p><br /><p>Inscripciones: https://www.joventut-valencia.es/actividad/3906/21-de-mayo-orriols-rap-para-la-evolucion-del-ser/</p><br />
X-ALT-DESC;FMTTYPE=text/html:<p>Se combinarán el Rap y la improvisación con herramientas de introspección como la meditación guiada\, esto con el fin de intencionar cada una de las actividades hacia el desarrollo personal de cada participante\, consiguiendo así que se trabajen temas que giran en torno al Amor propio como la Autoaceptación\, Autoestima y Autoconfianza a través de una herramienta lúdica y acogida a día de hoy como lo es la música y el Freestyle.</p><br /><p>Inscripciones: https://www.joventut-valencia.es/actividad/3906/21-de-mayo-orriols-rap-para-la-evolucion-del-ser/</p><br />
SUMMARY:Rap para la evolución del Ser
ORGANIZER:CMJ Orriols
URL;VALUE=URI:https://orriolsenpositivo.es/actividades/rap-para-la-evolucion-del-ser/
TRANSP:OPAQUE
END:VEVENT
END:VCALENDAR
