BEGIN:VCALENDAR
VERSION:2.0
PRODID:-//Orriols en Positivo//NONSGML Habilidades para la empleabilidad. //EN
CALSCALE:GREGORIAN
X-WR-CALNAME:Habilidades para la empleabilidad. - Orriols en Positivo
X-Robots-Tag:noindex
X-WR-TIMEZONE:Europe/Madrid
BEGIN:VTIMEZONE
TZID:Europe/Madrid
X-LIC-LOCATION:Europe/Madrid
BEGIN:DAYLIGHT
TZOFFSETFROM:+0100
TZOFFSETTO:+0200
TZNAME:CEST
DTSTART:19700329T020000
RRULE:FREQ=YEARLY;BYMONTH=3;BYDAY=-1SU
END:DAYLIGHT
BEGIN:STANDARD
TZOFFSETFROM:+0200
TZOFFSETTO:+0100
TZNAME:CET
DTSTART:19701025T030000
RRULE:FREQ=YEARLY;BYMONTH=10;BYDAY=-1SU
END:STANDARD
END:VTIMEZONE
BEGIN:VEVENT
CREATED:20260309T154900Z
UID:230
DTSTART;TZID=Europe/Madrid:20260423T170000
DTEND;TZID=Europe/Madrid:20260423T183000
DTSTAMP:20260420T113755Z
LOCATION:C/ Santiago Rusinyol\, 3 (Alquería Albors)
DESCRIPTION;ENCODING=QUOTED-PRINTABLE:<p>Este taller tiene como objetivo proporcionar herramientas prácticas para la mejora de la empleabilidad de los participantes. A lo largo de 14 horas distribuidas en varias sesiones\, se abordarán temas esenciales como la identificación de fortalezas y habilidades\, la creación de un CV llamativo\, la preparación para entrevistas laborales y estrategias para destacar en el mercado laboral. Se utilizará una metodología participativa con simulaciones de entrevistas\, análisis de ofertas de empleo y ejercicios prácticos de redacción de CV y cartas de presentación.</p><br /><p>Inscripciones: https://www.joventut-valencia.es/actividad/3914/habilidades-para-la-empleabilidad/</p><br />
X-ALT-DESC;FMTTYPE=text/html:<p>Este taller tiene como objetivo proporcionar herramientas prácticas para la mejora de la empleabilidad de los participantes. A lo largo de 14 horas distribuidas en varias sesiones\, se abordarán temas esenciales como la identificación de fortalezas y habilidades\, la creación de un CV llamativo\, la preparación para entrevistas laborales y estrategias para destacar en el mercado laboral. Se utilizará una metodología participativa con simulaciones de entrevistas\, análisis de ofertas de empleo y ejercicios prácticos de redacción de CV y cartas de presentación.</p><br /><p>Inscripciones: https://www.joventut-valencia.es/actividad/3914/habilidades-para-la-empleabilidad/</p><br />
SUMMARY:Habilidades para la empleabilidad.
ORGANIZER:CMJ Orriols
URL;VALUE=URI:https://orriolsenpositivo.es/actividades/habilidades-para-la-empleabilidad/
TRANSP:OPAQUE
END:VEVENT
BEGIN:VEVENT
CREATED:20260309T154900Z
UID:229
DTSTART;TZID=Europe/Madrid:20260417T170000
DTEND;TZID=Europe/Madrid:20260417T190000
DTSTAMP:20260420T113755Z
LOCATION:C/ Santiago Rusinyol\, 3 (Alquería Albors)
DESCRIPTION;ENCODING=QUOTED-PRINTABLE:<p>Este taller tiene como objetivo proporcionar herramientas prácticas para la mejora de la empleabilidad de los participantes. A lo largo de 14 horas distribuidas en varias sesiones\, se abordarán temas esenciales como la identificación de fortalezas y habilidades\, la creación de un CV llamativo\, la preparación para entrevistas laborales y estrategias para destacar en el mercado laboral. Se utilizará una metodología participativa con simulaciones de entrevistas\, análisis de ofertas de empleo y ejercicios prácticos de redacción de CV y cartas de presentación.</p><br /><p>Inscripciones: https://www.joventut-valencia.es/actividad/3914/habilidades-para-la-empleabilidad/</p><br />
X-ALT-DESC;FMTTYPE=text/html:<p>Este taller tiene como objetivo proporcionar herramientas prácticas para la mejora de la empleabilidad de los participantes. A lo largo de 14 horas distribuidas en varias sesiones\, se abordarán temas esenciales como la identificación de fortalezas y habilidades\, la creación de un CV llamativo\, la preparación para entrevistas laborales y estrategias para destacar en el mercado laboral. Se utilizará una metodología participativa con simulaciones de entrevistas\, análisis de ofertas de empleo y ejercicios prácticos de redacción de CV y cartas de presentación.</p><br /><p>Inscripciones: https://www.joventut-valencia.es/actividad/3914/habilidades-para-la-empleabilidad/</p><br />
SUMMARY:Habilidades para la empleabilidad.
ORGANIZER:CMJ Orriols
URL;VALUE=URI:https://orriolsenpositivo.es/actividades/habilidades-para-la-empleabilidad/
TRANSP:OPAQUE
END:VEVENT
BEGIN:VEVENT
CREATED:20260309T154900Z
UID:228
DTSTART;TZID=Europe/Madrid:20260416T170000
DTEND;TZID=Europe/Madrid:20260416T190000
DTSTAMP:20260420T113755Z
LOCATION:C/ Santiago Rusinyol\, 3 (Alquería Albors)
DESCRIPTION;ENCODING=QUOTED-PRINTABLE:<p>Este taller tiene como objetivo proporcionar herramientas prácticas para la mejora de la empleabilidad de los participantes. A lo largo de 14 horas distribuidas en varias sesiones\, se abordarán temas esenciales como la identificación de fortalezas y habilidades\, la creación de un CV llamativo\, la preparación para entrevistas laborales y estrategias para destacar en el mercado laboral. Se utilizará una metodología participativa con simulaciones de entrevistas\, análisis de ofertas de empleo y ejercicios prácticos de redacción de CV y cartas de presentación.</p><br /><p>Inscripciones: https://www.joventut-valencia.es/actividad/3914/habilidades-para-la-empleabilidad/</p><br />
X-ALT-DESC;FMTTYPE=text/html:<p>Este taller tiene como objetivo proporcionar herramientas prácticas para la mejora de la empleabilidad de los participantes. A lo largo de 14 horas distribuidas en varias sesiones\, se abordarán temas esenciales como la identificación de fortalezas y habilidades\, la creación de un CV llamativo\, la preparación para entrevistas laborales y estrategias para destacar en el mercado laboral. Se utilizará una metodología participativa con simulaciones de entrevistas\, análisis de ofertas de empleo y ejercicios prácticos de redacción de CV y cartas de presentación.</p><br /><p>Inscripciones: https://www.joventut-valencia.es/actividad/3914/habilidades-para-la-empleabilidad/</p><br />
SUMMARY:Habilidades para la empleabilidad.
ORGANIZER:CMJ Orriols
URL;VALUE=URI:https://orriolsenpositivo.es/actividades/habilidades-para-la-empleabilidad/
TRANSP:OPAQUE
END:VEVENT
END:VCALENDAR
