BEGIN:VCALENDAR
VERSION:2.0
PRODID:-//Orriols en Positivo//NONSGML Taller de vídeo con móvil o tablet //EN
CALSCALE:GREGORIAN
X-WR-CALNAME:Taller de vídeo con móvil o tablet - Orriols en Positivo
X-Robots-Tag:noindex
X-WR-TIMEZONE:Europe/Madrid
BEGIN:VTIMEZONE
TZID:Europe/Madrid
X-LIC-LOCATION:Europe/Madrid
BEGIN:DAYLIGHT
TZOFFSETFROM:+0100
TZOFFSETTO:+0200
TZNAME:CEST
DTSTART:19700329T020000
RRULE:FREQ=YEARLY;BYMONTH=3;BYDAY=-1SU
END:DAYLIGHT
BEGIN:STANDARD
TZOFFSETFROM:+0200
TZOFFSETTO:+0100
TZNAME:CET
DTSTART:19701025T030000
RRULE:FREQ=YEARLY;BYMONTH=10;BYDAY=-1SU
END:STANDARD
END:VTIMEZONE
BEGIN:VEVENT
CREATED:20260309T154521Z
UID:227
DTSTART;TZID=Europe/Madrid:20260409T173000
DTEND;TZID=Europe/Madrid:20260409T183000
DTSTAMP:20260420T113746Z
LOCATION:C/ Santiago Rusinyol\, 3 (Alquería Albors)
DESCRIPTION;ENCODING=QUOTED-PRINTABLE:<p>Este curso está diseñado para lxs jóvenes que quieran acercarse al mundo de la creación de contenido audiovisual. Usando sólo su móvil o tablet aprenderán a grabar vídeos desde una idea y un pequeño guión.Trabajaremos teniendo en cuenta técnicas de iluminación y sonido para mejorar la calidad de sus grabaciones. Después editarán los vídeos.</p><br /><p>Inscripciones: https://www.joventut-valencia.es/actividad/3870/orr-taller-de-video-con-movil-o-tablet/</p><br />
X-ALT-DESC;FMTTYPE=text/html:<p>Este curso está diseñado para lxs jóvenes que quieran acercarse al mundo de la creación de contenido audiovisual. Usando sólo su móvil o tablet aprenderán a grabar vídeos desde una idea y un pequeño guión.Trabajaremos teniendo en cuenta técnicas de iluminación y sonido para mejorar la calidad de sus grabaciones. Después editarán los vídeos.</p><br /><p>Inscripciones: https://www.joventut-valencia.es/actividad/3870/orr-taller-de-video-con-movil-o-tablet/</p><br />
SUMMARY:Taller de vídeo con móvil o tablet
ORGANIZER:CMJ Orriols
URL;VALUE=URI:https://orriolsenpositivo.es/actividades/taller-de-video-con-movil-o-tablet/
TRANSP:OPAQUE
END:VEVENT
BEGIN:VEVENT
CREATED:20260309T154521Z
UID:226
DTSTART;TZID=Europe/Madrid:20260408T173000
DTEND;TZID=Europe/Madrid:20260408T183000
DTSTAMP:20260420T113746Z
LOCATION:C/ Santiago Rusinyol\, 3 (Alquería Albors)
DESCRIPTION;ENCODING=QUOTED-PRINTABLE:<p>Este curso está diseñado para lxs jóvenes que quieran acercarse al mundo de la creación de contenido audiovisual. Usando sólo su móvil o tablet aprenderán a grabar vídeos desde una idea y un pequeño guión.Trabajaremos teniendo en cuenta técnicas de iluminación y sonido para mejorar la calidad de sus grabaciones. Después editarán los vídeos.</p><br /><p>Inscripciones: https://www.joventut-valencia.es/actividad/3870/orr-taller-de-video-con-movil-o-tablet/</p><br />
X-ALT-DESC;FMTTYPE=text/html:<p>Este curso está diseñado para lxs jóvenes que quieran acercarse al mundo de la creación de contenido audiovisual. Usando sólo su móvil o tablet aprenderán a grabar vídeos desde una idea y un pequeño guión.Trabajaremos teniendo en cuenta técnicas de iluminación y sonido para mejorar la calidad de sus grabaciones. Después editarán los vídeos.</p><br /><p>Inscripciones: https://www.joventut-valencia.es/actividad/3870/orr-taller-de-video-con-movil-o-tablet/</p><br />
SUMMARY:Taller de vídeo con móvil o tablet
ORGANIZER:CMJ Orriols
URL;VALUE=URI:https://orriolsenpositivo.es/actividades/taller-de-video-con-movil-o-tablet/
TRANSP:OPAQUE
END:VEVENT
BEGIN:VEVENT
CREATED:20260309T154521Z
UID:225
DTSTART;TZID=Europe/Madrid:20260407T173000
DTEND;TZID=Europe/Madrid:20260407T183000
DTSTAMP:20260420T113746Z
LOCATION:C/ Santiago Rusinyol\, 3 (Alquería Albors)
DESCRIPTION;ENCODING=QUOTED-PRINTABLE:<p>Este curso está diseñado para lxs jóvenes que quieran acercarse al mundo de la creación de contenido audiovisual. Usando sólo su móvil o tablet aprenderán a grabar vídeos desde una idea y un pequeño guión.Trabajaremos teniendo en cuenta técnicas de iluminación y sonido para mejorar la calidad de sus grabaciones. Después editarán los vídeos.</p><br /><p>Inscripciones: https://www.joventut-valencia.es/actividad/3870/orr-taller-de-video-con-movil-o-tablet/</p><br />
X-ALT-DESC;FMTTYPE=text/html:<p>Este curso está diseñado para lxs jóvenes que quieran acercarse al mundo de la creación de contenido audiovisual. Usando sólo su móvil o tablet aprenderán a grabar vídeos desde una idea y un pequeño guión.Trabajaremos teniendo en cuenta técnicas de iluminación y sonido para mejorar la calidad de sus grabaciones. Después editarán los vídeos.</p><br /><p>Inscripciones: https://www.joventut-valencia.es/actividad/3870/orr-taller-de-video-con-movil-o-tablet/</p><br />
SUMMARY:Taller de vídeo con móvil o tablet
ORGANIZER:CMJ Orriols
URL;VALUE=URI:https://orriolsenpositivo.es/actividades/taller-de-video-con-movil-o-tablet/
TRANSP:OPAQUE
END:VEVENT
END:VCALENDAR
