BEGIN:VCALENDAR
VERSION:2.0
PRODID:-//Orriols en Positivo//NONSGML Pilates consciente para jóvenes //EN
CALSCALE:GREGORIAN
X-WR-CALNAME:Pilates consciente para jóvenes - Orriols en Positivo
X-Robots-Tag:noindex
X-WR-TIMEZONE:Europe/Madrid
BEGIN:VTIMEZONE
TZID:Europe/Madrid
X-LIC-LOCATION:Europe/Madrid
BEGIN:DAYLIGHT
TZOFFSETFROM:+0100
TZOFFSETTO:+0200
TZNAME:CEST
DTSTART:19700329T020000
RRULE:FREQ=YEARLY;BYMONTH=3;BYDAY=-1SU
END:DAYLIGHT
BEGIN:STANDARD
TZOFFSETFROM:+0200
TZOFFSETTO:+0100
TZNAME:CET
DTSTART:19701025T030000
RRULE:FREQ=YEARLY;BYMONTH=10;BYDAY=-1SU
END:STANDARD
END:VTIMEZONE
BEGIN:VEVENT
CREATED:20260309T154139Z
UID:224
DTSTART;TZID=Europe/Madrid:20260421T173000
DTEND;TZID=Europe/Madrid:20260421T193000
DTSTAMP:20260420T113957Z
LOCATION:C/ Santiago Rusinyol\, 3 (Alquería Albors)
DESCRIPTION;ENCODING=QUOTED-PRINTABLE:<p>Sesiones de pilates para jóvenes centradas en movimiento consciente\, fuerza funcional y bienestar emocional\, combinando cuerpo y mente.</p><br /><p>Inscripciones: https://www.joventut-valencia.es/actividad/3869/orr-pilates-consciente-para-jovenes/</p><br />
X-ALT-DESC;FMTTYPE=text/html:<p>Sesiones de pilates para jóvenes centradas en movimiento consciente\, fuerza funcional y bienestar emocional\, combinando cuerpo y mente.</p><br /><p>Inscripciones: https://www.joventut-valencia.es/actividad/3869/orr-pilates-consciente-para-jovenes/</p><br />
SUMMARY:Pilates consciente para jóvenes
ORGANIZER:CMJ Orriols
URL;VALUE=URI:https://orriolsenpositivo.es/actividades/pilates-consciente-para-jovenes/
TRANSP:OPAQUE
END:VEVENT
BEGIN:VEVENT
CREATED:20260309T154139Z
UID:223
DTSTART;TZID=Europe/Madrid:20260414T173000
DTEND;TZID=Europe/Madrid:20260414T193000
DTSTAMP:20260420T113957Z
LOCATION:C/ Santiago Rusinyol\, 3 (Alquería Albors)
DESCRIPTION;ENCODING=QUOTED-PRINTABLE:<p>Sesiones de pilates para jóvenes centradas en movimiento consciente\, fuerza funcional y bienestar emocional\, combinando cuerpo y mente.</p><br /><p>Inscripciones: https://www.joventut-valencia.es/actividad/3869/orr-pilates-consciente-para-jovenes/</p><br />
X-ALT-DESC;FMTTYPE=text/html:<p>Sesiones de pilates para jóvenes centradas en movimiento consciente\, fuerza funcional y bienestar emocional\, combinando cuerpo y mente.</p><br /><p>Inscripciones: https://www.joventut-valencia.es/actividad/3869/orr-pilates-consciente-para-jovenes/</p><br />
SUMMARY:Pilates consciente para jóvenes
ORGANIZER:CMJ Orriols
URL;VALUE=URI:https://orriolsenpositivo.es/actividades/pilates-consciente-para-jovenes/
TRANSP:OPAQUE
END:VEVENT
BEGIN:VEVENT
CREATED:20260309T154139Z
UID:222
DTSTART;TZID=Europe/Madrid:20260407T173000
DTEND;TZID=Europe/Madrid:20260407T193000
DTSTAMP:20260420T113957Z
LOCATION:C/ Santiago Rusinyol\, 3 (Alquería Albors)
DESCRIPTION;ENCODING=QUOTED-PRINTABLE:<p>Sesiones de pilates para jóvenes centradas en movimiento consciente\, fuerza funcional y bienestar emocional\, combinando cuerpo y mente.</p><br /><p>Inscripciones: https://www.joventut-valencia.es/actividad/3869/orr-pilates-consciente-para-jovenes/</p><br />
X-ALT-DESC;FMTTYPE=text/html:<p>Sesiones de pilates para jóvenes centradas en movimiento consciente\, fuerza funcional y bienestar emocional\, combinando cuerpo y mente.</p><br /><p>Inscripciones: https://www.joventut-valencia.es/actividad/3869/orr-pilates-consciente-para-jovenes/</p><br />
SUMMARY:Pilates consciente para jóvenes
ORGANIZER:CMJ Orriols
URL;VALUE=URI:https://orriolsenpositivo.es/actividades/pilates-consciente-para-jovenes/
TRANSP:OPAQUE
END:VEVENT
END:VCALENDAR
