BEGIN:VCALENDAR
VERSION:2.0
PRODID:-//Orriols en Positivo//NONSGML Escuela Ciudadana por el Derecho a la Energía //EN
CALSCALE:GREGORIAN
X-WR-CALNAME:Escuela Ciudadana por el Derecho a la Energía - Orriols en Positivo
X-Robots-Tag:noindex
X-WR-TIMEZONE:Europe/Madrid
BEGIN:VTIMEZONE
TZID:Europe/Madrid
X-LIC-LOCATION:Europe/Madrid
BEGIN:DAYLIGHT
TZOFFSETFROM:+0100
TZOFFSETTO:+0200
TZNAME:CEST
DTSTART:19700329T020000
RRULE:FREQ=YEARLY;BYMONTH=3;BYDAY=-1SU
END:DAYLIGHT
BEGIN:STANDARD
TZOFFSETFROM:+0200
TZOFFSETTO:+0100
TZNAME:CET
DTSTART:19701025T030000
RRULE:FREQ=YEARLY;BYMONTH=10;BYDAY=-1SU
END:STANDARD
END:VTIMEZONE
BEGIN:VEVENT
CREATED:20260306T100658Z
UID:221
DTSTART;TZID=Europe/Madrid:20260331T170000
DTEND;TZID=Europe/Madrid:20260331T190000
DTSTAMP:20260422T084007Z
LOCATION:C/ Marqués de Montortal\, 65 (Sede de la Asociación Tu Puerta Amiga)
DESCRIPTION;ENCODING=QUOTED-PRINTABLE:<p>¿Quieres saber cómo gestionar tu energía de manera eficiente y sostenible?</p><br /><p>Desde la Oficina de l’Energia te invitamos a participar en nuestra Escuela Ciudadana\, un espacio diseñado para empoderar a las personas en el uso responsable y consciente de la energía.</p><br /><p>Durante nuestras sesiones\, ofreceremos talleres interactivos donde aprenderás sobre eficiencia energética\, energías renovables\, optimización de facturas de luz y gas y otros temas de tu interés. Además\, podrás disfrutar de meriendas deliciosas y saludables en un espacio cercano y colaborativo en el que\, además en caso de ser necesario\, dispondremos de un espacio para que los niños y las niñas puedan jugar durante el transcurso de la actividad (es importante tener en cuenta que las familias serán las que supervisarán a los y las menores).</p><br /><p>Esta es una excelente oportunidad para conectar con tu barrio y las personas que viven en él\, compartir experiencias y adquirir herramientas prácticas que te ayudarán a ser una persona más consciente y empoderada en el ámbito energético. </p><br /><p>¡Te esperamos el próximo día 31 de marzo! Esta será la segunda jornada de esta nueva edición\, donde hablaremos sobre ahorro energético en el hogar.</p><br /><p>🗓 <strong>31 de marzo de 2026</strong></p><br /><p>⏰ <strong>17:00 a 19:00h</strong></p><br /><p>📍 <strong>Sede de Tu Puerta Amiga (C/ del Marqués de Montortal\, 65\, Rascanya).</strong></p><br /><p>¡No te lo pierdas! Inscríbete ahora y sé parte del cambio hacia un futuro más sostenible. </p><br /><p>Para más información\, contáctanos en:</p><br /><p>961061582 o oficinaenergia@valenciasostenible.com <br />607543955 / 662649457 (WhatsApp)</p><br />
X-ALT-DESC;FMTTYPE=text/html:<p>¿Quieres saber cómo gestionar tu energía de manera eficiente y sostenible?</p><br /><p>Desde la Oficina de l’Energia te invitamos a participar en nuestra Escuela Ciudadana\, un espacio diseñado para empoderar a las personas en el uso responsable y consciente de la energía.</p><br /><p>Durante nuestras sesiones\, ofreceremos talleres interactivos donde aprenderás sobre eficiencia energética\, energías renovables\, optimización de facturas de luz y gas y otros temas de tu interés. Además\, podrás disfrutar de meriendas deliciosas y saludables en un espacio cercano y colaborativo en el que\, además en caso de ser necesario\, dispondremos de un espacio para que los niños y las niñas puedan jugar durante el transcurso de la actividad (es importante tener en cuenta que las familias serán las que supervisarán a los y las menores).</p><br /><p>Esta es una excelente oportunidad para conectar con tu barrio y las personas que viven en él\, compartir experiencias y adquirir herramientas prácticas que te ayudarán a ser una persona más consciente y empoderada en el ámbito energético. </p><br /><p>¡Te esperamos el próximo día 31 de marzo! Esta será la segunda jornada de esta nueva edición\, donde hablaremos sobre ahorro energético en el hogar.</p><br /><p>🗓 <strong>31 de marzo de 2026</strong></p><br /><p>⏰ <strong>17:00 a 19:00h</strong></p><br /><p>📍 <strong>Sede de Tu Puerta Amiga (C/ del Marqués de Montortal\, 65\, Rascanya).</strong></p><br /><p>¡No te lo pierdas! Inscríbete ahora y sé parte del cambio hacia un futuro más sostenible. </p><br /><p>Para más información\, contáctanos en:</p><br /><p>961061582 o oficinaenergia@valenciasostenible.com <br />607543955 / 662649457 (WhatsApp)</p><br />
SUMMARY:Escuela Ciudadana por el Derecho a la Energía
ORGANIZER:Oficina de l'Energia
URL;VALUE=URI:https://orriolsenpositivo.es/actividades/escuela-ciudadana-por-el-derecho-a-la-energia/
TRANSP:OPAQUE
END:VEVENT
END:VCALENDAR
