BEGIN:VCALENDAR
VERSION:2.0
PRODID:-//Orriols en Positivo//NONSGML Taller Online: Conéctate al Sol. Cómo autoproducir la energía que necesitas //EN
CALSCALE:GREGORIAN
X-WR-CALNAME:Taller Online: Conéctate al Sol. Cómo autoproducir la energía que necesitas - Orriols en Positivo
X-Robots-Tag:noindex
X-WR-TIMEZONE:Europe/Madrid
BEGIN:VTIMEZONE
TZID:Europe/Madrid
X-LIC-LOCATION:Europe/Madrid
BEGIN:DAYLIGHT
TZOFFSETFROM:+0100
TZOFFSETTO:+0200
TZNAME:CEST
DTSTART:19700329T020000
RRULE:FREQ=YEARLY;BYMONTH=3;BYDAY=-1SU
END:DAYLIGHT
BEGIN:STANDARD
TZOFFSETFROM:+0200
TZOFFSETTO:+0100
TZNAME:CET
DTSTART:19701025T030000
RRULE:FREQ=YEARLY;BYMONTH=10;BYDAY=-1SU
END:STANDARD
END:VTIMEZONE
BEGIN:VEVENT
CREATED:20260306T095816Z
UID:220
DTSTART;TZID=Europe/Madrid:20260312T170000
DTEND;TZID=Europe/Madrid:20260312T183000
DTSTAMP:20260420T133034Z
LOCATION:
DESCRIPTION;ENCODING=QUOTED-PRINTABLE:<p>En este taller se tratarán los conceptos básicos en relación al autoconsumo de energía solar fotovoltaica:</p><br /><p>¿Por qué es tan importante desarrollarlo en València?</p><br /><p>¿Cómo funciona una instalación fotovoltaica?</p><br /><p>¿Puedo poner paneles en mi finca?</p><br /><p>¿Puedo compartir una instalación con varios vecinos?</p><br /><p>¿Existen subvenciones?</p><br /><p>¿Es rentable?</p><br /><p>¡Este taller te servirá para resolver tus dudas y decidir si quieres conectarte al Sol!</p><br /><p>Si estáis interesad@s\, podéis inscribiros en este enlace: <a href="https://indawsodoo-clima-energia.odoo.com/event/taller-on-line-conectate-al-sol-como-autoproducir-la-energia-que-necesitas-conceptos-basicos-sobre-autoconsumo-1107/register">https://indawsodoo-clima-energia.odoo.com/event/taller-on-line-conectate-al-sol-como-autoproducir-la-energia-que-necesitas-conceptos-basicos-sobre-autoconsumo-1107/register</a></p><br />
X-ALT-DESC;FMTTYPE=text/html:<p>En este taller se tratarán los conceptos básicos en relación al autoconsumo de energía solar fotovoltaica:</p><br /><p>¿Por qué es tan importante desarrollarlo en València?</p><br /><p>¿Cómo funciona una instalación fotovoltaica?</p><br /><p>¿Puedo poner paneles en mi finca?</p><br /><p>¿Puedo compartir una instalación con varios vecinos?</p><br /><p>¿Existen subvenciones?</p><br /><p>¿Es rentable?</p><br /><p>¡Este taller te servirá para resolver tus dudas y decidir si quieres conectarte al Sol!</p><br /><p>Si estáis interesad@s\, podéis inscribiros en este enlace: <a href="https://indawsodoo-clima-energia.odoo.com/event/taller-on-line-conectate-al-sol-como-autoproducir-la-energia-que-necesitas-conceptos-basicos-sobre-autoconsumo-1107/register">https://indawsodoo-clima-energia.odoo.com/event/taller-on-line-conectate-al-sol-como-autoproducir-la-energia-que-necesitas-conceptos-basicos-sobre-autoconsumo-1107/register</a></p><br />
SUMMARY:Taller Online: Conéctate al Sol. Cómo autoproducir la energía que necesitas
ORGANIZER:Oficina de l'Energia
URL;VALUE=URI:https://orriolsenpositivo.es/actividades/taller-online-conectate-al-sol-como-autoproducir-la-energia-que-necesitas/
TRANSP:OPAQUE
END:VEVENT
END:VCALENDAR
