BEGIN:VCALENDAR
VERSION:2.0
PRODID:-//Orriols en Positivo//NONSGML CREACIÓN DE VELAS //EN
CALSCALE:GREGORIAN
X-WR-CALNAME:CREACIÓN DE VELAS - Orriols en Positivo
X-Robots-Tag:noindex
X-WR-TIMEZONE:Europe/Madrid
BEGIN:VTIMEZONE
TZID:Europe/Madrid
X-LIC-LOCATION:Europe/Madrid
BEGIN:DAYLIGHT
TZOFFSETFROM:+0100
TZOFFSETTO:+0200
TZNAME:CEST
DTSTART:19700329T020000
RRULE:FREQ=YEARLY;BYMONTH=3;BYDAY=-1SU
END:DAYLIGHT
BEGIN:STANDARD
TZOFFSETFROM:+0200
TZOFFSETTO:+0100
TZNAME:CET
DTSTART:19701025T030000
RRULE:FREQ=YEARLY;BYMONTH=10;BYDAY=-1SU
END:STANDARD
END:VTIMEZONE
BEGIN:VEVENT
CREATED:20260303T093721Z
UID:206
DTSTART;TZID=Europe/Madrid:20260331T173000
DTEND;TZID=Europe/Madrid:20260331T193000
DTSTAMP:20260420T113816Z
LOCATION:C/ Santiago Rusinyol\, 3 (Alquería Albors)
DESCRIPTION;ENCODING=QUOTED-PRINTABLE:<p>Aprenderemos el arte de hacer velas para poder regalar a quién queramos\, incluso a tí mismo.</p><br /><p>Inscríbete aquí: <a href="https://forms.gle/cn5LSBWuZX26xA16A">https://forms.gle/cn5LSBWuZX26xA16A</a></p><br />
X-ALT-DESC;FMTTYPE=text/html:<p>Aprenderemos el arte de hacer velas para poder regalar a quién queramos\, incluso a tí mismo.</p><br /><p>Inscríbete aquí: <a href="https://forms.gle/cn5LSBWuZX26xA16A">https://forms.gle/cn5LSBWuZX26xA16A</a></p><br />
SUMMARY:CREACIÓN DE VELAS
ORGANIZER:CMJ Orriols
URL;VALUE=URI:https://orriolsenpositivo.es/actividades/creacion-de-velas/
TRANSP:OPAQUE
END:VEVENT
BEGIN:VEVENT
CREATED:20260303T093721Z
UID:205
DTSTART;TZID=Europe/Madrid:20260330T173000
DTEND;TZID=Europe/Madrid:20260330T193000
DTSTAMP:20260420T113816Z
LOCATION:C/ Santiago Rusinyol\, 3 (Alquería Albors)
DESCRIPTION;ENCODING=QUOTED-PRINTABLE:<p>Aprenderemos el arte de hacer velas para poder regalar a quién queramos\, incluso a tí mismo.</p><br /><p>Inscríbete aquí: <a href="https://forms.gle/cn5LSBWuZX26xA16A">https://forms.gle/cn5LSBWuZX26xA16A</a></p><br />
X-ALT-DESC;FMTTYPE=text/html:<p>Aprenderemos el arte de hacer velas para poder regalar a quién queramos\, incluso a tí mismo.</p><br /><p>Inscríbete aquí: <a href="https://forms.gle/cn5LSBWuZX26xA16A">https://forms.gle/cn5LSBWuZX26xA16A</a></p><br />
SUMMARY:CREACIÓN DE VELAS
ORGANIZER:CMJ Orriols
URL;VALUE=URI:https://orriolsenpositivo.es/actividades/creacion-de-velas/
TRANSP:OPAQUE
END:VEVENT
END:VCALENDAR
