BEGIN:VCALENDAR
VERSION:2.0
PRODID:-//Orriols en Positivo//NONSGML Pinta tu saquito fallero //EN
CALSCALE:GREGORIAN
X-WR-CALNAME:Pinta tu saquito fallero - Orriols en Positivo
X-Robots-Tag:noindex
X-WR-TIMEZONE:Europe/Madrid
BEGIN:VTIMEZONE
TZID:Europe/Madrid
X-LIC-LOCATION:Europe/Madrid
BEGIN:DAYLIGHT
TZOFFSETFROM:+0100
TZOFFSETTO:+0200
TZNAME:CEST
DTSTART:19700329T020000
RRULE:FREQ=YEARLY;BYMONTH=3;BYDAY=-1SU
END:DAYLIGHT
BEGIN:STANDARD
TZOFFSETFROM:+0200
TZOFFSETTO:+0100
TZNAME:CET
DTSTART:19701025T030000
RRULE:FREQ=YEARLY;BYMONTH=10;BYDAY=-1SU
END:STANDARD
END:VTIMEZONE
BEGIN:VEVENT
CREATED:20260303T093123Z
UID:204
DTSTART;TZID=Europe/Madrid:20260313T173000
DTEND;TZID=Europe/Madrid:20260313T193000
DTSTAMP:20260420T130626Z
LOCATION:C/ Santiago Rusinyol\, 3 (Alquería Albors)
DESCRIPTION;ENCODING=QUOTED-PRINTABLE:<p>Decoraremos un saquito con pinturas textiles y motivos falleros.</p><br /><p>Inscríbete aquí: <a href="https://forms.gle/CJJWoMoua8f4KA5y7">https://forms.gle/CJJWoMoua8f4KA5y7</a></p><br />
X-ALT-DESC;FMTTYPE=text/html:<p>Decoraremos un saquito con pinturas textiles y motivos falleros.</p><br /><p>Inscríbete aquí: <a href="https://forms.gle/CJJWoMoua8f4KA5y7">https://forms.gle/CJJWoMoua8f4KA5y7</a></p><br />
SUMMARY:Pinta tu saquito fallero
ORGANIZER:CMJ Orriols
URL;VALUE=URI:https://orriolsenpositivo.es/actividades/pinta-tu-saquito-fallero/
TRANSP:OPAQUE
END:VEVENT
BEGIN:VEVENT
CREATED:20260303T093123Z
UID:203
DTSTART;TZID=Europe/Madrid:20260309T173000
DTEND;TZID=Europe/Madrid:20260309T193000
DTSTAMP:20260420T130626Z
LOCATION:C/ Santiago Rusinyol\, 3 (Alquería Albors)
DESCRIPTION;ENCODING=QUOTED-PRINTABLE:<p>Decoraremos un saquito con pinturas textiles y motivos falleros.</p><br /><p>Inscríbete aquí: <a href="https://forms.gle/CJJWoMoua8f4KA5y7">https://forms.gle/CJJWoMoua8f4KA5y7</a></p><br />
X-ALT-DESC;FMTTYPE=text/html:<p>Decoraremos un saquito con pinturas textiles y motivos falleros.</p><br /><p>Inscríbete aquí: <a href="https://forms.gle/CJJWoMoua8f4KA5y7">https://forms.gle/CJJWoMoua8f4KA5y7</a></p><br />
SUMMARY:Pinta tu saquito fallero
ORGANIZER:CMJ Orriols
URL;VALUE=URI:https://orriolsenpositivo.es/actividades/pinta-tu-saquito-fallero/
TRANSP:OPAQUE
END:VEVENT
END:VCALENDAR
