BEGIN:VCALENDAR
VERSION:2.0
PRODID:-//Orriols en Positivo//NONSGML Roleando. Aventura de Dungeons&amp;Dragons //EN
CALSCALE:GREGORIAN
X-WR-CALNAME:Roleando. Aventura de Dungeons&amp;Dragons - Orriols en Positivo
X-Robots-Tag:noindex
X-WR-TIMEZONE:Europe/Madrid
BEGIN:VTIMEZONE
TZID:Europe/Madrid
X-LIC-LOCATION:Europe/Madrid
BEGIN:DAYLIGHT
TZOFFSETFROM:+0100
TZOFFSETTO:+0200
TZNAME:CEST
DTSTART:19700329T020000
RRULE:FREQ=YEARLY;BYMONTH=3;BYDAY=-1SU
END:DAYLIGHT
BEGIN:STANDARD
TZOFFSETFROM:+0200
TZOFFSETTO:+0100
TZNAME:CET
DTSTART:19701025T030000
RRULE:FREQ=YEARLY;BYMONTH=10;BYDAY=-1SU
END:STANDARD
END:VTIMEZONE
BEGIN:VEVENT
CREATED:20260303T092656Z
UID:202
DTSTART;TZID=Europe/Madrid:20260331T173000
DTEND;TZID=Europe/Madrid:20260331T193000
DTSTAMP:20260420T113946Z
LOCATION:C/ Santiago Rusinyol\, 3 (Alquería Albors)
DESCRIPTION;ENCODING=QUOTED-PRINTABLE:<p>¡Ven a jugar una partida de Dungeons&amp\;Dragons\, el juego de rol más popular de todos los tiempos! La aventura te espera\, ¡únete!</p><br /><p>Inscríbete aquí: <a href="https://www.joventut-valencia.es/actividad/3853/roleando-aventura-de-dungeons-dragons/">https://www.joventut-valencia.es/actividad/3853/roleando-aventura-de-dungeons-dragons/</a></p><br />
X-ALT-DESC;FMTTYPE=text/html:<p>¡Ven a jugar una partida de Dungeons&amp\;Dragons\, el juego de rol más popular de todos los tiempos! La aventura te espera\, ¡únete!</p><br /><p>Inscríbete aquí: <a href="https://www.joventut-valencia.es/actividad/3853/roleando-aventura-de-dungeons-dragons/">https://www.joventut-valencia.es/actividad/3853/roleando-aventura-de-dungeons-dragons/</a></p><br />
SUMMARY:Roleando. Aventura de Dungeons&amp\;Dragons
ORGANIZER:CMJ Orriols
URL;VALUE=URI:https://orriolsenpositivo.es/actividades/roleando-aventura-de-dungeonsdragons/
TRANSP:OPAQUE
END:VEVENT
BEGIN:VEVENT
CREATED:20260303T092656Z
UID:201
DTSTART;TZID=Europe/Madrid:20260326T173000
DTEND;TZID=Europe/Madrid:20260326T193000
DTSTAMP:20260420T113946Z
LOCATION:C/ Santiago Rusinyol\, 3 (Alquería Albors)
DESCRIPTION;ENCODING=QUOTED-PRINTABLE:<p>¡Ven a jugar una partida de Dungeons&amp\;Dragons\, el juego de rol más popular de todos los tiempos! La aventura te espera\, ¡únete!</p><br /><p>Inscríbete aquí: <a href="https://www.joventut-valencia.es/actividad/3853/roleando-aventura-de-dungeons-dragons/">https://www.joventut-valencia.es/actividad/3853/roleando-aventura-de-dungeons-dragons/</a></p><br />
X-ALT-DESC;FMTTYPE=text/html:<p>¡Ven a jugar una partida de Dungeons&amp\;Dragons\, el juego de rol más popular de todos los tiempos! La aventura te espera\, ¡únete!</p><br /><p>Inscríbete aquí: <a href="https://www.joventut-valencia.es/actividad/3853/roleando-aventura-de-dungeons-dragons/">https://www.joventut-valencia.es/actividad/3853/roleando-aventura-de-dungeons-dragons/</a></p><br />
SUMMARY:Roleando. Aventura de Dungeons&amp\;Dragons
ORGANIZER:CMJ Orriols
URL;VALUE=URI:https://orriolsenpositivo.es/actividades/roleando-aventura-de-dungeonsdragons/
TRANSP:OPAQUE
END:VEVENT
BEGIN:VEVENT
CREATED:20260303T092656Z
UID:200
DTSTART;TZID=Europe/Madrid:20260324T173000
DTEND;TZID=Europe/Madrid:20260324T193000
DTSTAMP:20260420T113946Z
LOCATION:C/ Santiago Rusinyol\, 3 (Alquería Albors)
DESCRIPTION;ENCODING=QUOTED-PRINTABLE:<p>¡Ven a jugar una partida de Dungeons&amp\;Dragons\, el juego de rol más popular de todos los tiempos! La aventura te espera\, ¡únete!</p><br /><p>Inscríbete aquí: <a href="https://www.joventut-valencia.es/actividad/3853/roleando-aventura-de-dungeons-dragons/">https://www.joventut-valencia.es/actividad/3853/roleando-aventura-de-dungeons-dragons/</a></p><br />
X-ALT-DESC;FMTTYPE=text/html:<p>¡Ven a jugar una partida de Dungeons&amp\;Dragons\, el juego de rol más popular de todos los tiempos! La aventura te espera\, ¡únete!</p><br /><p>Inscríbete aquí: <a href="https://www.joventut-valencia.es/actividad/3853/roleando-aventura-de-dungeons-dragons/">https://www.joventut-valencia.es/actividad/3853/roleando-aventura-de-dungeons-dragons/</a></p><br />
SUMMARY:Roleando. Aventura de Dungeons&amp\;Dragons
ORGANIZER:CMJ Orriols
URL;VALUE=URI:https://orriolsenpositivo.es/actividades/roleando-aventura-de-dungeonsdragons/
TRANSP:OPAQUE
END:VEVENT
END:VCALENDAR
