BEGIN:VCALENDAR
VERSION:2.0
PRODID:-//Orriols en Positivo//NONSGML Cuina Orriolera //EN
CALSCALE:GREGORIAN
X-WR-CALNAME:Cuina Orriolera - Orriols en Positivo
X-Robots-Tag:noindex
X-WR-TIMEZONE:Europe/Madrid
BEGIN:VTIMEZONE
TZID:Europe/Madrid
X-LIC-LOCATION:Europe/Madrid
BEGIN:DAYLIGHT
TZOFFSETFROM:+0100
TZOFFSETTO:+0200
TZNAME:CEST
DTSTART:19700329T020000
RRULE:FREQ=YEARLY;BYMONTH=3;BYDAY=-1SU
END:DAYLIGHT
BEGIN:STANDARD
TZOFFSETFROM:+0200
TZOFFSETTO:+0100
TZNAME:CET
DTSTART:19701025T030000
RRULE:FREQ=YEARLY;BYMONTH=10;BYDAY=-1SU
END:STANDARD
END:VTIMEZONE
BEGIN:VEVENT
CREATED:20260303T092211Z
UID:219
DTSTART;TZID=Europe/Madrid:20260616T173000
DTEND;TZID=Europe/Madrid:20260616T193000
DTSTAMP:20260422T083146Z
LOCATION:C/ Santiago Rusinyol\, 3 (Alquería Albors)
DESCRIPTION;ENCODING=QUOTED-PRINTABLE:<p>Taller de Cocina para jóvenes principiantes de 18 a 30 años</p><br /><p>Inscríbete aquí: <a href="https://forms.gle/QH5dZRVaXKsVRZEM7">https://forms.gle/QH5dZRVaXKsVRZEM7</a></p><br />
X-ALT-DESC;FMTTYPE=text/html:<p>Taller de Cocina para jóvenes principiantes de 18 a 30 años</p><br /><p>Inscríbete aquí: <a href="https://forms.gle/QH5dZRVaXKsVRZEM7">https://forms.gle/QH5dZRVaXKsVRZEM7</a></p><br />
SUMMARY:Cuina Orriolera
ORGANIZER:CMJ Orriols
URL;VALUE=URI:https://orriolsenpositivo.es/actividades/cuina-orriolera/
TRANSP:OPAQUE
END:VEVENT
BEGIN:VEVENT
CREATED:20260303T092211Z
UID:218
DTSTART;TZID=Europe/Madrid:20260609T173000
DTEND;TZID=Europe/Madrid:20260609T193000
DTSTAMP:20260422T083146Z
LOCATION:C/ Santiago Rusinyol\, 3 (Alquería Albors)
DESCRIPTION;ENCODING=QUOTED-PRINTABLE:<p>Taller de Cocina para jóvenes principiantes de 18 a 30 años</p><br /><p>Inscríbete aquí: <a href="https://forms.gle/QH5dZRVaXKsVRZEM7">https://forms.gle/QH5dZRVaXKsVRZEM7</a></p><br />
X-ALT-DESC;FMTTYPE=text/html:<p>Taller de Cocina para jóvenes principiantes de 18 a 30 años</p><br /><p>Inscríbete aquí: <a href="https://forms.gle/QH5dZRVaXKsVRZEM7">https://forms.gle/QH5dZRVaXKsVRZEM7</a></p><br />
SUMMARY:Cuina Orriolera
ORGANIZER:CMJ Orriols
URL;VALUE=URI:https://orriolsenpositivo.es/actividades/cuina-orriolera/
TRANSP:OPAQUE
END:VEVENT
BEGIN:VEVENT
CREATED:20260303T092211Z
UID:217
DTSTART;TZID=Europe/Madrid:20260602T173000
DTEND;TZID=Europe/Madrid:20260602T193000
DTSTAMP:20260422T083146Z
LOCATION:C/ Santiago Rusinyol\, 3 (Alquería Albors)
DESCRIPTION;ENCODING=QUOTED-PRINTABLE:<p>Taller de Cocina para jóvenes principiantes de 18 a 30 años</p><br /><p>Inscríbete aquí: <a href="https://forms.gle/QH5dZRVaXKsVRZEM7">https://forms.gle/QH5dZRVaXKsVRZEM7</a></p><br />
X-ALT-DESC;FMTTYPE=text/html:<p>Taller de Cocina para jóvenes principiantes de 18 a 30 años</p><br /><p>Inscríbete aquí: <a href="https://forms.gle/QH5dZRVaXKsVRZEM7">https://forms.gle/QH5dZRVaXKsVRZEM7</a></p><br />
SUMMARY:Cuina Orriolera
ORGANIZER:CMJ Orriols
URL;VALUE=URI:https://orriolsenpositivo.es/actividades/cuina-orriolera/
TRANSP:OPAQUE
END:VEVENT
BEGIN:VEVENT
CREATED:20260303T092211Z
UID:216
DTSTART;TZID=Europe/Madrid:20260526T173000
DTEND;TZID=Europe/Madrid:20260526T193000
DTSTAMP:20260422T083146Z
LOCATION:C/ Santiago Rusinyol\, 3 (Alquería Albors)
DESCRIPTION;ENCODING=QUOTED-PRINTABLE:<p>Taller de Cocina para jóvenes principiantes de 18 a 30 años</p><br /><p>Inscríbete aquí: <a href="https://forms.gle/QH5dZRVaXKsVRZEM7">https://forms.gle/QH5dZRVaXKsVRZEM7</a></p><br />
X-ALT-DESC;FMTTYPE=text/html:<p>Taller de Cocina para jóvenes principiantes de 18 a 30 años</p><br /><p>Inscríbete aquí: <a href="https://forms.gle/QH5dZRVaXKsVRZEM7">https://forms.gle/QH5dZRVaXKsVRZEM7</a></p><br />
SUMMARY:Cuina Orriolera
ORGANIZER:CMJ Orriols
URL;VALUE=URI:https://orriolsenpositivo.es/actividades/cuina-orriolera/
TRANSP:OPAQUE
END:VEVENT
BEGIN:VEVENT
CREATED:20260303T092211Z
UID:215
DTSTART;TZID=Europe/Madrid:20260519T173000
DTEND;TZID=Europe/Madrid:20260519T193000
DTSTAMP:20260422T083146Z
LOCATION:C/ Santiago Rusinyol\, 3 (Alquería Albors)
DESCRIPTION;ENCODING=QUOTED-PRINTABLE:<p>Taller de Cocina para jóvenes principiantes de 18 a 30 años</p><br /><p>Inscríbete aquí: <a href="https://forms.gle/QH5dZRVaXKsVRZEM7">https://forms.gle/QH5dZRVaXKsVRZEM7</a></p><br />
X-ALT-DESC;FMTTYPE=text/html:<p>Taller de Cocina para jóvenes principiantes de 18 a 30 años</p><br /><p>Inscríbete aquí: <a href="https://forms.gle/QH5dZRVaXKsVRZEM7">https://forms.gle/QH5dZRVaXKsVRZEM7</a></p><br />
SUMMARY:Cuina Orriolera
ORGANIZER:CMJ Orriols
URL;VALUE=URI:https://orriolsenpositivo.es/actividades/cuina-orriolera/
TRANSP:OPAQUE
END:VEVENT
BEGIN:VEVENT
CREATED:20260303T092211Z
UID:214
DTSTART;TZID=Europe/Madrid:20260512T173000
DTEND;TZID=Europe/Madrid:20260512T193000
DTSTAMP:20260422T083146Z
LOCATION:C/ Santiago Rusinyol\, 3 (Alquería Albors)
DESCRIPTION;ENCODING=QUOTED-PRINTABLE:<p>Taller de Cocina para jóvenes principiantes de 18 a 30 años</p><br /><p>Inscríbete aquí: <a href="https://forms.gle/QH5dZRVaXKsVRZEM7">https://forms.gle/QH5dZRVaXKsVRZEM7</a></p><br />
X-ALT-DESC;FMTTYPE=text/html:<p>Taller de Cocina para jóvenes principiantes de 18 a 30 años</p><br /><p>Inscríbete aquí: <a href="https://forms.gle/QH5dZRVaXKsVRZEM7">https://forms.gle/QH5dZRVaXKsVRZEM7</a></p><br />
SUMMARY:Cuina Orriolera
ORGANIZER:CMJ Orriols
URL;VALUE=URI:https://orriolsenpositivo.es/actividades/cuina-orriolera/
TRANSP:OPAQUE
END:VEVENT
BEGIN:VEVENT
CREATED:20260303T092211Z
UID:213
DTSTART;TZID=Europe/Madrid:20260505T173000
DTEND;TZID=Europe/Madrid:20260505T193000
DTSTAMP:20260422T083146Z
LOCATION:C/ Santiago Rusinyol\, 3 (Alquería Albors)
DESCRIPTION;ENCODING=QUOTED-PRINTABLE:<p>Taller de Cocina para jóvenes principiantes de 18 a 30 años</p><br /><p>Inscríbete aquí: <a href="https://forms.gle/QH5dZRVaXKsVRZEM7">https://forms.gle/QH5dZRVaXKsVRZEM7</a></p><br />
X-ALT-DESC;FMTTYPE=text/html:<p>Taller de Cocina para jóvenes principiantes de 18 a 30 años</p><br /><p>Inscríbete aquí: <a href="https://forms.gle/QH5dZRVaXKsVRZEM7">https://forms.gle/QH5dZRVaXKsVRZEM7</a></p><br />
SUMMARY:Cuina Orriolera
ORGANIZER:CMJ Orriols
URL;VALUE=URI:https://orriolsenpositivo.es/actividades/cuina-orriolera/
TRANSP:OPAQUE
END:VEVENT
BEGIN:VEVENT
CREATED:20260303T092211Z
UID:212
DTSTART;TZID=Europe/Madrid:20260428T173000
DTEND;TZID=Europe/Madrid:20260428T193000
DTSTAMP:20260422T083146Z
LOCATION:C/ Santiago Rusinyol\, 3 (Alquería Albors)
DESCRIPTION;ENCODING=QUOTED-PRINTABLE:<p>Taller de Cocina para jóvenes principiantes de 18 a 30 años</p><br /><p>Inscríbete aquí: <a href="https://forms.gle/QH5dZRVaXKsVRZEM7">https://forms.gle/QH5dZRVaXKsVRZEM7</a></p><br />
X-ALT-DESC;FMTTYPE=text/html:<p>Taller de Cocina para jóvenes principiantes de 18 a 30 años</p><br /><p>Inscríbete aquí: <a href="https://forms.gle/QH5dZRVaXKsVRZEM7">https://forms.gle/QH5dZRVaXKsVRZEM7</a></p><br />
SUMMARY:Cuina Orriolera
ORGANIZER:CMJ Orriols
URL;VALUE=URI:https://orriolsenpositivo.es/actividades/cuina-orriolera/
TRANSP:OPAQUE
END:VEVENT
BEGIN:VEVENT
CREATED:20260303T092211Z
UID:211
DTSTART;TZID=Europe/Madrid:20260421T173000
DTEND;TZID=Europe/Madrid:20260421T193000
DTSTAMP:20260422T083146Z
LOCATION:C/ Santiago Rusinyol\, 3 (Alquería Albors)
DESCRIPTION;ENCODING=QUOTED-PRINTABLE:<p>Taller de Cocina para jóvenes principiantes de 18 a 30 años</p><br /><p>Inscríbete aquí: <a href="https://forms.gle/QH5dZRVaXKsVRZEM7">https://forms.gle/QH5dZRVaXKsVRZEM7</a></p><br />
X-ALT-DESC;FMTTYPE=text/html:<p>Taller de Cocina para jóvenes principiantes de 18 a 30 años</p><br /><p>Inscríbete aquí: <a href="https://forms.gle/QH5dZRVaXKsVRZEM7">https://forms.gle/QH5dZRVaXKsVRZEM7</a></p><br />
SUMMARY:Cuina Orriolera
ORGANIZER:CMJ Orriols
URL;VALUE=URI:https://orriolsenpositivo.es/actividades/cuina-orriolera/
TRANSP:OPAQUE
END:VEVENT
BEGIN:VEVENT
CREATED:20260303T092211Z
UID:210
DTSTART;TZID=Europe/Madrid:20260414T173000
DTEND;TZID=Europe/Madrid:20260414T193000
DTSTAMP:20260422T083146Z
LOCATION:C/ Santiago Rusinyol\, 3 (Alquería Albors)
DESCRIPTION;ENCODING=QUOTED-PRINTABLE:<p>Taller de Cocina para jóvenes principiantes de 18 a 30 años</p><br /><p>Inscríbete aquí: <a href="https://forms.gle/QH5dZRVaXKsVRZEM7">https://forms.gle/QH5dZRVaXKsVRZEM7</a></p><br />
X-ALT-DESC;FMTTYPE=text/html:<p>Taller de Cocina para jóvenes principiantes de 18 a 30 años</p><br /><p>Inscríbete aquí: <a href="https://forms.gle/QH5dZRVaXKsVRZEM7">https://forms.gle/QH5dZRVaXKsVRZEM7</a></p><br />
SUMMARY:Cuina Orriolera
ORGANIZER:CMJ Orriols
URL;VALUE=URI:https://orriolsenpositivo.es/actividades/cuina-orriolera/
TRANSP:OPAQUE
END:VEVENT
BEGIN:VEVENT
CREATED:20260303T092211Z
UID:209
DTSTART;TZID=Europe/Madrid:20260407T173000
DTEND;TZID=Europe/Madrid:20260407T193000
DTSTAMP:20260422T083146Z
LOCATION:C/ Santiago Rusinyol\, 3 (Alquería Albors)
DESCRIPTION;ENCODING=QUOTED-PRINTABLE:<p>Taller de Cocina para jóvenes principiantes de 18 a 30 años</p><br /><p>Inscríbete aquí: <a href="https://forms.gle/QH5dZRVaXKsVRZEM7">https://forms.gle/QH5dZRVaXKsVRZEM7</a></p><br />
X-ALT-DESC;FMTTYPE=text/html:<p>Taller de Cocina para jóvenes principiantes de 18 a 30 años</p><br /><p>Inscríbete aquí: <a href="https://forms.gle/QH5dZRVaXKsVRZEM7">https://forms.gle/QH5dZRVaXKsVRZEM7</a></p><br />
SUMMARY:Cuina Orriolera
ORGANIZER:CMJ Orriols
URL;VALUE=URI:https://orriolsenpositivo.es/actividades/cuina-orriolera/
TRANSP:OPAQUE
END:VEVENT
BEGIN:VEVENT
CREATED:20260303T092211Z
UID:208
DTSTART;TZID=Europe/Madrid:20260331T173000
DTEND;TZID=Europe/Madrid:20260331T193000
DTSTAMP:20260422T083146Z
LOCATION:C/ Santiago Rusinyol\, 3 (Alquería Albors)
DESCRIPTION;ENCODING=QUOTED-PRINTABLE:<p>Taller de Cocina para jóvenes principiantes de 18 a 30 años</p><br /><p>Inscríbete aquí: <a href="https://forms.gle/QH5dZRVaXKsVRZEM7">https://forms.gle/QH5dZRVaXKsVRZEM7</a></p><br />
X-ALT-DESC;FMTTYPE=text/html:<p>Taller de Cocina para jóvenes principiantes de 18 a 30 años</p><br /><p>Inscríbete aquí: <a href="https://forms.gle/QH5dZRVaXKsVRZEM7">https://forms.gle/QH5dZRVaXKsVRZEM7</a></p><br />
SUMMARY:Cuina Orriolera
ORGANIZER:CMJ Orriols
URL;VALUE=URI:https://orriolsenpositivo.es/actividades/cuina-orriolera/
TRANSP:OPAQUE
END:VEVENT
BEGIN:VEVENT
CREATED:20260303T092211Z
UID:207
DTSTART;TZID=Europe/Madrid:20260324T173000
DTEND;TZID=Europe/Madrid:20260324T193000
DTSTAMP:20260422T083146Z
LOCATION:C/ Santiago Rusinyol\, 3 (Alquería Albors)
DESCRIPTION;ENCODING=QUOTED-PRINTABLE:<p>Taller de Cocina para jóvenes principiantes de 18 a 30 años</p><br /><p>Inscríbete aquí: <a href="https://forms.gle/QH5dZRVaXKsVRZEM7">https://forms.gle/QH5dZRVaXKsVRZEM7</a></p><br />
X-ALT-DESC;FMTTYPE=text/html:<p>Taller de Cocina para jóvenes principiantes de 18 a 30 años</p><br /><p>Inscríbete aquí: <a href="https://forms.gle/QH5dZRVaXKsVRZEM7">https://forms.gle/QH5dZRVaXKsVRZEM7</a></p><br />
SUMMARY:Cuina Orriolera
ORGANIZER:CMJ Orriols
URL;VALUE=URI:https://orriolsenpositivo.es/actividades/cuina-orriolera/
TRANSP:OPAQUE
END:VEVENT
END:VCALENDAR
