BEGIN:VCALENDAR
VERSION:2.0
PRODID:-//Orriols en Positivo//NONSGML Asesoría de Vivienda //EN
CALSCALE:GREGORIAN
X-WR-CALNAME:Asesoría de Vivienda - Orriols en Positivo
X-Robots-Tag:noindex
X-WR-TIMEZONE:Europe/Madrid
BEGIN:VTIMEZONE
TZID:Europe/Madrid
X-LIC-LOCATION:Europe/Madrid
BEGIN:DAYLIGHT
TZOFFSETFROM:+0100
TZOFFSETTO:+0200
TZNAME:CEST
DTSTART:19700329T020000
RRULE:FREQ=YEARLY;BYMONTH=3;BYDAY=-1SU
END:DAYLIGHT
BEGIN:STANDARD
TZOFFSETFROM:+0200
TZOFFSETTO:+0100
TZNAME:CET
DTSTART:19701025T030000
RRULE:FREQ=YEARLY;BYMONTH=10;BYDAY=-1SU
END:STANDARD
END:VTIMEZONE
BEGIN:VEVENT
CREATED:20260303T075803Z
UID:196
DTSTART;TZID=Europe/Madrid:20260323T190000
DTEND;TZID=Europe/Madrid:20260323T203000
DTSTAMP:20260420T132150Z
LOCATION:C/ Duc de Mandas\, 23
DESCRIPTION;ENCODING=QUOTED-PRINTABLE:<p>¿Tienes problemas con tu casero?<br />¿Te quieren echar de casa?<br />¿Te suben el alquiler?<br />¿No te devuelven la fianza?<br />¿Te están cobrando gastos de comunidad?</p><br /><p>¡Ven al sindicato y te asesoramos!</p><br />
X-ALT-DESC;FMTTYPE=text/html:<p>¿Tienes problemas con tu casero?<br />¿Te quieren echar de casa?<br />¿Te suben el alquiler?<br />¿No te devuelven la fianza?<br />¿Te están cobrando gastos de comunidad?</p><br /><p>¡Ven al sindicato y te asesoramos!</p><br />
SUMMARY:Asesoría de Vivienda
ORGANIZER:Sindicat de Barri d'Orriols
URL;VALUE=URI:https://orriolsenpositivo.es/actividades/asesoria-de-vivienda/
TRANSP:OPAQUE
END:VEVENT
BEGIN:VEVENT
CREATED:20260303T075803Z
UID:195
DTSTART;TZID=Europe/Madrid:20260309T190000
DTEND;TZID=Europe/Madrid:20260309T203000
DTSTAMP:20260420T132150Z
LOCATION:C/ Duc de Mandas\, 23
DESCRIPTION;ENCODING=QUOTED-PRINTABLE:<p>¿Tienes problemas con tu casero?<br />¿Te quieren echar de casa?<br />¿Te suben el alquiler?<br />¿No te devuelven la fianza?<br />¿Te están cobrando gastos de comunidad?</p><br /><p>¡Ven al sindicato y te asesoramos!</p><br />
X-ALT-DESC;FMTTYPE=text/html:<p>¿Tienes problemas con tu casero?<br />¿Te quieren echar de casa?<br />¿Te suben el alquiler?<br />¿No te devuelven la fianza?<br />¿Te están cobrando gastos de comunidad?</p><br /><p>¡Ven al sindicato y te asesoramos!</p><br />
SUMMARY:Asesoría de Vivienda
ORGANIZER:Sindicat de Barri d'Orriols
URL;VALUE=URI:https://orriolsenpositivo.es/actividades/asesoria-de-vivienda/
TRANSP:OPAQUE
END:VEVENT
END:VCALENDAR
