BEGIN:VCALENDAR
VERSION:2.0
PRODID:-//Orriols en Positivo//NONSGML Autoestima en la infancia //EN
CALSCALE:GREGORIAN
X-WR-CALNAME:Autoestima en la infancia - Orriols en Positivo
X-Robots-Tag:noindex
X-WR-TIMEZONE:Europe/Madrid
BEGIN:VTIMEZONE
TZID:Europe/Madrid
X-LIC-LOCATION:Europe/Madrid
BEGIN:DAYLIGHT
TZOFFSETFROM:+0100
TZOFFSETTO:+0200
TZNAME:CEST
DTSTART:19700329T020000
RRULE:FREQ=YEARLY;BYMONTH=3;BYDAY=-1SU
END:DAYLIGHT
BEGIN:STANDARD
TZOFFSETFROM:+0200
TZOFFSETTO:+0100
TZNAME:CET
DTSTART:19701025T030000
RRULE:FREQ=YEARLY;BYMONTH=10;BYDAY=-1SU
END:STANDARD
END:VTIMEZONE
BEGIN:VEVENT
CREATED:20260302T111204Z
UID:194
DTSTART;TZID=Europe/Madrid:20260311T170000
DTEND;TZID=Europe/Madrid:20260311T180000
DTSTAMP:20260420T132319Z
LOCATION:Centro Municipal de Juventud de Orriols: Carrer de Santiago Rusiñol\, 3\, Rascanya\, 46019 València\, Valencia
DESCRIPTION;ENCODING=QUOTED-PRINTABLE:<p>En este taller se van a explorar diferentes estrategias que faciliten el fortalecer la autoestima en familia\, promoviendo vínculos afectivos sanos y una comunicación positiva que favorezca el bienestar emocional. La idea es reconocer fortalezas\, validar emociones y acompañar a nuestros hijos e hijas de manera respetuosa y amorosa en el desarrollo de una imagen personal segura y positiva.</p><br />
X-ALT-DESC;FMTTYPE=text/html:<p>En este taller se van a explorar diferentes estrategias que faciliten el fortalecer la autoestima en familia\, promoviendo vínculos afectivos sanos y una comunicación positiva que favorezca el bienestar emocional. La idea es reconocer fortalezas\, validar emociones y acompañar a nuestros hijos e hijas de manera respetuosa y amorosa en el desarrollo de una imagen personal segura y positiva.</p><br />
SUMMARY:Autoestima en la infancia
ORGANIZER:Despierta Sonrisas
URL;VALUE=URI:https://orriolsenpositivo.es/actividades/autoestima-en-la-infancia/
TRANSP:OPAQUE
END:VEVENT
END:VCALENDAR
