BEGIN:VCALENDAR
VERSION:2.0
PRODID:-//Orriols en Positivo//NONSGML Mercadillo Solidario //EN
CALSCALE:GREGORIAN
X-WR-CALNAME:Mercadillo Solidario - Orriols en Positivo
X-Robots-Tag:noindex
X-WR-TIMEZONE:Europe/Madrid
BEGIN:VTIMEZONE
TZID:Europe/Madrid
X-LIC-LOCATION:Europe/Madrid
BEGIN:DAYLIGHT
TZOFFSETFROM:+0100
TZOFFSETTO:+0200
TZNAME:CEST
DTSTART:19700329T020000
RRULE:FREQ=YEARLY;BYMONTH=3;BYDAY=-1SU
END:DAYLIGHT
BEGIN:STANDARD
TZOFFSETFROM:+0200
TZOFFSETTO:+0100
TZNAME:CET
DTSTART:19701025T030000
RRULE:FREQ=YEARLY;BYMONTH=10;BYDAY=-1SU
END:STANDARD
END:VTIMEZONE
BEGIN:VEVENT
CREATED:20260227T120711Z
UID:193
DTSTART;TZID=Europe/Madrid:20260304T163000
DTEND;TZID=Europe/Madrid:20260304T193000
DTSTAMP:20260422T095645Z
LOCATION:Calle Marqués de Montortal\, 65 Bajo
DESCRIPTION;ENCODING=QUOTED-PRINTABLE:<p>Mercadillo Solidario organizado por la asociación Tu Puerta Amiga.</p><br />
X-ALT-DESC;FMTTYPE=text/html:<p>Mercadillo Solidario organizado por la asociación Tu Puerta Amiga.</p><br />
SUMMARY:Mercadillo Solidario
ORGANIZER:Asociacion Valencia Acoge
URL;VALUE=URI:https://orriolsenpositivo.es/actividades/mercadillo-solidario/
TRANSP:OPAQUE
END:VEVENT
END:VCALENDAR
