BEGIN:VCALENDAR
VERSION:2.0
PRODID:-//Orriols en Positivo//NONSGML Inicio del curso de Administración //EN
CALSCALE:GREGORIAN
X-WR-CALNAME:Inicio del curso de Administración - Orriols en Positivo
X-Robots-Tag:noindex
X-WR-TIMEZONE:Europe/Madrid
BEGIN:VTIMEZONE
TZID:Europe/Madrid
X-LIC-LOCATION:Europe/Madrid
BEGIN:DAYLIGHT
TZOFFSETFROM:+0100
TZOFFSETTO:+0200
TZNAME:CEST
DTSTART:19700329T020000
RRULE:FREQ=YEARLY;BYMONTH=3;BYDAY=-1SU
END:DAYLIGHT
BEGIN:STANDARD
TZOFFSETFROM:+0200
TZOFFSETTO:+0100
TZNAME:CET
DTSTART:19701025T030000
RRULE:FREQ=YEARLY;BYMONTH=10;BYDAY=-1SU
END:STANDARD
END:VTIMEZONE
BEGIN:VEVENT
CREATED:20260227T114549Z
UID:191
DTSTART;TZID=Europe/Madrid:20260329T150000
DTEND;TZID=Europe/Madrid:20260329T211500
DTSTAMP:20260420T132046Z
LOCATION:Calle Arquitecto Tolsà\, 9 Bajo
DESCRIPTION;ENCODING=QUOTED-PRINTABLE:<p>Curso de administración organizado por la fundación Altius.</p><br />
X-ALT-DESC;FMTTYPE=text/html:<p>Curso de administración organizado por la fundación Altius.</p><br />
SUMMARY:Inicio del curso de Administración
ORGANIZER:Asociacion Valencia Acoge
URL;VALUE=URI:https://orriolsenpositivo.es/actividades/inicio-del-curso-de-administracion/
TRANSP:OPAQUE
END:VEVENT
END:VCALENDAR
