BEGIN:VCALENDAR
VERSION:2.0
PRODID:-//Orriols en Positivo//NONSGML Charla «Menopausia y sus Mitos» //EN
CALSCALE:GREGORIAN
X-WR-CALNAME:Charla «Menopausia y sus Mitos» - Orriols en Positivo
X-Robots-Tag:noindex
X-WR-TIMEZONE:Europe/Madrid
BEGIN:VTIMEZONE
TZID:Europe/Madrid
X-LIC-LOCATION:Europe/Madrid
BEGIN:DAYLIGHT
TZOFFSETFROM:+0100
TZOFFSETTO:+0200
TZNAME:CEST
DTSTART:19700329T020000
RRULE:FREQ=YEARLY;BYMONTH=3;BYDAY=-1SU
END:DAYLIGHT
BEGIN:STANDARD
TZOFFSETFROM:+0200
TZOFFSETTO:+0100
TZNAME:CET
DTSTART:19701025T030000
RRULE:FREQ=YEARLY;BYMONTH=10;BYDAY=-1SU
END:STANDARD
END:VTIMEZONE
BEGIN:VEVENT
CREATED:20260227T114200Z
UID:190
DTSTART;TZID=Europe/Madrid:20260327T120000
DTEND;TZID=Europe/Madrid:20260327T130000
DTSTAMP:20260420T131845Z
LOCATION:Calle San Vicente de Paul\, 77
DESCRIPTION;ENCODING=QUOTED-PRINTABLE:<p>Organizado por el Centro de Salud Arquitecto Tolsà</p><br />
X-ALT-DESC;FMTTYPE=text/html:<p>Organizado por el Centro de Salud Arquitecto Tolsà</p><br />
SUMMARY:Charla «Menopausia y sus Mitos»
ORGANIZER:Asociacion Valencia Acoge
URL;VALUE=URI:https://orriolsenpositivo.es/actividades/charla-menopausia-y-sus-mitos/
TRANSP:OPAQUE
END:VEVENT
END:VCALENDAR
