BEGIN:VCALENDAR
VERSION:2.0
PRODID:-//Orriols en Positivo//NONSGML Taller para familias sobre Igualdad y Oportunidades //EN
CALSCALE:GREGORIAN
X-WR-CALNAME:Taller para familias sobre Igualdad y Oportunidades - Orriols en Positivo
X-Robots-Tag:noindex
X-WR-TIMEZONE:Europe/Madrid
BEGIN:VTIMEZONE
TZID:Europe/Madrid
X-LIC-LOCATION:Europe/Madrid
BEGIN:DAYLIGHT
TZOFFSETFROM:+0100
TZOFFSETTO:+0200
TZNAME:CEST
DTSTART:19700329T020000
RRULE:FREQ=YEARLY;BYMONTH=3;BYDAY=-1SU
END:DAYLIGHT
BEGIN:STANDARD
TZOFFSETFROM:+0200
TZOFFSETTO:+0100
TZNAME:CET
DTSTART:19701025T030000
RRULE:FREQ=YEARLY;BYMONTH=10;BYDAY=-1SU
END:STANDARD
END:VTIMEZONE
BEGIN:VEVENT
CREATED:20260227T113750Z
UID:189
DTSTART;TZID=Europe/Madrid:20260325T171500
DTEND;TZID=Europe/Madrid:20260325T181500
DTSTAMP:20260420T131851Z
LOCATION:Calle Arquitecto Rodríguez\, 36
DESCRIPTION;ENCODING=QUOTED-PRINTABLE:<p>Organizado por Infancia Orriols</p><br />
X-ALT-DESC;FMTTYPE=text/html:<p>Organizado por Infancia Orriols</p><br />
SUMMARY:Taller para familias sobre Igualdad y Oportunidades
ORGANIZER:Asociacion Valencia Acoge
URL;VALUE=URI:https://orriolsenpositivo.es/actividades/taller-para-familias-sobre-igualdad-y-oportunidades/
TRANSP:OPAQUE
END:VEVENT
END:VCALENDAR
