BEGIN:VCALENDAR
VERSION:2.0
PRODID:-//Orriols en Positivo//NONSGML Taller de Compostaje //EN
CALSCALE:GREGORIAN
X-WR-CALNAME:Taller de Compostaje - Orriols en Positivo
X-Robots-Tag:noindex
X-WR-TIMEZONE:Europe/Madrid
BEGIN:VTIMEZONE
TZID:Europe/Madrid
X-LIC-LOCATION:Europe/Madrid
BEGIN:DAYLIGHT
TZOFFSETFROM:+0100
TZOFFSETTO:+0200
TZNAME:CEST
DTSTART:19700329T020000
RRULE:FREQ=YEARLY;BYMONTH=3;BYDAY=-1SU
END:DAYLIGHT
BEGIN:STANDARD
TZOFFSETFROM:+0200
TZOFFSETTO:+0100
TZNAME:CET
DTSTART:19701025T030000
RRULE:FREQ=YEARLY;BYMONTH=10;BYDAY=-1SU
END:STANDARD
END:VTIMEZONE
BEGIN:VEVENT
CREATED:20260227T113012Z
UID:187
DTSTART;TZID=Europe/Madrid:20260328T103000
DTEND;TZID=Europe/Madrid:20260328T113000
DTSTAMP:20260420T131000Z
LOCATION:Detrás del CEIP Antonio Machado
DESCRIPTION;ENCODING=QUOTED-PRINTABLE:<p>Taller de compostaje\, organizado por Paz y Desarrollo.</p><br />
X-ALT-DESC;FMTTYPE=text/html:<p>Taller de compostaje\, organizado por Paz y Desarrollo.</p><br />
SUMMARY:Taller de Compostaje
ORGANIZER:Asociacion Valencia Acoge
URL;VALUE=URI:https://orriolsenpositivo.es/actividades/taller-de-compostaje/
TRANSP:OPAQUE
END:VEVENT
END:VCALENDAR
