BEGIN:VCALENDAR
VERSION:2.0
PRODID:-//Orriols en Positivo//NONSGML Poesía reivindicativa //EN
CALSCALE:GREGORIAN
X-WR-CALNAME:Poesía reivindicativa - Orriols en Positivo
X-Robots-Tag:noindex
X-WR-TIMEZONE:Europe/Madrid
BEGIN:VTIMEZONE
TZID:Europe/Madrid
X-LIC-LOCATION:Europe/Madrid
BEGIN:DAYLIGHT
TZOFFSETFROM:+0100
TZOFFSETTO:+0200
TZNAME:CEST
DTSTART:19700329T020000
RRULE:FREQ=YEARLY;BYMONTH=3;BYDAY=-1SU
END:DAYLIGHT
BEGIN:STANDARD
TZOFFSETFROM:+0200
TZOFFSETTO:+0100
TZNAME:CET
DTSTART:19701025T030000
RRULE:FREQ=YEARLY;BYMONTH=10;BYDAY=-1SU
END:STANDARD
END:VTIMEZONE
BEGIN:VEVENT
CREATED:20260227T112312Z
UID:186
DTSTART;VALUE=DATE:20260310
DTEND;VALUE=DATE:20260311
DTSTAMP:20260420T131840Z
LOCATION:Parque Orriols
DESCRIPTION;ENCODING=QUOTED-PRINTABLE:<p>Poesía reivindicativa\, por la mañana y por la tarde. Organizado por la Asociació de Dones</p><br />
X-ALT-DESC;FMTTYPE=text/html:<p>Poesía reivindicativa\, por la mañana y por la tarde. Organizado por la Asociació de Dones</p><br />
SUMMARY:Poesía reivindicativa
ORGANIZER:Asociacion Valencia Acoge
URL;VALUE=URI:https://orriolsenpositivo.es/actividades/poesia-reivindicativa/
TRANSP:OPAQUE
END:VEVENT
END:VCALENDAR
