BEGIN:VCALENDAR
VERSION:2.0
PRODID:-//Orriols en Positivo//NONSGML Inicio Proyecto Interorriols //EN
CALSCALE:GREGORIAN
X-WR-CALNAME:Inicio Proyecto Interorriols - Orriols en Positivo
X-Robots-Tag:noindex
X-WR-TIMEZONE:Europe/Madrid
BEGIN:VTIMEZONE
TZID:Europe/Madrid
X-LIC-LOCATION:Europe/Madrid
BEGIN:DAYLIGHT
TZOFFSETFROM:+0100
TZOFFSETTO:+0200
TZNAME:CEST
DTSTART:19700329T020000
RRULE:FREQ=YEARLY;BYMONTH=3;BYDAY=-1SU
END:DAYLIGHT
BEGIN:STANDARD
TZOFFSETFROM:+0200
TZOFFSETTO:+0100
TZNAME:CET
DTSTART:19701025T030000
RRULE:FREQ=YEARLY;BYMONTH=10;BYDAY=-1SU
END:STANDARD
END:VTIMEZONE
BEGIN:VEVENT
CREATED:20260227T111458Z
UID:184
DTSTART;TZID=Europe/Madrid:20260310T180000
DTEND;TZID=Europe/Madrid:20260310T190000
DTSTAMP:20260420T131307Z
LOCATION:Calle Arquitecto Rodríguez\, 34 Bajo
DESCRIPTION;ENCODING=QUOTED-PRINTABLE:<p>Inicio del proyecto Interorriols\, organizado por la fundación Altius y Orriols Convive.</p><br />
X-ALT-DESC;FMTTYPE=text/html:<p>Inicio del proyecto Interorriols\, organizado por la fundación Altius y Orriols Convive.</p><br />
SUMMARY:Inicio Proyecto Interorriols
ORGANIZER:Asociacion Valencia Acoge
URL;VALUE=URI:https://orriolsenpositivo.es/actividades/inicio-proyecto-interorriols/
TRANSP:OPAQUE
END:VEVENT
BEGIN:VEVENT
CREATED:20260227T111458Z
UID:183
DTSTART;TZID=Europe/Madrid:20260310T110000
DTEND;TZID=Europe/Madrid:20260310T120000
DTSTAMP:20260420T131307Z
LOCATION:Calle Arquitecto Rodríguez\, 34 Bajo
DESCRIPTION;ENCODING=QUOTED-PRINTABLE:<p>Inicio del proyecto Interorriols\, organizado por la fundación Altius y Orriols Convive.</p><br />
X-ALT-DESC;FMTTYPE=text/html:<p>Inicio del proyecto Interorriols\, organizado por la fundación Altius y Orriols Convive.</p><br />
SUMMARY:Inicio Proyecto Interorriols
ORGANIZER:Asociacion Valencia Acoge
URL;VALUE=URI:https://orriolsenpositivo.es/actividades/inicio-proyecto-interorriols/
TRANSP:OPAQUE
END:VEVENT
END:VCALENDAR
