BEGIN:VCALENDAR
VERSION:2.0
PRODID:-//Orriols en Positivo//NONSGML Recital de poesía: Las Sin Sombreros //EN
CALSCALE:GREGORIAN
X-WR-CALNAME:Recital de poesía: Las Sin Sombreros - Orriols en Positivo
X-Robots-Tag:noindex
X-WR-TIMEZONE:Europe/Madrid
BEGIN:VTIMEZONE
TZID:Europe/Madrid
X-LIC-LOCATION:Europe/Madrid
BEGIN:DAYLIGHT
TZOFFSETFROM:+0100
TZOFFSETTO:+0200
TZNAME:CEST
DTSTART:19700329T020000
RRULE:FREQ=YEARLY;BYMONTH=3;BYDAY=-1SU
END:DAYLIGHT
BEGIN:STANDARD
TZOFFSETFROM:+0200
TZOFFSETTO:+0100
TZNAME:CET
DTSTART:19701025T030000
RRULE:FREQ=YEARLY;BYMONTH=10;BYDAY=-1SU
END:STANDARD
END:VTIMEZONE
BEGIN:VEVENT
CREATED:20260227T111018Z
UID:181
DTSTART;TZID=Europe/Madrid:20260310T103000
DTEND;TZID=Europe/Madrid:20260310T113000
DTSTAMP:20260420T131959Z
LOCATION:Calle Santiago Russinyol\, 1
DESCRIPTION;ENCODING=QUOTED-PRINTABLE:<p>Exposición de un recital de poesía\, organizado por la Universidad Popular de Orriols.</p><br />
X-ALT-DESC;FMTTYPE=text/html:<p>Exposición de un recital de poesía\, organizado por la Universidad Popular de Orriols.</p><br />
SUMMARY:Recital de poesía: Las Sin Sombreros
ORGANIZER:Asociacion Valencia Acoge
URL;VALUE=URI:https://orriolsenpositivo.es/actividades/recital-de-poesia-las-sin-sombreros/
TRANSP:OPAQUE
END:VEVENT
END:VCALENDAR
