BEGIN:VCALENDAR
VERSION:2.0
PRODID:-//Orriols en Positivo//NONSGML Taller Escuela de Familia //EN
CALSCALE:GREGORIAN
X-WR-CALNAME:Taller Escuela de Familia - Orriols en Positivo
X-Robots-Tag:noindex
X-WR-TIMEZONE:Europe/Madrid
BEGIN:VTIMEZONE
TZID:Europe/Madrid
X-LIC-LOCATION:Europe/Madrid
BEGIN:DAYLIGHT
TZOFFSETFROM:+0100
TZOFFSETTO:+0200
TZNAME:CEST
DTSTART:19700329T020000
RRULE:FREQ=YEARLY;BYMONTH=3;BYDAY=-1SU
END:DAYLIGHT
BEGIN:STANDARD
TZOFFSETFROM:+0200
TZOFFSETTO:+0100
TZNAME:CET
DTSTART:19701025T030000
RRULE:FREQ=YEARLY;BYMONTH=10;BYDAY=-1SU
END:STANDARD
END:VTIMEZONE
BEGIN:VEVENT
CREATED:20260227T110539Z
UID:180
DTSTART;TZID=Europe/Madrid:20260315T100000
DTEND;TZID=Europe/Madrid:20260315T110000
DTSTAMP:20260420T131943Z
LOCATION:Calle Santiago Russinyol\, 3
DESCRIPTION;ENCODING=QUOTED-PRINTABLE:<p>Taller escuela de Familia\, organizado por la fundación Despierta Sonrisas.</p><br />
X-ALT-DESC;FMTTYPE=text/html:<p>Taller escuela de Familia\, organizado por la fundación Despierta Sonrisas.</p><br />
SUMMARY:Taller Escuela de Familia
ORGANIZER:Asociacion Valencia Acoge
URL;VALUE=URI:https://orriolsenpositivo.es/actividades/taller-escuela-de-familia/
TRANSP:OPAQUE
END:VEVENT
END:VCALENDAR
