BEGIN:VCALENDAR
VERSION:2.0
PRODID:-//Orriols en Positivo//NONSGML Taller online Energía Renovable //EN
CALSCALE:GREGORIAN
X-WR-CALNAME:Taller online Energía Renovable - Orriols en Positivo
X-Robots-Tag:noindex
X-WR-TIMEZONE:Europe/Madrid
BEGIN:VTIMEZONE
TZID:Europe/Madrid
X-LIC-LOCATION:Europe/Madrid
BEGIN:DAYLIGHT
TZOFFSETFROM:+0100
TZOFFSETTO:+0200
TZNAME:CEST
DTSTART:19700329T020000
RRULE:FREQ=YEARLY;BYMONTH=3;BYDAY=-1SU
END:DAYLIGHT
BEGIN:STANDARD
TZOFFSETFROM:+0200
TZOFFSETTO:+0100
TZNAME:CET
DTSTART:19701025T030000
RRULE:FREQ=YEARLY;BYMONTH=10;BYDAY=-1SU
END:STANDARD
END:VTIMEZONE
BEGIN:VEVENT
CREATED:20260227T110050Z
UID:179
DTSTART;TZID=Europe/Madrid:20260312T170000
DTEND;TZID=Europe/Madrid:20260312T180000
DTSTAMP:20260420T131959Z
LOCATION:Mercado de Torrefiel
DESCRIPTION;ENCODING=QUOTED-PRINTABLE:<p>Taller online sobre Energía Renovable organizado por la Oficina de Energía.</p><br />
X-ALT-DESC;FMTTYPE=text/html:<p>Taller online sobre Energía Renovable organizado por la Oficina de Energía.</p><br />
SUMMARY:Taller online Energía Renovable
ORGANIZER:Asociacion Valencia Acoge
URL;VALUE=URI:https://orriolsenpositivo.es/actividades/taller-online-energia-renovable/
TRANSP:OPAQUE
END:VEVENT
END:VCALENDAR
