BEGIN:VCALENDAR
VERSION:2.0
PRODID:-//Orriols en Positivo//NONSGML Taller trabajadoras del hogar //EN
CALSCALE:GREGORIAN
X-WR-CALNAME:Taller trabajadoras del hogar - Orriols en Positivo
X-Robots-Tag:noindex
X-WR-TIMEZONE:Europe/Madrid
BEGIN:VTIMEZONE
TZID:Europe/Madrid
X-LIC-LOCATION:Europe/Madrid
BEGIN:DAYLIGHT
TZOFFSETFROM:+0100
TZOFFSETTO:+0200
TZNAME:CEST
DTSTART:19700329T020000
RRULE:FREQ=YEARLY;BYMONTH=3;BYDAY=-1SU
END:DAYLIGHT
BEGIN:STANDARD
TZOFFSETFROM:+0200
TZOFFSETTO:+0100
TZNAME:CET
DTSTART:19701025T030000
RRULE:FREQ=YEARLY;BYMONTH=10;BYDAY=-1SU
END:STANDARD
END:VTIMEZONE
BEGIN:VEVENT
CREATED:20260227T102215Z
UID:177
DTSTART;TZID=Europe/Madrid:20260311T160000
DTEND;TZID=Europe/Madrid:20260311T180000
DTSTAMP:20260420T132046Z
LOCATION:Calle San Juan de la Peña\, 16 Bajo
DESCRIPTION;ENCODING=QUOTED-PRINTABLE:<p>Taller para las trabajadoras del hogar\, organizado por la asociación Farmamundi.</p><br />
X-ALT-DESC;FMTTYPE=text/html:<p>Taller para las trabajadoras del hogar\, organizado por la asociación Farmamundi.</p><br />
SUMMARY:Taller trabajadoras del hogar
ORGANIZER:Asociacion Valencia Acoge
URL;VALUE=URI:https://orriolsenpositivo.es/actividades/taller-trabajadoras-del-hogar/
TRANSP:OPAQUE
END:VEVENT
END:VCALENDAR
