BEGIN:VCALENDAR
VERSION:2.0
PRODID:-//Orriols en Positivo//NONSGML Inicio Curso Auxiliar de Almacén //EN
CALSCALE:GREGORIAN
X-WR-CALNAME:Inicio Curso Auxiliar de Almacén - Orriols en Positivo
X-Robots-Tag:noindex
X-WR-TIMEZONE:Europe/Madrid
BEGIN:VTIMEZONE
TZID:Europe/Madrid
X-LIC-LOCATION:Europe/Madrid
BEGIN:DAYLIGHT
TZOFFSETFROM:+0100
TZOFFSETTO:+0200
TZNAME:CEST
DTSTART:19700329T020000
RRULE:FREQ=YEARLY;BYMONTH=3;BYDAY=-1SU
END:DAYLIGHT
BEGIN:STANDARD
TZOFFSETFROM:+0200
TZOFFSETTO:+0100
TZNAME:CET
DTSTART:19701025T030000
RRULE:FREQ=YEARLY;BYMONTH=10;BYDAY=-1SU
END:STANDARD
END:VTIMEZONE
BEGIN:VEVENT
CREATED:20260227T101418Z
UID:175
DTSTART;TZID=Europe/Madrid:20260309T100000
DTEND;TZID=Europe/Madrid:20260309T110000
DTSTAMP:20260420T131851Z
LOCATION:Calle Montilla de Palancar\, 33 Bajo
DESCRIPTION;ENCODING=QUOTED-PRINTABLE:<p>Inicio del curso de auxiliar de almacén organizado por la asociación YMCA.</p><br />
X-ALT-DESC;FMTTYPE=text/html:<p>Inicio del curso de auxiliar de almacén organizado por la asociación YMCA.</p><br />
SUMMARY:Inicio Curso Auxiliar de Almacén
ORGANIZER:Asociacion Valencia Acoge
URL;VALUE=URI:https://orriolsenpositivo.es/actividades/inicio-curso-auxiliar-de-almacen/
TRANSP:OPAQUE
END:VEVENT
END:VCALENDAR
