BEGIN:VCALENDAR
VERSION:2.0
PRODID:-//Orriols en Positivo//NONSGML Sábado Violeta //EN
CALSCALE:GREGORIAN
X-WR-CALNAME:Sábado Violeta - Orriols en Positivo
X-Robots-Tag:noindex
X-WR-TIMEZONE:Europe/Madrid
BEGIN:VTIMEZONE
TZID:Europe/Madrid
X-LIC-LOCATION:Europe/Madrid
BEGIN:DAYLIGHT
TZOFFSETFROM:+0100
TZOFFSETTO:+0200
TZNAME:CEST
DTSTART:19700329T020000
RRULE:FREQ=YEARLY;BYMONTH=3;BYDAY=-1SU
END:DAYLIGHT
BEGIN:STANDARD
TZOFFSETFROM:+0200
TZOFFSETTO:+0100
TZNAME:CET
DTSTART:19701025T030000
RRULE:FREQ=YEARLY;BYMONTH=10;BYDAY=-1SU
END:STANDARD
END:VTIMEZONE
BEGIN:VEVENT
CREATED:20260227T100849Z
UID:174
DTSTART;TZID=Europe/Madrid:20260307T160000
DTEND;TZID=Europe/Madrid:20260307T190000
DTSTAMP:20260422T101607Z
LOCATION:Calle de la Alquería Albors\, 4
DESCRIPTION;ENCODING=QUOTED-PRINTABLE:<p>Se harán actividades dedicadas al Día de la Mujer. Organizado por el Centro Cultural Alquería Albors.</p><br />
X-ALT-DESC;FMTTYPE=text/html:<p>Se harán actividades dedicadas al Día de la Mujer. Organizado por el Centro Cultural Alquería Albors.</p><br />
SUMMARY:Sábado Violeta
ORGANIZER:Asociacion Valencia Acoge
URL;VALUE=URI:https://orriolsenpositivo.es/actividades/sabado-violeta/
TRANSP:OPAQUE
END:VEVENT
END:VCALENDAR
