BEGIN:VCALENDAR
VERSION:2.0
PRODID:-//Orriols en Positivo//NONSGML Tarde 8M //EN
CALSCALE:GREGORIAN
X-WR-CALNAME:Tarde 8M - Orriols en Positivo
X-Robots-Tag:noindex
X-WR-TIMEZONE:Europe/Madrid
BEGIN:VTIMEZONE
TZID:Europe/Madrid
X-LIC-LOCATION:Europe/Madrid
BEGIN:DAYLIGHT
TZOFFSETFROM:+0100
TZOFFSETTO:+0200
TZNAME:CEST
DTSTART:19700329T020000
RRULE:FREQ=YEARLY;BYMONTH=3;BYDAY=-1SU
END:DAYLIGHT
BEGIN:STANDARD
TZOFFSETFROM:+0200
TZOFFSETTO:+0100
TZNAME:CET
DTSTART:19701025T030000
RRULE:FREQ=YEARLY;BYMONTH=10;BYDAY=-1SU
END:STANDARD
END:VTIMEZONE
BEGIN:VEVENT
CREATED:20260227T100504Z
UID:173
DTSTART;TZID=Europe/Madrid:20260306T180000
DTEND;TZID=Europe/Madrid:20260306T210000
DTSTAMP:20260422T101900Z
LOCATION:Camino de la Alquería Albors\, 4
DESCRIPTION;ENCODING=QUOTED-PRINTABLE:<p>Se realizarán diferentes actividades para celebrar el Día de la Mujer. Organizado por el Centro Cultural Alquería Albors.</p><br />
X-ALT-DESC;FMTTYPE=text/html:<p>Se realizarán diferentes actividades para celebrar el Día de la Mujer. Organizado por el Centro Cultural Alquería Albors.</p><br />
SUMMARY:Tarde 8M
ORGANIZER:Asociacion Valencia Acoge
URL;VALUE=URI:https://orriolsenpositivo.es/actividades/tarde-8m/
TRANSP:OPAQUE
END:VEVENT
END:VCALENDAR
