BEGIN:VCALENDAR
VERSION:2.0
PRODID:-//Orriols en Positivo//NONSGML Visionado del documental «Lo que el viento nos incendió» //EN
CALSCALE:GREGORIAN
X-WR-CALNAME:Visionado del documental «Lo que el viento nos incendió» - Orriols en Positivo
X-Robots-Tag:noindex
X-WR-TIMEZONE:Europe/Madrid
BEGIN:VTIMEZONE
TZID:Europe/Madrid
X-LIC-LOCATION:Europe/Madrid
BEGIN:DAYLIGHT
TZOFFSETFROM:+0100
TZOFFSETTO:+0200
TZNAME:CEST
DTSTART:19700329T020000
RRULE:FREQ=YEARLY;BYMONTH=3;BYDAY=-1SU
END:DAYLIGHT
BEGIN:STANDARD
TZOFFSETFROM:+0200
TZOFFSETTO:+0100
TZNAME:CET
DTSTART:19701025T030000
RRULE:FREQ=YEARLY;BYMONTH=10;BYDAY=-1SU
END:STANDARD
END:VTIMEZONE
BEGIN:VEVENT
CREATED:20260227T094725Z
UID:170
DTSTART;TZID=Europe/Madrid:20260303T183000
DTEND;TZID=Europe/Madrid:20260303T193000
DTSTAMP:20260420T132505Z
LOCATION:Avenida Constitución\, 256 Bajo
DESCRIPTION;ENCODING=QUOTED-PRINTABLE:<p>Visionado del documental. Organizado por la asociación La Misti.</p><br />
X-ALT-DESC;FMTTYPE=text/html:<p>Visionado del documental. Organizado por la asociación La Misti.</p><br />
SUMMARY:Visionado del documental «Lo que el viento nos incendió»
ORGANIZER:Asociacion Valencia Acoge
URL;VALUE=URI:https://orriolsenpositivo.es/actividades/visionado-del-documental-lo-que-el-viento-nos-incendio/
TRANSP:OPAQUE
END:VEVENT
END:VCALENDAR
