BEGIN:VCALENDAR
VERSION:2.0
PRODID:-//Orriols en Positivo//NONSGML Huertos Urbanos Orriols //EN
CALSCALE:GREGORIAN
X-WR-CALNAME:Huertos Urbanos Orriols - Orriols en Positivo
X-Robots-Tag:noindex
X-WR-TIMEZONE:Europe/Madrid
BEGIN:VTIMEZONE
TZID:Europe/Madrid
X-LIC-LOCATION:Europe/Madrid
BEGIN:DAYLIGHT
TZOFFSETFROM:+0100
TZOFFSETTO:+0200
TZNAME:CEST
DTSTART:19700329T020000
RRULE:FREQ=YEARLY;BYMONTH=3;BYDAY=-1SU
END:DAYLIGHT
BEGIN:STANDARD
TZOFFSETFROM:+0200
TZOFFSETTO:+0100
TZNAME:CET
DTSTART:19701025T030000
RRULE:FREQ=YEARLY;BYMONTH=10;BYDAY=-1SU
END:STANDARD
END:VTIMEZONE
BEGIN:VEVENT
CREATED:20260226T112100Z
UID:169
DTSTART;TZID=Europe/Madrid:20260628T170000
DTEND;TZID=Europe/Madrid:20260628T180000
DTSTAMP:20260420T113753Z
LOCATION:Calle de la Diputada Clara Campoamor (Huerta comunitaria de Orriols)
DESCRIPTION;ENCODING=QUOTED-PRINTABLE:<p>Actividad de ocio\, Huerto Urbano donde compartir buenos momentos y a la vez participar en acciones ecológicas.</p><br />
X-ALT-DESC;FMTTYPE=text/html:<p>Actividad de ocio\, Huerto Urbano donde compartir buenos momentos y a la vez participar en acciones ecológicas.</p><br />
SUMMARY:Huertos Urbanos Orriols
ORGANIZER:Asociacion Valencia Acoge
URL;VALUE=URI:https://orriolsenpositivo.es/actividades/huertos-urbanos-orriols/
TRANSP:OPAQUE
END:VEVENT
BEGIN:VEVENT
CREATED:20260226T112100Z
UID:168
DTSTART;TZID=Europe/Madrid:20260621T170000
DTEND;TZID=Europe/Madrid:20260621T180000
DTSTAMP:20260420T113753Z
LOCATION:Calle de la Diputada Clara Campoamor (Huerta comunitaria de Orriols)
DESCRIPTION;ENCODING=QUOTED-PRINTABLE:<p>Actividad de ocio\, Huerto Urbano donde compartir buenos momentos y a la vez participar en acciones ecológicas.</p><br />
X-ALT-DESC;FMTTYPE=text/html:<p>Actividad de ocio\, Huerto Urbano donde compartir buenos momentos y a la vez participar en acciones ecológicas.</p><br />
SUMMARY:Huertos Urbanos Orriols
ORGANIZER:Asociacion Valencia Acoge
URL;VALUE=URI:https://orriolsenpositivo.es/actividades/huertos-urbanos-orriols/
TRANSP:OPAQUE
END:VEVENT
BEGIN:VEVENT
CREATED:20260226T112100Z
UID:167
DTSTART;TZID=Europe/Madrid:20260614T170000
DTEND;TZID=Europe/Madrid:20260614T180000
DTSTAMP:20260420T113753Z
LOCATION:Calle de la Diputada Clara Campoamor (Huerta comunitaria de Orriols)
DESCRIPTION;ENCODING=QUOTED-PRINTABLE:<p>Actividad de ocio\, Huerto Urbano donde compartir buenos momentos y a la vez participar en acciones ecológicas.</p><br />
X-ALT-DESC;FMTTYPE=text/html:<p>Actividad de ocio\, Huerto Urbano donde compartir buenos momentos y a la vez participar en acciones ecológicas.</p><br />
SUMMARY:Huertos Urbanos Orriols
ORGANIZER:Asociacion Valencia Acoge
URL;VALUE=URI:https://orriolsenpositivo.es/actividades/huertos-urbanos-orriols/
TRANSP:OPAQUE
END:VEVENT
BEGIN:VEVENT
CREATED:20260226T112100Z
UID:166
DTSTART;TZID=Europe/Madrid:20260607T170000
DTEND;TZID=Europe/Madrid:20260607T180000
DTSTAMP:20260420T113753Z
LOCATION:Calle de la Diputada Clara Campoamor (Huerta comunitaria de Orriols)
DESCRIPTION;ENCODING=QUOTED-PRINTABLE:<p>Actividad de ocio\, Huerto Urbano donde compartir buenos momentos y a la vez participar en acciones ecológicas.</p><br />
X-ALT-DESC;FMTTYPE=text/html:<p>Actividad de ocio\, Huerto Urbano donde compartir buenos momentos y a la vez participar en acciones ecológicas.</p><br />
SUMMARY:Huertos Urbanos Orriols
ORGANIZER:Asociacion Valencia Acoge
URL;VALUE=URI:https://orriolsenpositivo.es/actividades/huertos-urbanos-orriols/
TRANSP:OPAQUE
END:VEVENT
BEGIN:VEVENT
CREATED:20260226T112100Z
UID:165
DTSTART;TZID=Europe/Madrid:20260531T170000
DTEND;TZID=Europe/Madrid:20260531T180000
DTSTAMP:20260420T113753Z
LOCATION:Calle de la Diputada Clara Campoamor (Huerta comunitaria de Orriols)
DESCRIPTION;ENCODING=QUOTED-PRINTABLE:<p>Actividad de ocio\, Huerto Urbano donde compartir buenos momentos y a la vez participar en acciones ecológicas.</p><br />
X-ALT-DESC;FMTTYPE=text/html:<p>Actividad de ocio\, Huerto Urbano donde compartir buenos momentos y a la vez participar en acciones ecológicas.</p><br />
SUMMARY:Huertos Urbanos Orriols
ORGANIZER:Asociacion Valencia Acoge
URL;VALUE=URI:https://orriolsenpositivo.es/actividades/huertos-urbanos-orriols/
TRANSP:OPAQUE
END:VEVENT
BEGIN:VEVENT
CREATED:20260226T112100Z
UID:164
DTSTART;TZID=Europe/Madrid:20260524T170000
DTEND;TZID=Europe/Madrid:20260524T180000
DTSTAMP:20260420T113753Z
LOCATION:Calle de la Diputada Clara Campoamor (Huerta comunitaria de Orriols)
DESCRIPTION;ENCODING=QUOTED-PRINTABLE:<p>Actividad de ocio\, Huerto Urbano donde compartir buenos momentos y a la vez participar en acciones ecológicas.</p><br />
X-ALT-DESC;FMTTYPE=text/html:<p>Actividad de ocio\, Huerto Urbano donde compartir buenos momentos y a la vez participar en acciones ecológicas.</p><br />
SUMMARY:Huertos Urbanos Orriols
ORGANIZER:Asociacion Valencia Acoge
URL;VALUE=URI:https://orriolsenpositivo.es/actividades/huertos-urbanos-orriols/
TRANSP:OPAQUE
END:VEVENT
BEGIN:VEVENT
CREATED:20260226T112100Z
UID:163
DTSTART;TZID=Europe/Madrid:20260517T170000
DTEND;TZID=Europe/Madrid:20260517T180000
DTSTAMP:20260420T113753Z
LOCATION:Calle de la Diputada Clara Campoamor (Huerta comunitaria de Orriols)
DESCRIPTION;ENCODING=QUOTED-PRINTABLE:<p>Actividad de ocio\, Huerto Urbano donde compartir buenos momentos y a la vez participar en acciones ecológicas.</p><br />
X-ALT-DESC;FMTTYPE=text/html:<p>Actividad de ocio\, Huerto Urbano donde compartir buenos momentos y a la vez participar en acciones ecológicas.</p><br />
SUMMARY:Huertos Urbanos Orriols
ORGANIZER:Asociacion Valencia Acoge
URL;VALUE=URI:https://orriolsenpositivo.es/actividades/huertos-urbanos-orriols/
TRANSP:OPAQUE
END:VEVENT
BEGIN:VEVENT
CREATED:20260226T112100Z
UID:162
DTSTART;TZID=Europe/Madrid:20260510T170000
DTEND;TZID=Europe/Madrid:20260510T180000
DTSTAMP:20260420T113753Z
LOCATION:Calle de la Diputada Clara Campoamor (Huerta comunitaria de Orriols)
DESCRIPTION;ENCODING=QUOTED-PRINTABLE:<p>Actividad de ocio\, Huerto Urbano donde compartir buenos momentos y a la vez participar en acciones ecológicas.</p><br />
X-ALT-DESC;FMTTYPE=text/html:<p>Actividad de ocio\, Huerto Urbano donde compartir buenos momentos y a la vez participar en acciones ecológicas.</p><br />
SUMMARY:Huertos Urbanos Orriols
ORGANIZER:Asociacion Valencia Acoge
URL;VALUE=URI:https://orriolsenpositivo.es/actividades/huertos-urbanos-orriols/
TRANSP:OPAQUE
END:VEVENT
BEGIN:VEVENT
CREATED:20260226T112100Z
UID:161
DTSTART;TZID=Europe/Madrid:20260503T170000
DTEND;TZID=Europe/Madrid:20260503T180000
DTSTAMP:20260420T113753Z
LOCATION:Calle de la Diputada Clara Campoamor (Huerta comunitaria de Orriols)
DESCRIPTION;ENCODING=QUOTED-PRINTABLE:<p>Actividad de ocio\, Huerto Urbano donde compartir buenos momentos y a la vez participar en acciones ecológicas.</p><br />
X-ALT-DESC;FMTTYPE=text/html:<p>Actividad de ocio\, Huerto Urbano donde compartir buenos momentos y a la vez participar en acciones ecológicas.</p><br />
SUMMARY:Huertos Urbanos Orriols
ORGANIZER:Asociacion Valencia Acoge
URL;VALUE=URI:https://orriolsenpositivo.es/actividades/huertos-urbanos-orriols/
TRANSP:OPAQUE
END:VEVENT
BEGIN:VEVENT
CREATED:20260226T112100Z
UID:160
DTSTART;TZID=Europe/Madrid:20260426T170000
DTEND;TZID=Europe/Madrid:20260426T180000
DTSTAMP:20260420T113753Z
LOCATION:Calle de la Diputada Clara Campoamor (Huerta comunitaria de Orriols)
DESCRIPTION;ENCODING=QUOTED-PRINTABLE:<p>Actividad de ocio\, Huerto Urbano donde compartir buenos momentos y a la vez participar en acciones ecológicas.</p><br />
X-ALT-DESC;FMTTYPE=text/html:<p>Actividad de ocio\, Huerto Urbano donde compartir buenos momentos y a la vez participar en acciones ecológicas.</p><br />
SUMMARY:Huertos Urbanos Orriols
ORGANIZER:Asociacion Valencia Acoge
URL;VALUE=URI:https://orriolsenpositivo.es/actividades/huertos-urbanos-orriols/
TRANSP:OPAQUE
END:VEVENT
BEGIN:VEVENT
CREATED:20260226T112100Z
UID:159
DTSTART;TZID=Europe/Madrid:20260419T170000
DTEND;TZID=Europe/Madrid:20260419T180000
DTSTAMP:20260420T113753Z
LOCATION:Calle de la Diputada Clara Campoamor (Huerta comunitaria de Orriols)
DESCRIPTION;ENCODING=QUOTED-PRINTABLE:<p>Actividad de ocio\, Huerto Urbano donde compartir buenos momentos y a la vez participar en acciones ecológicas.</p><br />
X-ALT-DESC;FMTTYPE=text/html:<p>Actividad de ocio\, Huerto Urbano donde compartir buenos momentos y a la vez participar en acciones ecológicas.</p><br />
SUMMARY:Huertos Urbanos Orriols
ORGANIZER:Asociacion Valencia Acoge
URL;VALUE=URI:https://orriolsenpositivo.es/actividades/huertos-urbanos-orriols/
TRANSP:OPAQUE
END:VEVENT
BEGIN:VEVENT
CREATED:20260226T112100Z
UID:158
DTSTART;TZID=Europe/Madrid:20260412T170000
DTEND;TZID=Europe/Madrid:20260412T180000
DTSTAMP:20260420T113753Z
LOCATION:Calle de la Diputada Clara Campoamor (Huerta comunitaria de Orriols)
DESCRIPTION;ENCODING=QUOTED-PRINTABLE:<p>Actividad de ocio\, Huerto Urbano donde compartir buenos momentos y a la vez participar en acciones ecológicas.</p><br />
X-ALT-DESC;FMTTYPE=text/html:<p>Actividad de ocio\, Huerto Urbano donde compartir buenos momentos y a la vez participar en acciones ecológicas.</p><br />
SUMMARY:Huertos Urbanos Orriols
ORGANIZER:Asociacion Valencia Acoge
URL;VALUE=URI:https://orriolsenpositivo.es/actividades/huertos-urbanos-orriols/
TRANSP:OPAQUE
END:VEVENT
BEGIN:VEVENT
CREATED:20260226T112100Z
UID:157
DTSTART;TZID=Europe/Madrid:20260405T170000
DTEND;TZID=Europe/Madrid:20260405T180000
DTSTAMP:20260420T113753Z
LOCATION:Calle de la Diputada Clara Campoamor (Huerta comunitaria de Orriols)
DESCRIPTION;ENCODING=QUOTED-PRINTABLE:<p>Actividad de ocio\, Huerto Urbano donde compartir buenos momentos y a la vez participar en acciones ecológicas.</p><br />
X-ALT-DESC;FMTTYPE=text/html:<p>Actividad de ocio\, Huerto Urbano donde compartir buenos momentos y a la vez participar en acciones ecológicas.</p><br />
SUMMARY:Huertos Urbanos Orriols
ORGANIZER:Asociacion Valencia Acoge
URL;VALUE=URI:https://orriolsenpositivo.es/actividades/huertos-urbanos-orriols/
TRANSP:OPAQUE
END:VEVENT
BEGIN:VEVENT
CREATED:20260226T112100Z
UID:156
DTSTART;TZID=Europe/Madrid:20260329T170000
DTEND;TZID=Europe/Madrid:20260329T180000
DTSTAMP:20260420T113753Z
LOCATION:Calle de la Diputada Clara Campoamor (Huerta comunitaria de Orriols)
DESCRIPTION;ENCODING=QUOTED-PRINTABLE:<p>Actividad de ocio\, Huerto Urbano donde compartir buenos momentos y a la vez participar en acciones ecológicas.</p><br />
X-ALT-DESC;FMTTYPE=text/html:<p>Actividad de ocio\, Huerto Urbano donde compartir buenos momentos y a la vez participar en acciones ecológicas.</p><br />
SUMMARY:Huertos Urbanos Orriols
ORGANIZER:Asociacion Valencia Acoge
URL;VALUE=URI:https://orriolsenpositivo.es/actividades/huertos-urbanos-orriols/
TRANSP:OPAQUE
END:VEVENT
BEGIN:VEVENT
CREATED:20260226T112100Z
UID:155
DTSTART;TZID=Europe/Madrid:20260322T170000
DTEND;TZID=Europe/Madrid:20260322T180000
DTSTAMP:20260420T113753Z
LOCATION:Calle de la Diputada Clara Campoamor (Huerta comunitaria de Orriols)
DESCRIPTION;ENCODING=QUOTED-PRINTABLE:<p>Actividad de ocio\, Huerto Urbano donde compartir buenos momentos y a la vez participar en acciones ecológicas.</p><br />
X-ALT-DESC;FMTTYPE=text/html:<p>Actividad de ocio\, Huerto Urbano donde compartir buenos momentos y a la vez participar en acciones ecológicas.</p><br />
SUMMARY:Huertos Urbanos Orriols
ORGANIZER:Asociacion Valencia Acoge
URL;VALUE=URI:https://orriolsenpositivo.es/actividades/huertos-urbanos-orriols/
TRANSP:OPAQUE
END:VEVENT
BEGIN:VEVENT
CREATED:20260226T112100Z
UID:154
DTSTART;TZID=Europe/Madrid:20260315T170000
DTEND;TZID=Europe/Madrid:20260315T180000
DTSTAMP:20260420T113753Z
LOCATION:Calle de la Diputada Clara Campoamor (Huerta comunitaria de Orriols)
DESCRIPTION;ENCODING=QUOTED-PRINTABLE:<p>Actividad de ocio\, Huerto Urbano donde compartir buenos momentos y a la vez participar en acciones ecológicas.</p><br />
X-ALT-DESC;FMTTYPE=text/html:<p>Actividad de ocio\, Huerto Urbano donde compartir buenos momentos y a la vez participar en acciones ecológicas.</p><br />
SUMMARY:Huertos Urbanos Orriols
ORGANIZER:Asociacion Valencia Acoge
URL;VALUE=URI:https://orriolsenpositivo.es/actividades/huertos-urbanos-orriols/
TRANSP:OPAQUE
END:VEVENT
BEGIN:VEVENT
CREATED:20260226T112100Z
UID:153
DTSTART;TZID=Europe/Madrid:20260308T170000
DTEND;TZID=Europe/Madrid:20260308T180000
DTSTAMP:20260420T113753Z
LOCATION:Calle de la Diputada Clara Campoamor (Huerta comunitaria de Orriols)
DESCRIPTION;ENCODING=QUOTED-PRINTABLE:<p>Actividad de ocio\, Huerto Urbano donde compartir buenos momentos y a la vez participar en acciones ecológicas.</p><br />
X-ALT-DESC;FMTTYPE=text/html:<p>Actividad de ocio\, Huerto Urbano donde compartir buenos momentos y a la vez participar en acciones ecológicas.</p><br />
SUMMARY:Huertos Urbanos Orriols
ORGANIZER:Asociacion Valencia Acoge
URL;VALUE=URI:https://orriolsenpositivo.es/actividades/huertos-urbanos-orriols/
TRANSP:OPAQUE
END:VEVENT
BEGIN:VEVENT
CREATED:20260226T112100Z
UID:152
DTSTART;TZID=Europe/Madrid:20260301T170000
DTEND;TZID=Europe/Madrid:20260301T180000
DTSTAMP:20260420T113753Z
LOCATION:Calle de la Diputada Clara Campoamor (Huerta comunitaria de Orriols)
DESCRIPTION;ENCODING=QUOTED-PRINTABLE:<p>Actividad de ocio\, Huerto Urbano donde compartir buenos momentos y a la vez participar en acciones ecológicas.</p><br />
X-ALT-DESC;FMTTYPE=text/html:<p>Actividad de ocio\, Huerto Urbano donde compartir buenos momentos y a la vez participar en acciones ecológicas.</p><br />
SUMMARY:Huertos Urbanos Orriols
ORGANIZER:Asociacion Valencia Acoge
URL;VALUE=URI:https://orriolsenpositivo.es/actividades/huertos-urbanos-orriols/
TRANSP:OPAQUE
END:VEVENT
END:VCALENDAR
