BEGIN:VCALENDAR
VERSION:2.0
PRODID:-//Orriols en Positivo//NONSGML Mundo creativo //EN
CALSCALE:GREGORIAN
X-WR-CALNAME:Mundo creativo - Orriols en Positivo
X-Robots-Tag:noindex
X-WR-TIMEZONE:Europe/Madrid
BEGIN:VTIMEZONE
TZID:Europe/Madrid
X-LIC-LOCATION:Europe/Madrid
BEGIN:DAYLIGHT
TZOFFSETFROM:+0100
TZOFFSETTO:+0200
TZNAME:CEST
DTSTART:19700329T020000
RRULE:FREQ=YEARLY;BYMONTH=3;BYDAY=-1SU
END:DAYLIGHT
BEGIN:STANDARD
TZOFFSETFROM:+0200
TZOFFSETTO:+0100
TZNAME:CET
DTSTART:19701025T030000
RRULE:FREQ=YEARLY;BYMONTH=10;BYDAY=-1SU
END:STANDARD
END:VTIMEZONE
BEGIN:VEVENT
CREATED:20260226T111633Z
UID:151
DTSTART;TZID=Europe/Madrid:20260627T110000
DTEND;TZID=Europe/Madrid:20260627T123000
DTSTAMP:20260420T113813Z
LOCATION:Calle Arquitecto Rodríguez\, 34 Bajo
DESCRIPTION;ENCODING=QUOTED-PRINTABLE:<p>Ocio creativo para todos los públicos.</p><br />
X-ALT-DESC;FMTTYPE=text/html:<p>Ocio creativo para todos los públicos.</p><br />
SUMMARY:Mundo creativo
ORGANIZER:Asociacion Valencia Acoge
URL;VALUE=URI:https://orriolsenpositivo.es/actividades/mundo-creativo/
TRANSP:OPAQUE
END:VEVENT
BEGIN:VEVENT
CREATED:20260226T111633Z
UID:150
DTSTART;TZID=Europe/Madrid:20260620T110000
DTEND;TZID=Europe/Madrid:20260620T123000
DTSTAMP:20260420T113813Z
LOCATION:Calle Arquitecto Rodríguez\, 34 Bajo
DESCRIPTION;ENCODING=QUOTED-PRINTABLE:<p>Ocio creativo para todos los públicos.</p><br />
X-ALT-DESC;FMTTYPE=text/html:<p>Ocio creativo para todos los públicos.</p><br />
SUMMARY:Mundo creativo
ORGANIZER:Asociacion Valencia Acoge
URL;VALUE=URI:https://orriolsenpositivo.es/actividades/mundo-creativo/
TRANSP:OPAQUE
END:VEVENT
BEGIN:VEVENT
CREATED:20260226T111633Z
UID:149
DTSTART;TZID=Europe/Madrid:20260613T110000
DTEND;TZID=Europe/Madrid:20260613T123000
DTSTAMP:20260420T113813Z
LOCATION:Calle Arquitecto Rodríguez\, 34 Bajo
DESCRIPTION;ENCODING=QUOTED-PRINTABLE:<p>Ocio creativo para todos los públicos.</p><br />
X-ALT-DESC;FMTTYPE=text/html:<p>Ocio creativo para todos los públicos.</p><br />
SUMMARY:Mundo creativo
ORGANIZER:Asociacion Valencia Acoge
URL;VALUE=URI:https://orriolsenpositivo.es/actividades/mundo-creativo/
TRANSP:OPAQUE
END:VEVENT
BEGIN:VEVENT
CREATED:20260226T111633Z
UID:148
DTSTART;TZID=Europe/Madrid:20260606T110000
DTEND;TZID=Europe/Madrid:20260606T123000
DTSTAMP:20260420T113813Z
LOCATION:Calle Arquitecto Rodríguez\, 34 Bajo
DESCRIPTION;ENCODING=QUOTED-PRINTABLE:<p>Ocio creativo para todos los públicos.</p><br />
X-ALT-DESC;FMTTYPE=text/html:<p>Ocio creativo para todos los públicos.</p><br />
SUMMARY:Mundo creativo
ORGANIZER:Asociacion Valencia Acoge
URL;VALUE=URI:https://orriolsenpositivo.es/actividades/mundo-creativo/
TRANSP:OPAQUE
END:VEVENT
BEGIN:VEVENT
CREATED:20260226T111633Z
UID:147
DTSTART;TZID=Europe/Madrid:20260530T110000
DTEND;TZID=Europe/Madrid:20260530T123000
DTSTAMP:20260420T113813Z
LOCATION:Calle Arquitecto Rodríguez\, 34 Bajo
DESCRIPTION;ENCODING=QUOTED-PRINTABLE:<p>Ocio creativo para todos los públicos.</p><br />
X-ALT-DESC;FMTTYPE=text/html:<p>Ocio creativo para todos los públicos.</p><br />
SUMMARY:Mundo creativo
ORGANIZER:Asociacion Valencia Acoge
URL;VALUE=URI:https://orriolsenpositivo.es/actividades/mundo-creativo/
TRANSP:OPAQUE
END:VEVENT
BEGIN:VEVENT
CREATED:20260226T111633Z
UID:146
DTSTART;TZID=Europe/Madrid:20260523T110000
DTEND;TZID=Europe/Madrid:20260523T123000
DTSTAMP:20260420T113813Z
LOCATION:Calle Arquitecto Rodríguez\, 34 Bajo
DESCRIPTION;ENCODING=QUOTED-PRINTABLE:<p>Ocio creativo para todos los públicos.</p><br />
X-ALT-DESC;FMTTYPE=text/html:<p>Ocio creativo para todos los públicos.</p><br />
SUMMARY:Mundo creativo
ORGANIZER:Asociacion Valencia Acoge
URL;VALUE=URI:https://orriolsenpositivo.es/actividades/mundo-creativo/
TRANSP:OPAQUE
END:VEVENT
BEGIN:VEVENT
CREATED:20260226T111633Z
UID:145
DTSTART;TZID=Europe/Madrid:20260516T110000
DTEND;TZID=Europe/Madrid:20260516T123000
DTSTAMP:20260420T113813Z
LOCATION:Calle Arquitecto Rodríguez\, 34 Bajo
DESCRIPTION;ENCODING=QUOTED-PRINTABLE:<p>Ocio creativo para todos los públicos.</p><br />
X-ALT-DESC;FMTTYPE=text/html:<p>Ocio creativo para todos los públicos.</p><br />
SUMMARY:Mundo creativo
ORGANIZER:Asociacion Valencia Acoge
URL;VALUE=URI:https://orriolsenpositivo.es/actividades/mundo-creativo/
TRANSP:OPAQUE
END:VEVENT
BEGIN:VEVENT
CREATED:20260226T111633Z
UID:144
DTSTART;TZID=Europe/Madrid:20260509T110000
DTEND;TZID=Europe/Madrid:20260509T123000
DTSTAMP:20260420T113813Z
LOCATION:Calle Arquitecto Rodríguez\, 34 Bajo
DESCRIPTION;ENCODING=QUOTED-PRINTABLE:<p>Ocio creativo para todos los públicos.</p><br />
X-ALT-DESC;FMTTYPE=text/html:<p>Ocio creativo para todos los públicos.</p><br />
SUMMARY:Mundo creativo
ORGANIZER:Asociacion Valencia Acoge
URL;VALUE=URI:https://orriolsenpositivo.es/actividades/mundo-creativo/
TRANSP:OPAQUE
END:VEVENT
BEGIN:VEVENT
CREATED:20260226T111633Z
UID:143
DTSTART;TZID=Europe/Madrid:20260502T110000
DTEND;TZID=Europe/Madrid:20260502T123000
DTSTAMP:20260420T113813Z
LOCATION:Calle Arquitecto Rodríguez\, 34 Bajo
DESCRIPTION;ENCODING=QUOTED-PRINTABLE:<p>Ocio creativo para todos los públicos.</p><br />
X-ALT-DESC;FMTTYPE=text/html:<p>Ocio creativo para todos los públicos.</p><br />
SUMMARY:Mundo creativo
ORGANIZER:Asociacion Valencia Acoge
URL;VALUE=URI:https://orriolsenpositivo.es/actividades/mundo-creativo/
TRANSP:OPAQUE
END:VEVENT
BEGIN:VEVENT
CREATED:20260226T111633Z
UID:142
DTSTART;TZID=Europe/Madrid:20260425T110000
DTEND;TZID=Europe/Madrid:20260425T123000
DTSTAMP:20260420T113813Z
LOCATION:Calle Arquitecto Rodríguez\, 34 Bajo
DESCRIPTION;ENCODING=QUOTED-PRINTABLE:<p>Ocio creativo para todos los públicos.</p><br />
X-ALT-DESC;FMTTYPE=text/html:<p>Ocio creativo para todos los públicos.</p><br />
SUMMARY:Mundo creativo
ORGANIZER:Asociacion Valencia Acoge
URL;VALUE=URI:https://orriolsenpositivo.es/actividades/mundo-creativo/
TRANSP:OPAQUE
END:VEVENT
BEGIN:VEVENT
CREATED:20260226T111633Z
UID:141
DTSTART;TZID=Europe/Madrid:20260418T110000
DTEND;TZID=Europe/Madrid:20260418T123000
DTSTAMP:20260420T113813Z
LOCATION:Calle Arquitecto Rodríguez\, 34 Bajo
DESCRIPTION;ENCODING=QUOTED-PRINTABLE:<p>Ocio creativo para todos los públicos.</p><br />
X-ALT-DESC;FMTTYPE=text/html:<p>Ocio creativo para todos los públicos.</p><br />
SUMMARY:Mundo creativo
ORGANIZER:Asociacion Valencia Acoge
URL;VALUE=URI:https://orriolsenpositivo.es/actividades/mundo-creativo/
TRANSP:OPAQUE
END:VEVENT
BEGIN:VEVENT
CREATED:20260226T111633Z
UID:140
DTSTART;TZID=Europe/Madrid:20260411T110000
DTEND;TZID=Europe/Madrid:20260411T123000
DTSTAMP:20260420T113813Z
LOCATION:Calle Arquitecto Rodríguez\, 34 Bajo
DESCRIPTION;ENCODING=QUOTED-PRINTABLE:<p>Ocio creativo para todos los públicos.</p><br />
X-ALT-DESC;FMTTYPE=text/html:<p>Ocio creativo para todos los públicos.</p><br />
SUMMARY:Mundo creativo
ORGANIZER:Asociacion Valencia Acoge
URL;VALUE=URI:https://orriolsenpositivo.es/actividades/mundo-creativo/
TRANSP:OPAQUE
END:VEVENT
BEGIN:VEVENT
CREATED:20260226T111633Z
UID:139
DTSTART;TZID=Europe/Madrid:20260404T110000
DTEND;TZID=Europe/Madrid:20260404T123000
DTSTAMP:20260420T113813Z
LOCATION:Calle Arquitecto Rodríguez\, 34 Bajo
DESCRIPTION;ENCODING=QUOTED-PRINTABLE:<p>Ocio creativo para todos los públicos.</p><br />
X-ALT-DESC;FMTTYPE=text/html:<p>Ocio creativo para todos los públicos.</p><br />
SUMMARY:Mundo creativo
ORGANIZER:Asociacion Valencia Acoge
URL;VALUE=URI:https://orriolsenpositivo.es/actividades/mundo-creativo/
TRANSP:OPAQUE
END:VEVENT
BEGIN:VEVENT
CREATED:20260226T111633Z
UID:138
DTSTART;TZID=Europe/Madrid:20260328T110000
DTEND;TZID=Europe/Madrid:20260328T123000
DTSTAMP:20260420T113813Z
LOCATION:Calle Arquitecto Rodríguez\, 34 Bajo
DESCRIPTION;ENCODING=QUOTED-PRINTABLE:<p>Ocio creativo para todos los públicos.</p><br />
X-ALT-DESC;FMTTYPE=text/html:<p>Ocio creativo para todos los públicos.</p><br />
SUMMARY:Mundo creativo
ORGANIZER:Asociacion Valencia Acoge
URL;VALUE=URI:https://orriolsenpositivo.es/actividades/mundo-creativo/
TRANSP:OPAQUE
END:VEVENT
BEGIN:VEVENT
CREATED:20260226T111633Z
UID:137
DTSTART;TZID=Europe/Madrid:20260321T110000
DTEND;TZID=Europe/Madrid:20260321T123000
DTSTAMP:20260420T113813Z
LOCATION:Calle Arquitecto Rodríguez\, 34 Bajo
DESCRIPTION;ENCODING=QUOTED-PRINTABLE:<p>Ocio creativo para todos los públicos.</p><br />
X-ALT-DESC;FMTTYPE=text/html:<p>Ocio creativo para todos los públicos.</p><br />
SUMMARY:Mundo creativo
ORGANIZER:Asociacion Valencia Acoge
URL;VALUE=URI:https://orriolsenpositivo.es/actividades/mundo-creativo/
TRANSP:OPAQUE
END:VEVENT
BEGIN:VEVENT
CREATED:20260226T111633Z
UID:136
DTSTART;TZID=Europe/Madrid:20260314T110000
DTEND;TZID=Europe/Madrid:20260314T123000
DTSTAMP:20260420T113813Z
LOCATION:Calle Arquitecto Rodríguez\, 34 Bajo
DESCRIPTION;ENCODING=QUOTED-PRINTABLE:<p>Ocio creativo para todos los públicos.</p><br />
X-ALT-DESC;FMTTYPE=text/html:<p>Ocio creativo para todos los públicos.</p><br />
SUMMARY:Mundo creativo
ORGANIZER:Asociacion Valencia Acoge
URL;VALUE=URI:https://orriolsenpositivo.es/actividades/mundo-creativo/
TRANSP:OPAQUE
END:VEVENT
BEGIN:VEVENT
CREATED:20260226T111633Z
UID:135
DTSTART;TZID=Europe/Madrid:20260307T110000
DTEND;TZID=Europe/Madrid:20260307T123000
DTSTAMP:20260420T113813Z
LOCATION:Calle Arquitecto Rodríguez\, 34 Bajo
DESCRIPTION;ENCODING=QUOTED-PRINTABLE:<p>Ocio creativo para todos los públicos.</p><br />
X-ALT-DESC;FMTTYPE=text/html:<p>Ocio creativo para todos los públicos.</p><br />
SUMMARY:Mundo creativo
ORGANIZER:Asociacion Valencia Acoge
URL;VALUE=URI:https://orriolsenpositivo.es/actividades/mundo-creativo/
TRANSP:OPAQUE
END:VEVENT
END:VCALENDAR
