BEGIN:VCALENDAR
VERSION:2.0
PRODID:-//Orriols en Positivo//NONSGML Taller de Abalorios //EN
CALSCALE:GREGORIAN
X-WR-CALNAME:Taller de Abalorios - Orriols en Positivo
X-Robots-Tag:noindex
X-WR-TIMEZONE:Europe/Madrid
BEGIN:VTIMEZONE
TZID:Europe/Madrid
X-LIC-LOCATION:Europe/Madrid
BEGIN:DAYLIGHT
TZOFFSETFROM:+0100
TZOFFSETTO:+0200
TZNAME:CEST
DTSTART:19700329T020000
RRULE:FREQ=YEARLY;BYMONTH=3;BYDAY=-1SU
END:DAYLIGHT
BEGIN:STANDARD
TZOFFSETFROM:+0200
TZOFFSETTO:+0100
TZNAME:CET
DTSTART:19701025T030000
RRULE:FREQ=YEARLY;BYMONTH=10;BYDAY=-1SU
END:STANDARD
END:VTIMEZONE
BEGIN:VEVENT
CREATED:20260226T111220Z
UID:134
DTSTART;TZID=Europe/Madrid:20260625T170000
DTEND;TZID=Europe/Madrid:20260625T180000
DTSTAMP:20260420T113953Z
LOCATION:Calle Arquitecto Rodríguez\, 34 Bajo
DESCRIPTION;ENCODING=QUOTED-PRINTABLE:<p>Taller para compartir la tarde mientras se realizan manualidades.</p><br />
X-ALT-DESC;FMTTYPE=text/html:<p>Taller para compartir la tarde mientras se realizan manualidades.</p><br />
SUMMARY:Taller de Abalorios
ORGANIZER:Asociacion Valencia Acoge
URL;VALUE=URI:https://orriolsenpositivo.es/actividades/taller-de-abalorios/
TRANSP:OPAQUE
END:VEVENT
BEGIN:VEVENT
CREATED:20260226T111220Z
UID:133
DTSTART;TZID=Europe/Madrid:20260618T170000
DTEND;TZID=Europe/Madrid:20260618T180000
DTSTAMP:20260420T113953Z
LOCATION:Calle Arquitecto Rodríguez\, 34 Bajo
DESCRIPTION;ENCODING=QUOTED-PRINTABLE:<p>Taller para compartir la tarde mientras se realizan manualidades.</p><br />
X-ALT-DESC;FMTTYPE=text/html:<p>Taller para compartir la tarde mientras se realizan manualidades.</p><br />
SUMMARY:Taller de Abalorios
ORGANIZER:Asociacion Valencia Acoge
URL;VALUE=URI:https://orriolsenpositivo.es/actividades/taller-de-abalorios/
TRANSP:OPAQUE
END:VEVENT
BEGIN:VEVENT
CREATED:20260226T111220Z
UID:132
DTSTART;TZID=Europe/Madrid:20260611T170000
DTEND;TZID=Europe/Madrid:20260611T180000
DTSTAMP:20260420T113953Z
LOCATION:Calle Arquitecto Rodríguez\, 34 Bajo
DESCRIPTION;ENCODING=QUOTED-PRINTABLE:<p>Taller para compartir la tarde mientras se realizan manualidades.</p><br />
X-ALT-DESC;FMTTYPE=text/html:<p>Taller para compartir la tarde mientras se realizan manualidades.</p><br />
SUMMARY:Taller de Abalorios
ORGANIZER:Asociacion Valencia Acoge
URL;VALUE=URI:https://orriolsenpositivo.es/actividades/taller-de-abalorios/
TRANSP:OPAQUE
END:VEVENT
BEGIN:VEVENT
CREATED:20260226T111220Z
UID:131
DTSTART;TZID=Europe/Madrid:20260604T170000
DTEND;TZID=Europe/Madrid:20260604T180000
DTSTAMP:20260420T113953Z
LOCATION:Calle Arquitecto Rodríguez\, 34 Bajo
DESCRIPTION;ENCODING=QUOTED-PRINTABLE:<p>Taller para compartir la tarde mientras se realizan manualidades.</p><br />
X-ALT-DESC;FMTTYPE=text/html:<p>Taller para compartir la tarde mientras se realizan manualidades.</p><br />
SUMMARY:Taller de Abalorios
ORGANIZER:Asociacion Valencia Acoge
URL;VALUE=URI:https://orriolsenpositivo.es/actividades/taller-de-abalorios/
TRANSP:OPAQUE
END:VEVENT
BEGIN:VEVENT
CREATED:20260226T111220Z
UID:130
DTSTART;TZID=Europe/Madrid:20260528T170000
DTEND;TZID=Europe/Madrid:20260528T180000
DTSTAMP:20260420T113953Z
LOCATION:Calle Arquitecto Rodríguez\, 34 Bajo
DESCRIPTION;ENCODING=QUOTED-PRINTABLE:<p>Taller para compartir la tarde mientras se realizan manualidades.</p><br />
X-ALT-DESC;FMTTYPE=text/html:<p>Taller para compartir la tarde mientras se realizan manualidades.</p><br />
SUMMARY:Taller de Abalorios
ORGANIZER:Asociacion Valencia Acoge
URL;VALUE=URI:https://orriolsenpositivo.es/actividades/taller-de-abalorios/
TRANSP:OPAQUE
END:VEVENT
BEGIN:VEVENT
CREATED:20260226T111220Z
UID:129
DTSTART;TZID=Europe/Madrid:20260521T170000
DTEND;TZID=Europe/Madrid:20260521T180000
DTSTAMP:20260420T113953Z
LOCATION:Calle Arquitecto Rodríguez\, 34 Bajo
DESCRIPTION;ENCODING=QUOTED-PRINTABLE:<p>Taller para compartir la tarde mientras se realizan manualidades.</p><br />
X-ALT-DESC;FMTTYPE=text/html:<p>Taller para compartir la tarde mientras se realizan manualidades.</p><br />
SUMMARY:Taller de Abalorios
ORGANIZER:Asociacion Valencia Acoge
URL;VALUE=URI:https://orriolsenpositivo.es/actividades/taller-de-abalorios/
TRANSP:OPAQUE
END:VEVENT
BEGIN:VEVENT
CREATED:20260226T111220Z
UID:128
DTSTART;TZID=Europe/Madrid:20260514T170000
DTEND;TZID=Europe/Madrid:20260514T180000
DTSTAMP:20260420T113953Z
LOCATION:Calle Arquitecto Rodríguez\, 34 Bajo
DESCRIPTION;ENCODING=QUOTED-PRINTABLE:<p>Taller para compartir la tarde mientras se realizan manualidades.</p><br />
X-ALT-DESC;FMTTYPE=text/html:<p>Taller para compartir la tarde mientras se realizan manualidades.</p><br />
SUMMARY:Taller de Abalorios
ORGANIZER:Asociacion Valencia Acoge
URL;VALUE=URI:https://orriolsenpositivo.es/actividades/taller-de-abalorios/
TRANSP:OPAQUE
END:VEVENT
BEGIN:VEVENT
CREATED:20260226T111220Z
UID:127
DTSTART;TZID=Europe/Madrid:20260507T170000
DTEND;TZID=Europe/Madrid:20260507T180000
DTSTAMP:20260420T113953Z
LOCATION:Calle Arquitecto Rodríguez\, 34 Bajo
DESCRIPTION;ENCODING=QUOTED-PRINTABLE:<p>Taller para compartir la tarde mientras se realizan manualidades.</p><br />
X-ALT-DESC;FMTTYPE=text/html:<p>Taller para compartir la tarde mientras se realizan manualidades.</p><br />
SUMMARY:Taller de Abalorios
ORGANIZER:Asociacion Valencia Acoge
URL;VALUE=URI:https://orriolsenpositivo.es/actividades/taller-de-abalorios/
TRANSP:OPAQUE
END:VEVENT
BEGIN:VEVENT
CREATED:20260226T111220Z
UID:126
DTSTART;TZID=Europe/Madrid:20260430T170000
DTEND;TZID=Europe/Madrid:20260430T180000
DTSTAMP:20260420T113953Z
LOCATION:Calle Arquitecto Rodríguez\, 34 Bajo
DESCRIPTION;ENCODING=QUOTED-PRINTABLE:<p>Taller para compartir la tarde mientras se realizan manualidades.</p><br />
X-ALT-DESC;FMTTYPE=text/html:<p>Taller para compartir la tarde mientras se realizan manualidades.</p><br />
SUMMARY:Taller de Abalorios
ORGANIZER:Asociacion Valencia Acoge
URL;VALUE=URI:https://orriolsenpositivo.es/actividades/taller-de-abalorios/
TRANSP:OPAQUE
END:VEVENT
BEGIN:VEVENT
CREATED:20260226T111220Z
UID:125
DTSTART;TZID=Europe/Madrid:20260423T170000
DTEND;TZID=Europe/Madrid:20260423T180000
DTSTAMP:20260420T113953Z
LOCATION:Calle Arquitecto Rodríguez\, 34 Bajo
DESCRIPTION;ENCODING=QUOTED-PRINTABLE:<p>Taller para compartir la tarde mientras se realizan manualidades.</p><br />
X-ALT-DESC;FMTTYPE=text/html:<p>Taller para compartir la tarde mientras se realizan manualidades.</p><br />
SUMMARY:Taller de Abalorios
ORGANIZER:Asociacion Valencia Acoge
URL;VALUE=URI:https://orriolsenpositivo.es/actividades/taller-de-abalorios/
TRANSP:OPAQUE
END:VEVENT
BEGIN:VEVENT
CREATED:20260226T111220Z
UID:124
DTSTART;TZID=Europe/Madrid:20260416T170000
DTEND;TZID=Europe/Madrid:20260416T180000
DTSTAMP:20260420T113953Z
LOCATION:Calle Arquitecto Rodríguez\, 34 Bajo
DESCRIPTION;ENCODING=QUOTED-PRINTABLE:<p>Taller para compartir la tarde mientras se realizan manualidades.</p><br />
X-ALT-DESC;FMTTYPE=text/html:<p>Taller para compartir la tarde mientras se realizan manualidades.</p><br />
SUMMARY:Taller de Abalorios
ORGANIZER:Asociacion Valencia Acoge
URL;VALUE=URI:https://orriolsenpositivo.es/actividades/taller-de-abalorios/
TRANSP:OPAQUE
END:VEVENT
BEGIN:VEVENT
CREATED:20260226T111220Z
UID:123
DTSTART;TZID=Europe/Madrid:20260409T170000
DTEND;TZID=Europe/Madrid:20260409T180000
DTSTAMP:20260420T113953Z
LOCATION:Calle Arquitecto Rodríguez\, 34 Bajo
DESCRIPTION;ENCODING=QUOTED-PRINTABLE:<p>Taller para compartir la tarde mientras se realizan manualidades.</p><br />
X-ALT-DESC;FMTTYPE=text/html:<p>Taller para compartir la tarde mientras se realizan manualidades.</p><br />
SUMMARY:Taller de Abalorios
ORGANIZER:Asociacion Valencia Acoge
URL;VALUE=URI:https://orriolsenpositivo.es/actividades/taller-de-abalorios/
TRANSP:OPAQUE
END:VEVENT
BEGIN:VEVENT
CREATED:20260226T111220Z
UID:122
DTSTART;TZID=Europe/Madrid:20260402T170000
DTEND;TZID=Europe/Madrid:20260402T180000
DTSTAMP:20260420T113953Z
LOCATION:Calle Arquitecto Rodríguez\, 34 Bajo
DESCRIPTION;ENCODING=QUOTED-PRINTABLE:<p>Taller para compartir la tarde mientras se realizan manualidades.</p><br />
X-ALT-DESC;FMTTYPE=text/html:<p>Taller para compartir la tarde mientras se realizan manualidades.</p><br />
SUMMARY:Taller de Abalorios
ORGANIZER:Asociacion Valencia Acoge
URL;VALUE=URI:https://orriolsenpositivo.es/actividades/taller-de-abalorios/
TRANSP:OPAQUE
END:VEVENT
BEGIN:VEVENT
CREATED:20260226T111220Z
UID:121
DTSTART;TZID=Europe/Madrid:20260326T170000
DTEND;TZID=Europe/Madrid:20260326T180000
DTSTAMP:20260420T113953Z
LOCATION:Calle Arquitecto Rodríguez\, 34 Bajo
DESCRIPTION;ENCODING=QUOTED-PRINTABLE:<p>Taller para compartir la tarde mientras se realizan manualidades.</p><br />
X-ALT-DESC;FMTTYPE=text/html:<p>Taller para compartir la tarde mientras se realizan manualidades.</p><br />
SUMMARY:Taller de Abalorios
ORGANIZER:Asociacion Valencia Acoge
URL;VALUE=URI:https://orriolsenpositivo.es/actividades/taller-de-abalorios/
TRANSP:OPAQUE
END:VEVENT
BEGIN:VEVENT
CREATED:20260226T111220Z
UID:120
DTSTART;TZID=Europe/Madrid:20260319T170000
DTEND;TZID=Europe/Madrid:20260319T180000
DTSTAMP:20260420T113953Z
LOCATION:Calle Arquitecto Rodríguez\, 34 Bajo
DESCRIPTION;ENCODING=QUOTED-PRINTABLE:<p>Taller para compartir la tarde mientras se realizan manualidades.</p><br />
X-ALT-DESC;FMTTYPE=text/html:<p>Taller para compartir la tarde mientras se realizan manualidades.</p><br />
SUMMARY:Taller de Abalorios
ORGANIZER:Asociacion Valencia Acoge
URL;VALUE=URI:https://orriolsenpositivo.es/actividades/taller-de-abalorios/
TRANSP:OPAQUE
END:VEVENT
BEGIN:VEVENT
CREATED:20260226T111220Z
UID:119
DTSTART;TZID=Europe/Madrid:20260312T170000
DTEND;TZID=Europe/Madrid:20260312T180000
DTSTAMP:20260420T113953Z
LOCATION:Calle Arquitecto Rodríguez\, 34 Bajo
DESCRIPTION;ENCODING=QUOTED-PRINTABLE:<p>Taller para compartir la tarde mientras se realizan manualidades.</p><br />
X-ALT-DESC;FMTTYPE=text/html:<p>Taller para compartir la tarde mientras se realizan manualidades.</p><br />
SUMMARY:Taller de Abalorios
ORGANIZER:Asociacion Valencia Acoge
URL;VALUE=URI:https://orriolsenpositivo.es/actividades/taller-de-abalorios/
TRANSP:OPAQUE
END:VEVENT
BEGIN:VEVENT
CREATED:20260226T111220Z
UID:118
DTSTART;TZID=Europe/Madrid:20260305T170000
DTEND;TZID=Europe/Madrid:20260305T180000
DTSTAMP:20260420T113953Z
LOCATION:Calle Arquitecto Rodríguez\, 34 Bajo
DESCRIPTION;ENCODING=QUOTED-PRINTABLE:<p>Taller para compartir la tarde mientras se realizan manualidades.</p><br />
X-ALT-DESC;FMTTYPE=text/html:<p>Taller para compartir la tarde mientras se realizan manualidades.</p><br />
SUMMARY:Taller de Abalorios
ORGANIZER:Asociacion Valencia Acoge
URL;VALUE=URI:https://orriolsenpositivo.es/actividades/taller-de-abalorios/
TRANSP:OPAQUE
END:VEVENT
END:VCALENDAR
