BEGIN:VCALENDAR
VERSION:2.0
PRODID:-//Orriols en Positivo//NONSGML Grupo para familiares y amig@s de personas alcohólicas //EN
CALSCALE:GREGORIAN
X-WR-CALNAME:Grupo para familiares y amig@s de personas alcohólicas - Orriols en Positivo
X-Robots-Tag:noindex
X-WR-TIMEZONE:Europe/Madrid
BEGIN:VTIMEZONE
TZID:Europe/Madrid
X-LIC-LOCATION:Europe/Madrid
BEGIN:DAYLIGHT
TZOFFSETFROM:+0100
TZOFFSETTO:+0200
TZNAME:CEST
DTSTART:19700329T020000
RRULE:FREQ=YEARLY;BYMONTH=3;BYDAY=-1SU
END:DAYLIGHT
BEGIN:STANDARD
TZOFFSETFROM:+0200
TZOFFSETTO:+0100
TZNAME:CET
DTSTART:19701025T030000
RRULE:FREQ=YEARLY;BYMONTH=10;BYDAY=-1SU
END:STANDARD
END:VTIMEZONE
BEGIN:VEVENT
CREATED:20260226T110854Z
UID:116
DTSTART;TZID=Europe/Madrid:20260624T190000
DTEND;TZID=Europe/Madrid:20260624T200000
DTSTAMP:20260422T083300Z
LOCATION:Calle Arquitecto Rodríguez\, 34 Bajo
DESCRIPTION;ENCODING=QUOTED-PRINTABLE:<p>Grupo de apoyo para familias y amistades de personas en situación de alcoholismo.</p><br />
X-ALT-DESC;FMTTYPE=text/html:<p>Grupo de apoyo para familias y amistades de personas en situación de alcoholismo.</p><br />
SUMMARY:Grupo para familiares y amig@s de personas alcohólicas
ORGANIZER:Asociacion Valencia Acoge
URL;VALUE=URI:https://orriolsenpositivo.es/actividades/grupo-para-familiares-y-amigs-de-personas-alcoholicas/
TRANSP:OPAQUE
END:VEVENT
BEGIN:VEVENT
CREATED:20260226T110854Z
UID:115
DTSTART;TZID=Europe/Madrid:20260617T190000
DTEND;TZID=Europe/Madrid:20260617T200000
DTSTAMP:20260422T083300Z
LOCATION:Calle Arquitecto Rodríguez\, 34 Bajo
DESCRIPTION;ENCODING=QUOTED-PRINTABLE:<p>Grupo de apoyo para familias y amistades de personas en situación de alcoholismo.</p><br />
X-ALT-DESC;FMTTYPE=text/html:<p>Grupo de apoyo para familias y amistades de personas en situación de alcoholismo.</p><br />
SUMMARY:Grupo para familiares y amig@s de personas alcohólicas
ORGANIZER:Asociacion Valencia Acoge
URL;VALUE=URI:https://orriolsenpositivo.es/actividades/grupo-para-familiares-y-amigs-de-personas-alcoholicas/
TRANSP:OPAQUE
END:VEVENT
BEGIN:VEVENT
CREATED:20260226T110854Z
UID:114
DTSTART;TZID=Europe/Madrid:20260610T190000
DTEND;TZID=Europe/Madrid:20260610T200000
DTSTAMP:20260422T083300Z
LOCATION:Calle Arquitecto Rodríguez\, 34 Bajo
DESCRIPTION;ENCODING=QUOTED-PRINTABLE:<p>Grupo de apoyo para familias y amistades de personas en situación de alcoholismo.</p><br />
X-ALT-DESC;FMTTYPE=text/html:<p>Grupo de apoyo para familias y amistades de personas en situación de alcoholismo.</p><br />
SUMMARY:Grupo para familiares y amig@s de personas alcohólicas
ORGANIZER:Asociacion Valencia Acoge
URL;VALUE=URI:https://orriolsenpositivo.es/actividades/grupo-para-familiares-y-amigs-de-personas-alcoholicas/
TRANSP:OPAQUE
END:VEVENT
BEGIN:VEVENT
CREATED:20260226T110854Z
UID:113
DTSTART;TZID=Europe/Madrid:20260603T190000
DTEND;TZID=Europe/Madrid:20260603T200000
DTSTAMP:20260422T083300Z
LOCATION:Calle Arquitecto Rodríguez\, 34 Bajo
DESCRIPTION;ENCODING=QUOTED-PRINTABLE:<p>Grupo de apoyo para familias y amistades de personas en situación de alcoholismo.</p><br />
X-ALT-DESC;FMTTYPE=text/html:<p>Grupo de apoyo para familias y amistades de personas en situación de alcoholismo.</p><br />
SUMMARY:Grupo para familiares y amig@s de personas alcohólicas
ORGANIZER:Asociacion Valencia Acoge
URL;VALUE=URI:https://orriolsenpositivo.es/actividades/grupo-para-familiares-y-amigs-de-personas-alcoholicas/
TRANSP:OPAQUE
END:VEVENT
BEGIN:VEVENT
CREATED:20260226T110854Z
UID:112
DTSTART;TZID=Europe/Madrid:20260527T190000
DTEND;TZID=Europe/Madrid:20260527T200000
DTSTAMP:20260422T083300Z
LOCATION:Calle Arquitecto Rodríguez\, 34 Bajo
DESCRIPTION;ENCODING=QUOTED-PRINTABLE:<p>Grupo de apoyo para familias y amistades de personas en situación de alcoholismo.</p><br />
X-ALT-DESC;FMTTYPE=text/html:<p>Grupo de apoyo para familias y amistades de personas en situación de alcoholismo.</p><br />
SUMMARY:Grupo para familiares y amig@s de personas alcohólicas
ORGANIZER:Asociacion Valencia Acoge
URL;VALUE=URI:https://orriolsenpositivo.es/actividades/grupo-para-familiares-y-amigs-de-personas-alcoholicas/
TRANSP:OPAQUE
END:VEVENT
BEGIN:VEVENT
CREATED:20260226T110854Z
UID:111
DTSTART;TZID=Europe/Madrid:20260520T190000
DTEND;TZID=Europe/Madrid:20260520T200000
DTSTAMP:20260422T083300Z
LOCATION:Calle Arquitecto Rodríguez\, 34 Bajo
DESCRIPTION;ENCODING=QUOTED-PRINTABLE:<p>Grupo de apoyo para familias y amistades de personas en situación de alcoholismo.</p><br />
X-ALT-DESC;FMTTYPE=text/html:<p>Grupo de apoyo para familias y amistades de personas en situación de alcoholismo.</p><br />
SUMMARY:Grupo para familiares y amig@s de personas alcohólicas
ORGANIZER:Asociacion Valencia Acoge
URL;VALUE=URI:https://orriolsenpositivo.es/actividades/grupo-para-familiares-y-amigs-de-personas-alcoholicas/
TRANSP:OPAQUE
END:VEVENT
BEGIN:VEVENT
CREATED:20260226T110854Z
UID:110
DTSTART;TZID=Europe/Madrid:20260513T190000
DTEND;TZID=Europe/Madrid:20260513T200000
DTSTAMP:20260422T083300Z
LOCATION:Calle Arquitecto Rodríguez\, 34 Bajo
DESCRIPTION;ENCODING=QUOTED-PRINTABLE:<p>Grupo de apoyo para familias y amistades de personas en situación de alcoholismo.</p><br />
X-ALT-DESC;FMTTYPE=text/html:<p>Grupo de apoyo para familias y amistades de personas en situación de alcoholismo.</p><br />
SUMMARY:Grupo para familiares y amig@s de personas alcohólicas
ORGANIZER:Asociacion Valencia Acoge
URL;VALUE=URI:https://orriolsenpositivo.es/actividades/grupo-para-familiares-y-amigs-de-personas-alcoholicas/
TRANSP:OPAQUE
END:VEVENT
BEGIN:VEVENT
CREATED:20260226T110854Z
UID:109
DTSTART;TZID=Europe/Madrid:20260506T190000
DTEND;TZID=Europe/Madrid:20260506T200000
DTSTAMP:20260422T083300Z
LOCATION:Calle Arquitecto Rodríguez\, 34 Bajo
DESCRIPTION;ENCODING=QUOTED-PRINTABLE:<p>Grupo de apoyo para familias y amistades de personas en situación de alcoholismo.</p><br />
X-ALT-DESC;FMTTYPE=text/html:<p>Grupo de apoyo para familias y amistades de personas en situación de alcoholismo.</p><br />
SUMMARY:Grupo para familiares y amig@s de personas alcohólicas
ORGANIZER:Asociacion Valencia Acoge
URL;VALUE=URI:https://orriolsenpositivo.es/actividades/grupo-para-familiares-y-amigs-de-personas-alcoholicas/
TRANSP:OPAQUE
END:VEVENT
BEGIN:VEVENT
CREATED:20260226T110854Z
UID:108
DTSTART;TZID=Europe/Madrid:20260429T190000
DTEND;TZID=Europe/Madrid:20260429T200000
DTSTAMP:20260422T083300Z
LOCATION:Calle Arquitecto Rodríguez\, 34 Bajo
DESCRIPTION;ENCODING=QUOTED-PRINTABLE:<p>Grupo de apoyo para familias y amistades de personas en situación de alcoholismo.</p><br />
X-ALT-DESC;FMTTYPE=text/html:<p>Grupo de apoyo para familias y amistades de personas en situación de alcoholismo.</p><br />
SUMMARY:Grupo para familiares y amig@s de personas alcohólicas
ORGANIZER:Asociacion Valencia Acoge
URL;VALUE=URI:https://orriolsenpositivo.es/actividades/grupo-para-familiares-y-amigs-de-personas-alcoholicas/
TRANSP:OPAQUE
END:VEVENT
BEGIN:VEVENT
CREATED:20260226T110854Z
UID:107
DTSTART;TZID=Europe/Madrid:20260422T190000
DTEND;TZID=Europe/Madrid:20260422T200000
DTSTAMP:20260422T083300Z
LOCATION:Calle Arquitecto Rodríguez\, 34 Bajo
DESCRIPTION;ENCODING=QUOTED-PRINTABLE:<p>Grupo de apoyo para familias y amistades de personas en situación de alcoholismo.</p><br />
X-ALT-DESC;FMTTYPE=text/html:<p>Grupo de apoyo para familias y amistades de personas en situación de alcoholismo.</p><br />
SUMMARY:Grupo para familiares y amig@s de personas alcohólicas
ORGANIZER:Asociacion Valencia Acoge
URL;VALUE=URI:https://orriolsenpositivo.es/actividades/grupo-para-familiares-y-amigs-de-personas-alcoholicas/
TRANSP:OPAQUE
END:VEVENT
BEGIN:VEVENT
CREATED:20260226T110854Z
UID:106
DTSTART;TZID=Europe/Madrid:20260415T190000
DTEND;TZID=Europe/Madrid:20260415T200000
DTSTAMP:20260422T083300Z
LOCATION:Calle Arquitecto Rodríguez\, 34 Bajo
DESCRIPTION;ENCODING=QUOTED-PRINTABLE:<p>Grupo de apoyo para familias y amistades de personas en situación de alcoholismo.</p><br />
X-ALT-DESC;FMTTYPE=text/html:<p>Grupo de apoyo para familias y amistades de personas en situación de alcoholismo.</p><br />
SUMMARY:Grupo para familiares y amig@s de personas alcohólicas
ORGANIZER:Asociacion Valencia Acoge
URL;VALUE=URI:https://orriolsenpositivo.es/actividades/grupo-para-familiares-y-amigs-de-personas-alcoholicas/
TRANSP:OPAQUE
END:VEVENT
BEGIN:VEVENT
CREATED:20260226T110854Z
UID:105
DTSTART;TZID=Europe/Madrid:20260408T190000
DTEND;TZID=Europe/Madrid:20260408T200000
DTSTAMP:20260422T083300Z
LOCATION:Calle Arquitecto Rodríguez\, 34 Bajo
DESCRIPTION;ENCODING=QUOTED-PRINTABLE:<p>Grupo de apoyo para familias y amistades de personas en situación de alcoholismo.</p><br />
X-ALT-DESC;FMTTYPE=text/html:<p>Grupo de apoyo para familias y amistades de personas en situación de alcoholismo.</p><br />
SUMMARY:Grupo para familiares y amig@s de personas alcohólicas
ORGANIZER:Asociacion Valencia Acoge
URL;VALUE=URI:https://orriolsenpositivo.es/actividades/grupo-para-familiares-y-amigs-de-personas-alcoholicas/
TRANSP:OPAQUE
END:VEVENT
BEGIN:VEVENT
CREATED:20260226T110854Z
UID:104
DTSTART;TZID=Europe/Madrid:20260401T190000
DTEND;TZID=Europe/Madrid:20260401T200000
DTSTAMP:20260422T083300Z
LOCATION:Calle Arquitecto Rodríguez\, 34 Bajo
DESCRIPTION;ENCODING=QUOTED-PRINTABLE:<p>Grupo de apoyo para familias y amistades de personas en situación de alcoholismo.</p><br />
X-ALT-DESC;FMTTYPE=text/html:<p>Grupo de apoyo para familias y amistades de personas en situación de alcoholismo.</p><br />
SUMMARY:Grupo para familiares y amig@s de personas alcohólicas
ORGANIZER:Asociacion Valencia Acoge
URL;VALUE=URI:https://orriolsenpositivo.es/actividades/grupo-para-familiares-y-amigs-de-personas-alcoholicas/
TRANSP:OPAQUE
END:VEVENT
BEGIN:VEVENT
CREATED:20260226T110854Z
UID:103
DTSTART;TZID=Europe/Madrid:20260325T190000
DTEND;TZID=Europe/Madrid:20260325T200000
DTSTAMP:20260422T083300Z
LOCATION:Calle Arquitecto Rodríguez\, 34 Bajo
DESCRIPTION;ENCODING=QUOTED-PRINTABLE:<p>Grupo de apoyo para familias y amistades de personas en situación de alcoholismo.</p><br />
X-ALT-DESC;FMTTYPE=text/html:<p>Grupo de apoyo para familias y amistades de personas en situación de alcoholismo.</p><br />
SUMMARY:Grupo para familiares y amig@s de personas alcohólicas
ORGANIZER:Asociacion Valencia Acoge
URL;VALUE=URI:https://orriolsenpositivo.es/actividades/grupo-para-familiares-y-amigs-de-personas-alcoholicas/
TRANSP:OPAQUE
END:VEVENT
BEGIN:VEVENT
CREATED:20260226T110854Z
UID:102
DTSTART;TZID=Europe/Madrid:20260318T190000
DTEND;TZID=Europe/Madrid:20260318T200000
DTSTAMP:20260422T083300Z
LOCATION:Calle Arquitecto Rodríguez\, 34 Bajo
DESCRIPTION;ENCODING=QUOTED-PRINTABLE:<p>Grupo de apoyo para familias y amistades de personas en situación de alcoholismo.</p><br />
X-ALT-DESC;FMTTYPE=text/html:<p>Grupo de apoyo para familias y amistades de personas en situación de alcoholismo.</p><br />
SUMMARY:Grupo para familiares y amig@s de personas alcohólicas
ORGANIZER:Asociacion Valencia Acoge
URL;VALUE=URI:https://orriolsenpositivo.es/actividades/grupo-para-familiares-y-amigs-de-personas-alcoholicas/
TRANSP:OPAQUE
END:VEVENT
BEGIN:VEVENT
CREATED:20260226T110854Z
UID:101
DTSTART;TZID=Europe/Madrid:20260311T190000
DTEND;TZID=Europe/Madrid:20260311T200000
DTSTAMP:20260422T083300Z
LOCATION:Calle Arquitecto Rodríguez\, 34 Bajo
DESCRIPTION;ENCODING=QUOTED-PRINTABLE:<p>Grupo de apoyo para familias y amistades de personas en situación de alcoholismo.</p><br />
X-ALT-DESC;FMTTYPE=text/html:<p>Grupo de apoyo para familias y amistades de personas en situación de alcoholismo.</p><br />
SUMMARY:Grupo para familiares y amig@s de personas alcohólicas
ORGANIZER:Asociacion Valencia Acoge
URL;VALUE=URI:https://orriolsenpositivo.es/actividades/grupo-para-familiares-y-amigs-de-personas-alcoholicas/
TRANSP:OPAQUE
END:VEVENT
BEGIN:VEVENT
CREATED:20260226T110854Z
UID:100
DTSTART;TZID=Europe/Madrid:20260304T190000
DTEND;TZID=Europe/Madrid:20260304T200000
DTSTAMP:20260422T083300Z
LOCATION:Calle Arquitecto Rodríguez\, 34 Bajo
DESCRIPTION;ENCODING=QUOTED-PRINTABLE:<p>Grupo de apoyo para familias y amistades de personas en situación de alcoholismo.</p><br />
X-ALT-DESC;FMTTYPE=text/html:<p>Grupo de apoyo para familias y amistades de personas en situación de alcoholismo.</p><br />
SUMMARY:Grupo para familiares y amig@s de personas alcohólicas
ORGANIZER:Asociacion Valencia Acoge
URL;VALUE=URI:https://orriolsenpositivo.es/actividades/grupo-para-familiares-y-amigs-de-personas-alcoholicas/
TRANSP:OPAQUE
END:VEVENT
END:VCALENDAR
