BEGIN:VCALENDAR
VERSION:2.0
PRODID:-//Orriols en Positivo//NONSGML Escuela de Segunda Oportunidad. //EN
CALSCALE:GREGORIAN
X-WR-CALNAME:Escuela de Segunda Oportunidad. - Orriols en Positivo
X-Robots-Tag:noindex
X-WR-TIMEZONE:Europe/Madrid
BEGIN:VTIMEZONE
TZID:Europe/Madrid
X-LIC-LOCATION:Europe/Madrid
BEGIN:DAYLIGHT
TZOFFSETFROM:+0100
TZOFFSETTO:+0200
TZNAME:CEST
DTSTART:19700329T020000
RRULE:FREQ=YEARLY;BYMONTH=3;BYDAY=-1SU
END:DAYLIGHT
BEGIN:STANDARD
TZOFFSETFROM:+0200
TZOFFSETTO:+0100
TZNAME:CET
DTSTART:19701025T030000
RRULE:FREQ=YEARLY;BYMONTH=10;BYDAY=-1SU
END:STANDARD
END:VTIMEZONE
BEGIN:VEVENT
CREATED:20260226T110516Z
UID:99
DTSTART;TZID=Europe/Madrid:20260624T110000
DTEND;TZID=Europe/Madrid:20260624T120000
DTSTAMP:20260420T113753Z
LOCATION:Calle Montilla de Palancar\, 33 Bajo
DESCRIPTION;ENCODING=QUOTED-PRINTABLE:<p>Escuela de Segunda Oportunidad para jóvenes que no quieran seguir estudiando.</p><br />
X-ALT-DESC;FMTTYPE=text/html:<p>Escuela de Segunda Oportunidad para jóvenes que no quieran seguir estudiando.</p><br />
SUMMARY:Escuela de Segunda Oportunidad.
ORGANIZER:Asociacion Valencia Acoge
URL;VALUE=URI:https://orriolsenpositivo.es/actividades/escuela-de-segunda-oportunidad/
TRANSP:OPAQUE
END:VEVENT
BEGIN:VEVENT
CREATED:20260226T110516Z
UID:98
DTSTART;TZID=Europe/Madrid:20260617T110000
DTEND;TZID=Europe/Madrid:20260617T120000
DTSTAMP:20260420T113753Z
LOCATION:Calle Montilla de Palancar\, 33 Bajo
DESCRIPTION;ENCODING=QUOTED-PRINTABLE:<p>Escuela de Segunda Oportunidad para jóvenes que no quieran seguir estudiando.</p><br />
X-ALT-DESC;FMTTYPE=text/html:<p>Escuela de Segunda Oportunidad para jóvenes que no quieran seguir estudiando.</p><br />
SUMMARY:Escuela de Segunda Oportunidad.
ORGANIZER:Asociacion Valencia Acoge
URL;VALUE=URI:https://orriolsenpositivo.es/actividades/escuela-de-segunda-oportunidad/
TRANSP:OPAQUE
END:VEVENT
BEGIN:VEVENT
CREATED:20260226T110516Z
UID:97
DTSTART;TZID=Europe/Madrid:20260610T110000
DTEND;TZID=Europe/Madrid:20260610T120000
DTSTAMP:20260420T113753Z
LOCATION:Calle Montilla de Palancar\, 33 Bajo
DESCRIPTION;ENCODING=QUOTED-PRINTABLE:<p>Escuela de Segunda Oportunidad para jóvenes que no quieran seguir estudiando.</p><br />
X-ALT-DESC;FMTTYPE=text/html:<p>Escuela de Segunda Oportunidad para jóvenes que no quieran seguir estudiando.</p><br />
SUMMARY:Escuela de Segunda Oportunidad.
ORGANIZER:Asociacion Valencia Acoge
URL;VALUE=URI:https://orriolsenpositivo.es/actividades/escuela-de-segunda-oportunidad/
TRANSP:OPAQUE
END:VEVENT
BEGIN:VEVENT
CREATED:20260226T110516Z
UID:96
DTSTART;TZID=Europe/Madrid:20260603T110000
DTEND;TZID=Europe/Madrid:20260603T120000
DTSTAMP:20260420T113753Z
LOCATION:Calle Montilla de Palancar\, 33 Bajo
DESCRIPTION;ENCODING=QUOTED-PRINTABLE:<p>Escuela de Segunda Oportunidad para jóvenes que no quieran seguir estudiando.</p><br />
X-ALT-DESC;FMTTYPE=text/html:<p>Escuela de Segunda Oportunidad para jóvenes que no quieran seguir estudiando.</p><br />
SUMMARY:Escuela de Segunda Oportunidad.
ORGANIZER:Asociacion Valencia Acoge
URL;VALUE=URI:https://orriolsenpositivo.es/actividades/escuela-de-segunda-oportunidad/
TRANSP:OPAQUE
END:VEVENT
BEGIN:VEVENT
CREATED:20260226T110516Z
UID:95
DTSTART;TZID=Europe/Madrid:20260527T110000
DTEND;TZID=Europe/Madrid:20260527T120000
DTSTAMP:20260420T113753Z
LOCATION:Calle Montilla de Palancar\, 33 Bajo
DESCRIPTION;ENCODING=QUOTED-PRINTABLE:<p>Escuela de Segunda Oportunidad para jóvenes que no quieran seguir estudiando.</p><br />
X-ALT-DESC;FMTTYPE=text/html:<p>Escuela de Segunda Oportunidad para jóvenes que no quieran seguir estudiando.</p><br />
SUMMARY:Escuela de Segunda Oportunidad.
ORGANIZER:Asociacion Valencia Acoge
URL;VALUE=URI:https://orriolsenpositivo.es/actividades/escuela-de-segunda-oportunidad/
TRANSP:OPAQUE
END:VEVENT
BEGIN:VEVENT
CREATED:20260226T110516Z
UID:94
DTSTART;TZID=Europe/Madrid:20260520T110000
DTEND;TZID=Europe/Madrid:20260520T120000
DTSTAMP:20260420T113753Z
LOCATION:Calle Montilla de Palancar\, 33 Bajo
DESCRIPTION;ENCODING=QUOTED-PRINTABLE:<p>Escuela de Segunda Oportunidad para jóvenes que no quieran seguir estudiando.</p><br />
X-ALT-DESC;FMTTYPE=text/html:<p>Escuela de Segunda Oportunidad para jóvenes que no quieran seguir estudiando.</p><br />
SUMMARY:Escuela de Segunda Oportunidad.
ORGANIZER:Asociacion Valencia Acoge
URL;VALUE=URI:https://orriolsenpositivo.es/actividades/escuela-de-segunda-oportunidad/
TRANSP:OPAQUE
END:VEVENT
BEGIN:VEVENT
CREATED:20260226T110516Z
UID:93
DTSTART;TZID=Europe/Madrid:20260513T110000
DTEND;TZID=Europe/Madrid:20260513T120000
DTSTAMP:20260420T113753Z
LOCATION:Calle Montilla de Palancar\, 33 Bajo
DESCRIPTION;ENCODING=QUOTED-PRINTABLE:<p>Escuela de Segunda Oportunidad para jóvenes que no quieran seguir estudiando.</p><br />
X-ALT-DESC;FMTTYPE=text/html:<p>Escuela de Segunda Oportunidad para jóvenes que no quieran seguir estudiando.</p><br />
SUMMARY:Escuela de Segunda Oportunidad.
ORGANIZER:Asociacion Valencia Acoge
URL;VALUE=URI:https://orriolsenpositivo.es/actividades/escuela-de-segunda-oportunidad/
TRANSP:OPAQUE
END:VEVENT
BEGIN:VEVENT
CREATED:20260226T110516Z
UID:92
DTSTART;TZID=Europe/Madrid:20260506T110000
DTEND;TZID=Europe/Madrid:20260506T120000
DTSTAMP:20260420T113753Z
LOCATION:Calle Montilla de Palancar\, 33 Bajo
DESCRIPTION;ENCODING=QUOTED-PRINTABLE:<p>Escuela de Segunda Oportunidad para jóvenes que no quieran seguir estudiando.</p><br />
X-ALT-DESC;FMTTYPE=text/html:<p>Escuela de Segunda Oportunidad para jóvenes que no quieran seguir estudiando.</p><br />
SUMMARY:Escuela de Segunda Oportunidad.
ORGANIZER:Asociacion Valencia Acoge
URL;VALUE=URI:https://orriolsenpositivo.es/actividades/escuela-de-segunda-oportunidad/
TRANSP:OPAQUE
END:VEVENT
BEGIN:VEVENT
CREATED:20260226T110516Z
UID:91
DTSTART;TZID=Europe/Madrid:20260429T110000
DTEND;TZID=Europe/Madrid:20260429T120000
DTSTAMP:20260420T113753Z
LOCATION:Calle Montilla de Palancar\, 33 Bajo
DESCRIPTION;ENCODING=QUOTED-PRINTABLE:<p>Escuela de Segunda Oportunidad para jóvenes que no quieran seguir estudiando.</p><br />
X-ALT-DESC;FMTTYPE=text/html:<p>Escuela de Segunda Oportunidad para jóvenes que no quieran seguir estudiando.</p><br />
SUMMARY:Escuela de Segunda Oportunidad.
ORGANIZER:Asociacion Valencia Acoge
URL;VALUE=URI:https://orriolsenpositivo.es/actividades/escuela-de-segunda-oportunidad/
TRANSP:OPAQUE
END:VEVENT
BEGIN:VEVENT
CREATED:20260226T110516Z
UID:90
DTSTART;TZID=Europe/Madrid:20260422T110000
DTEND;TZID=Europe/Madrid:20260422T120000
DTSTAMP:20260420T113753Z
LOCATION:Calle Montilla de Palancar\, 33 Bajo
DESCRIPTION;ENCODING=QUOTED-PRINTABLE:<p>Escuela de Segunda Oportunidad para jóvenes que no quieran seguir estudiando.</p><br />
X-ALT-DESC;FMTTYPE=text/html:<p>Escuela de Segunda Oportunidad para jóvenes que no quieran seguir estudiando.</p><br />
SUMMARY:Escuela de Segunda Oportunidad.
ORGANIZER:Asociacion Valencia Acoge
URL;VALUE=URI:https://orriolsenpositivo.es/actividades/escuela-de-segunda-oportunidad/
TRANSP:OPAQUE
END:VEVENT
BEGIN:VEVENT
CREATED:20260226T110516Z
UID:89
DTSTART;TZID=Europe/Madrid:20260415T110000
DTEND;TZID=Europe/Madrid:20260415T120000
DTSTAMP:20260420T113753Z
LOCATION:Calle Montilla de Palancar\, 33 Bajo
DESCRIPTION;ENCODING=QUOTED-PRINTABLE:<p>Escuela de Segunda Oportunidad para jóvenes que no quieran seguir estudiando.</p><br />
X-ALT-DESC;FMTTYPE=text/html:<p>Escuela de Segunda Oportunidad para jóvenes que no quieran seguir estudiando.</p><br />
SUMMARY:Escuela de Segunda Oportunidad.
ORGANIZER:Asociacion Valencia Acoge
URL;VALUE=URI:https://orriolsenpositivo.es/actividades/escuela-de-segunda-oportunidad/
TRANSP:OPAQUE
END:VEVENT
BEGIN:VEVENT
CREATED:20260226T110516Z
UID:88
DTSTART;TZID=Europe/Madrid:20260408T110000
DTEND;TZID=Europe/Madrid:20260408T120000
DTSTAMP:20260420T113753Z
LOCATION:Calle Montilla de Palancar\, 33 Bajo
DESCRIPTION;ENCODING=QUOTED-PRINTABLE:<p>Escuela de Segunda Oportunidad para jóvenes que no quieran seguir estudiando.</p><br />
X-ALT-DESC;FMTTYPE=text/html:<p>Escuela de Segunda Oportunidad para jóvenes que no quieran seguir estudiando.</p><br />
SUMMARY:Escuela de Segunda Oportunidad.
ORGANIZER:Asociacion Valencia Acoge
URL;VALUE=URI:https://orriolsenpositivo.es/actividades/escuela-de-segunda-oportunidad/
TRANSP:OPAQUE
END:VEVENT
BEGIN:VEVENT
CREATED:20260226T110516Z
UID:87
DTSTART;TZID=Europe/Madrid:20260401T110000
DTEND;TZID=Europe/Madrid:20260401T120000
DTSTAMP:20260420T113753Z
LOCATION:Calle Montilla de Palancar\, 33 Bajo
DESCRIPTION;ENCODING=QUOTED-PRINTABLE:<p>Escuela de Segunda Oportunidad para jóvenes que no quieran seguir estudiando.</p><br />
X-ALT-DESC;FMTTYPE=text/html:<p>Escuela de Segunda Oportunidad para jóvenes que no quieran seguir estudiando.</p><br />
SUMMARY:Escuela de Segunda Oportunidad.
ORGANIZER:Asociacion Valencia Acoge
URL;VALUE=URI:https://orriolsenpositivo.es/actividades/escuela-de-segunda-oportunidad/
TRANSP:OPAQUE
END:VEVENT
BEGIN:VEVENT
CREATED:20260226T110516Z
UID:86
DTSTART;TZID=Europe/Madrid:20260325T110000
DTEND;TZID=Europe/Madrid:20260325T120000
DTSTAMP:20260420T113753Z
LOCATION:Calle Montilla de Palancar\, 33 Bajo
DESCRIPTION;ENCODING=QUOTED-PRINTABLE:<p>Escuela de Segunda Oportunidad para jóvenes que no quieran seguir estudiando.</p><br />
X-ALT-DESC;FMTTYPE=text/html:<p>Escuela de Segunda Oportunidad para jóvenes que no quieran seguir estudiando.</p><br />
SUMMARY:Escuela de Segunda Oportunidad.
ORGANIZER:Asociacion Valencia Acoge
URL;VALUE=URI:https://orriolsenpositivo.es/actividades/escuela-de-segunda-oportunidad/
TRANSP:OPAQUE
END:VEVENT
BEGIN:VEVENT
CREATED:20260226T110516Z
UID:85
DTSTART;TZID=Europe/Madrid:20260318T110000
DTEND;TZID=Europe/Madrid:20260318T120000
DTSTAMP:20260420T113753Z
LOCATION:Calle Montilla de Palancar\, 33 Bajo
DESCRIPTION;ENCODING=QUOTED-PRINTABLE:<p>Escuela de Segunda Oportunidad para jóvenes que no quieran seguir estudiando.</p><br />
X-ALT-DESC;FMTTYPE=text/html:<p>Escuela de Segunda Oportunidad para jóvenes que no quieran seguir estudiando.</p><br />
SUMMARY:Escuela de Segunda Oportunidad.
ORGANIZER:Asociacion Valencia Acoge
URL;VALUE=URI:https://orriolsenpositivo.es/actividades/escuela-de-segunda-oportunidad/
TRANSP:OPAQUE
END:VEVENT
BEGIN:VEVENT
CREATED:20260226T110516Z
UID:84
DTSTART;TZID=Europe/Madrid:20260311T110000
DTEND;TZID=Europe/Madrid:20260311T120000
DTSTAMP:20260420T113753Z
LOCATION:Calle Montilla de Palancar\, 33 Bajo
DESCRIPTION;ENCODING=QUOTED-PRINTABLE:<p>Escuela de Segunda Oportunidad para jóvenes que no quieran seguir estudiando.</p><br />
X-ALT-DESC;FMTTYPE=text/html:<p>Escuela de Segunda Oportunidad para jóvenes que no quieran seguir estudiando.</p><br />
SUMMARY:Escuela de Segunda Oportunidad.
ORGANIZER:Asociacion Valencia Acoge
URL;VALUE=URI:https://orriolsenpositivo.es/actividades/escuela-de-segunda-oportunidad/
TRANSP:OPAQUE
END:VEVENT
BEGIN:VEVENT
CREATED:20260226T110516Z
UID:83
DTSTART;TZID=Europe/Madrid:20260304T110000
DTEND;TZID=Europe/Madrid:20260304T120000
DTSTAMP:20260420T113753Z
LOCATION:Calle Montilla de Palancar\, 33 Bajo
DESCRIPTION;ENCODING=QUOTED-PRINTABLE:<p>Escuela de Segunda Oportunidad para jóvenes que no quieran seguir estudiando.</p><br />
X-ALT-DESC;FMTTYPE=text/html:<p>Escuela de Segunda Oportunidad para jóvenes que no quieran seguir estudiando.</p><br />
SUMMARY:Escuela de Segunda Oportunidad.
ORGANIZER:Asociacion Valencia Acoge
URL;VALUE=URI:https://orriolsenpositivo.es/actividades/escuela-de-segunda-oportunidad/
TRANSP:OPAQUE
END:VEVENT
END:VCALENDAR
