BEGIN:VCALENDAR
VERSION:2.0
PRODID:-//Orriols en Positivo//NONSGML Refuerzo escolar //EN
CALSCALE:GREGORIAN
X-WR-CALNAME:Refuerzo escolar - Orriols en Positivo
X-Robots-Tag:noindex
X-WR-TIMEZONE:Europe/Madrid
BEGIN:VTIMEZONE
TZID:Europe/Madrid
X-LIC-LOCATION:Europe/Madrid
BEGIN:DAYLIGHT
TZOFFSETFROM:+0100
TZOFFSETTO:+0200
TZNAME:CEST
DTSTART:19700329T020000
RRULE:FREQ=YEARLY;BYMONTH=3;BYDAY=-1SU
END:DAYLIGHT
BEGIN:STANDARD
TZOFFSETFROM:+0200
TZOFFSETTO:+0100
TZNAME:CET
DTSTART:19701025T030000
RRULE:FREQ=YEARLY;BYMONTH=10;BYDAY=-1SU
END:STANDARD
END:VTIMEZONE
BEGIN:VEVENT
CREATED:20260226T105708Z
UID:82
DTSTART;TZID=Europe/Madrid:20260618T180000
DTEND;TZID=Europe/Madrid:20260618T200000
DTSTAMP:20260420T113813Z
LOCATION:Calle Marqués de Montortal\, 65 Bajo
DESCRIPTION;ENCODING=QUOTED-PRINTABLE:<p>Refuerzo educativo para niños y niñas hasta 14 años</p><br />
X-ALT-DESC;FMTTYPE=text/html:<p>Refuerzo educativo para niños y niñas hasta 14 años</p><br />
SUMMARY:Refuerzo escolar
ORGANIZER:Asociacion Valencia Acoge
URL;VALUE=URI:https://orriolsenpositivo.es/actividades/refuerzo-escolar/
TRANSP:OPAQUE
END:VEVENT
BEGIN:VEVENT
CREATED:20260226T105708Z
UID:81
DTSTART;TZID=Europe/Madrid:20260611T180000
DTEND;TZID=Europe/Madrid:20260611T200000
DTSTAMP:20260420T113813Z
LOCATION:Calle Marqués de Montortal\, 65 Bajo
DESCRIPTION;ENCODING=QUOTED-PRINTABLE:<p>Refuerzo educativo para niños y niñas hasta 14 años</p><br />
X-ALT-DESC;FMTTYPE=text/html:<p>Refuerzo educativo para niños y niñas hasta 14 años</p><br />
SUMMARY:Refuerzo escolar
ORGANIZER:Asociacion Valencia Acoge
URL;VALUE=URI:https://orriolsenpositivo.es/actividades/refuerzo-escolar/
TRANSP:OPAQUE
END:VEVENT
BEGIN:VEVENT
CREATED:20260226T105708Z
UID:80
DTSTART;TZID=Europe/Madrid:20260604T180000
DTEND;TZID=Europe/Madrid:20260604T200000
DTSTAMP:20260420T113813Z
LOCATION:Calle Marqués de Montortal\, 65 Bajo
DESCRIPTION;ENCODING=QUOTED-PRINTABLE:<p>Refuerzo educativo para niños y niñas hasta 14 años</p><br />
X-ALT-DESC;FMTTYPE=text/html:<p>Refuerzo educativo para niños y niñas hasta 14 años</p><br />
SUMMARY:Refuerzo escolar
ORGANIZER:Asociacion Valencia Acoge
URL;VALUE=URI:https://orriolsenpositivo.es/actividades/refuerzo-escolar/
TRANSP:OPAQUE
END:VEVENT
BEGIN:VEVENT
CREATED:20260226T105708Z
UID:79
DTSTART;TZID=Europe/Madrid:20260528T180000
DTEND;TZID=Europe/Madrid:20260528T200000
DTSTAMP:20260420T113813Z
LOCATION:Calle Marqués de Montortal\, 65 Bajo
DESCRIPTION;ENCODING=QUOTED-PRINTABLE:<p>Refuerzo educativo para niños y niñas hasta 14 años</p><br />
X-ALT-DESC;FMTTYPE=text/html:<p>Refuerzo educativo para niños y niñas hasta 14 años</p><br />
SUMMARY:Refuerzo escolar
ORGANIZER:Asociacion Valencia Acoge
URL;VALUE=URI:https://orriolsenpositivo.es/actividades/refuerzo-escolar/
TRANSP:OPAQUE
END:VEVENT
BEGIN:VEVENT
CREATED:20260226T105708Z
UID:78
DTSTART;TZID=Europe/Madrid:20260521T180000
DTEND;TZID=Europe/Madrid:20260521T200000
DTSTAMP:20260420T113813Z
LOCATION:Calle Marqués de Montortal\, 65 Bajo
DESCRIPTION;ENCODING=QUOTED-PRINTABLE:<p>Refuerzo educativo para niños y niñas hasta 14 años</p><br />
X-ALT-DESC;FMTTYPE=text/html:<p>Refuerzo educativo para niños y niñas hasta 14 años</p><br />
SUMMARY:Refuerzo escolar
ORGANIZER:Asociacion Valencia Acoge
URL;VALUE=URI:https://orriolsenpositivo.es/actividades/refuerzo-escolar/
TRANSP:OPAQUE
END:VEVENT
BEGIN:VEVENT
CREATED:20260226T105708Z
UID:77
DTSTART;TZID=Europe/Madrid:20260514T180000
DTEND;TZID=Europe/Madrid:20260514T200000
DTSTAMP:20260420T113813Z
LOCATION:Calle Marqués de Montortal\, 65 Bajo
DESCRIPTION;ENCODING=QUOTED-PRINTABLE:<p>Refuerzo educativo para niños y niñas hasta 14 años</p><br />
X-ALT-DESC;FMTTYPE=text/html:<p>Refuerzo educativo para niños y niñas hasta 14 años</p><br />
SUMMARY:Refuerzo escolar
ORGANIZER:Asociacion Valencia Acoge
URL;VALUE=URI:https://orriolsenpositivo.es/actividades/refuerzo-escolar/
TRANSP:OPAQUE
END:VEVENT
BEGIN:VEVENT
CREATED:20260226T105708Z
UID:76
DTSTART;TZID=Europe/Madrid:20260507T180000
DTEND;TZID=Europe/Madrid:20260507T200000
DTSTAMP:20260420T113813Z
LOCATION:Calle Marqués de Montortal\, 65 Bajo
DESCRIPTION;ENCODING=QUOTED-PRINTABLE:<p>Refuerzo educativo para niños y niñas hasta 14 años</p><br />
X-ALT-DESC;FMTTYPE=text/html:<p>Refuerzo educativo para niños y niñas hasta 14 años</p><br />
SUMMARY:Refuerzo escolar
ORGANIZER:Asociacion Valencia Acoge
URL;VALUE=URI:https://orriolsenpositivo.es/actividades/refuerzo-escolar/
TRANSP:OPAQUE
END:VEVENT
BEGIN:VEVENT
CREATED:20260226T105708Z
UID:75
DTSTART;TZID=Europe/Madrid:20260430T180000
DTEND;TZID=Europe/Madrid:20260430T200000
DTSTAMP:20260420T113813Z
LOCATION:Calle Marqués de Montortal\, 65 Bajo
DESCRIPTION;ENCODING=QUOTED-PRINTABLE:<p>Refuerzo educativo para niños y niñas hasta 14 años</p><br />
X-ALT-DESC;FMTTYPE=text/html:<p>Refuerzo educativo para niños y niñas hasta 14 años</p><br />
SUMMARY:Refuerzo escolar
ORGANIZER:Asociacion Valencia Acoge
URL;VALUE=URI:https://orriolsenpositivo.es/actividades/refuerzo-escolar/
TRANSP:OPAQUE
END:VEVENT
BEGIN:VEVENT
CREATED:20260226T105708Z
UID:74
DTSTART;TZID=Europe/Madrid:20260423T180000
DTEND;TZID=Europe/Madrid:20260423T200000
DTSTAMP:20260420T113813Z
LOCATION:Calle Marqués de Montortal\, 65 Bajo
DESCRIPTION;ENCODING=QUOTED-PRINTABLE:<p>Refuerzo educativo para niños y niñas hasta 14 años</p><br />
X-ALT-DESC;FMTTYPE=text/html:<p>Refuerzo educativo para niños y niñas hasta 14 años</p><br />
SUMMARY:Refuerzo escolar
ORGANIZER:Asociacion Valencia Acoge
URL;VALUE=URI:https://orriolsenpositivo.es/actividades/refuerzo-escolar/
TRANSP:OPAQUE
END:VEVENT
BEGIN:VEVENT
CREATED:20260226T105708Z
UID:73
DTSTART;TZID=Europe/Madrid:20260416T180000
DTEND;TZID=Europe/Madrid:20260416T200000
DTSTAMP:20260420T113813Z
LOCATION:Calle Marqués de Montortal\, 65 Bajo
DESCRIPTION;ENCODING=QUOTED-PRINTABLE:<p>Refuerzo educativo para niños y niñas hasta 14 años</p><br />
X-ALT-DESC;FMTTYPE=text/html:<p>Refuerzo educativo para niños y niñas hasta 14 años</p><br />
SUMMARY:Refuerzo escolar
ORGANIZER:Asociacion Valencia Acoge
URL;VALUE=URI:https://orriolsenpositivo.es/actividades/refuerzo-escolar/
TRANSP:OPAQUE
END:VEVENT
BEGIN:VEVENT
CREATED:20260226T105708Z
UID:72
DTSTART;TZID=Europe/Madrid:20260409T180000
DTEND;TZID=Europe/Madrid:20260409T200000
DTSTAMP:20260420T113813Z
LOCATION:Calle Marqués de Montortal\, 65 Bajo
DESCRIPTION;ENCODING=QUOTED-PRINTABLE:<p>Refuerzo educativo para niños y niñas hasta 14 años</p><br />
X-ALT-DESC;FMTTYPE=text/html:<p>Refuerzo educativo para niños y niñas hasta 14 años</p><br />
SUMMARY:Refuerzo escolar
ORGANIZER:Asociacion Valencia Acoge
URL;VALUE=URI:https://orriolsenpositivo.es/actividades/refuerzo-escolar/
TRANSP:OPAQUE
END:VEVENT
BEGIN:VEVENT
CREATED:20260226T105708Z
UID:71
DTSTART;TZID=Europe/Madrid:20260402T180000
DTEND;TZID=Europe/Madrid:20260402T200000
DTSTAMP:20260420T113813Z
LOCATION:Calle Marqués de Montortal\, 65 Bajo
DESCRIPTION;ENCODING=QUOTED-PRINTABLE:<p>Refuerzo educativo para niños y niñas hasta 14 años</p><br />
X-ALT-DESC;FMTTYPE=text/html:<p>Refuerzo educativo para niños y niñas hasta 14 años</p><br />
SUMMARY:Refuerzo escolar
ORGANIZER:Asociacion Valencia Acoge
URL;VALUE=URI:https://orriolsenpositivo.es/actividades/refuerzo-escolar/
TRANSP:OPAQUE
END:VEVENT
BEGIN:VEVENT
CREATED:20260226T105708Z
UID:70
DTSTART;TZID=Europe/Madrid:20260326T180000
DTEND;TZID=Europe/Madrid:20260326T200000
DTSTAMP:20260420T113813Z
LOCATION:Calle Marqués de Montortal\, 65 Bajo
DESCRIPTION;ENCODING=QUOTED-PRINTABLE:<p>Refuerzo educativo para niños y niñas hasta 14 años</p><br />
X-ALT-DESC;FMTTYPE=text/html:<p>Refuerzo educativo para niños y niñas hasta 14 años</p><br />
SUMMARY:Refuerzo escolar
ORGANIZER:Asociacion Valencia Acoge
URL;VALUE=URI:https://orriolsenpositivo.es/actividades/refuerzo-escolar/
TRANSP:OPAQUE
END:VEVENT
BEGIN:VEVENT
CREATED:20260226T105708Z
UID:69
DTSTART;TZID=Europe/Madrid:20260319T180000
DTEND;TZID=Europe/Madrid:20260319T200000
DTSTAMP:20260420T113813Z
LOCATION:Calle Marqués de Montortal\, 65 Bajo
DESCRIPTION;ENCODING=QUOTED-PRINTABLE:<p>Refuerzo educativo para niños y niñas hasta 14 años</p><br />
X-ALT-DESC;FMTTYPE=text/html:<p>Refuerzo educativo para niños y niñas hasta 14 años</p><br />
SUMMARY:Refuerzo escolar
ORGANIZER:Asociacion Valencia Acoge
URL;VALUE=URI:https://orriolsenpositivo.es/actividades/refuerzo-escolar/
TRANSP:OPAQUE
END:VEVENT
BEGIN:VEVENT
CREATED:20260226T105708Z
UID:68
DTSTART;TZID=Europe/Madrid:20260312T180000
DTEND;TZID=Europe/Madrid:20260312T200000
DTSTAMP:20260420T113813Z
LOCATION:Calle Marqués de Montortal\, 65 Bajo
DESCRIPTION;ENCODING=QUOTED-PRINTABLE:<p>Refuerzo educativo para niños y niñas hasta 14 años</p><br />
X-ALT-DESC;FMTTYPE=text/html:<p>Refuerzo educativo para niños y niñas hasta 14 años</p><br />
SUMMARY:Refuerzo escolar
ORGANIZER:Asociacion Valencia Acoge
URL;VALUE=URI:https://orriolsenpositivo.es/actividades/refuerzo-escolar/
TRANSP:OPAQUE
END:VEVENT
BEGIN:VEVENT
CREATED:20260226T105708Z
UID:67
DTSTART;TZID=Europe/Madrid:20260305T180000
DTEND;TZID=Europe/Madrid:20260305T200000
DTSTAMP:20260420T113813Z
LOCATION:Calle Marqués de Montortal\, 65 Bajo
DESCRIPTION;ENCODING=QUOTED-PRINTABLE:<p>Refuerzo educativo para niños y niñas hasta 14 años</p><br />
X-ALT-DESC;FMTTYPE=text/html:<p>Refuerzo educativo para niños y niñas hasta 14 años</p><br />
SUMMARY:Refuerzo escolar
ORGANIZER:Asociacion Valencia Acoge
URL;VALUE=URI:https://orriolsenpositivo.es/actividades/refuerzo-escolar/
TRANSP:OPAQUE
END:VEVENT
BEGIN:VEVENT
CREATED:20260226T105708Z
UID:66
DTSTART;TZID=Europe/Madrid:20260615T180000
DTEND;TZID=Europe/Madrid:20260615T200000
DTSTAMP:20260420T113813Z
LOCATION:Calle Marqués de Montortal\, 65 Bajo
DESCRIPTION;ENCODING=QUOTED-PRINTABLE:<p>Refuerzo educativo para niños y niñas hasta 14 años</p><br />
X-ALT-DESC;FMTTYPE=text/html:<p>Refuerzo educativo para niños y niñas hasta 14 años</p><br />
SUMMARY:Refuerzo escolar
ORGANIZER:Asociacion Valencia Acoge
URL;VALUE=URI:https://orriolsenpositivo.es/actividades/refuerzo-escolar/
TRANSP:OPAQUE
END:VEVENT
BEGIN:VEVENT
CREATED:20260226T105708Z
UID:65
DTSTART;TZID=Europe/Madrid:20260608T180000
DTEND;TZID=Europe/Madrid:20260608T200000
DTSTAMP:20260420T113813Z
LOCATION:Calle Marqués de Montortal\, 65 Bajo
DESCRIPTION;ENCODING=QUOTED-PRINTABLE:<p>Refuerzo educativo para niños y niñas hasta 14 años</p><br />
X-ALT-DESC;FMTTYPE=text/html:<p>Refuerzo educativo para niños y niñas hasta 14 años</p><br />
SUMMARY:Refuerzo escolar
ORGANIZER:Asociacion Valencia Acoge
URL;VALUE=URI:https://orriolsenpositivo.es/actividades/refuerzo-escolar/
TRANSP:OPAQUE
END:VEVENT
BEGIN:VEVENT
CREATED:20260226T105708Z
UID:64
DTSTART;TZID=Europe/Madrid:20260601T180000
DTEND;TZID=Europe/Madrid:20260601T200000
DTSTAMP:20260420T113813Z
LOCATION:Calle Marqués de Montortal\, 65 Bajo
DESCRIPTION;ENCODING=QUOTED-PRINTABLE:<p>Refuerzo educativo para niños y niñas hasta 14 años</p><br />
X-ALT-DESC;FMTTYPE=text/html:<p>Refuerzo educativo para niños y niñas hasta 14 años</p><br />
SUMMARY:Refuerzo escolar
ORGANIZER:Asociacion Valencia Acoge
URL;VALUE=URI:https://orriolsenpositivo.es/actividades/refuerzo-escolar/
TRANSP:OPAQUE
END:VEVENT
BEGIN:VEVENT
CREATED:20260226T105708Z
UID:63
DTSTART;TZID=Europe/Madrid:20260525T180000
DTEND;TZID=Europe/Madrid:20260525T200000
DTSTAMP:20260420T113813Z
LOCATION:Calle Marqués de Montortal\, 65 Bajo
DESCRIPTION;ENCODING=QUOTED-PRINTABLE:<p>Refuerzo educativo para niños y niñas hasta 14 años</p><br />
X-ALT-DESC;FMTTYPE=text/html:<p>Refuerzo educativo para niños y niñas hasta 14 años</p><br />
SUMMARY:Refuerzo escolar
ORGANIZER:Asociacion Valencia Acoge
URL;VALUE=URI:https://orriolsenpositivo.es/actividades/refuerzo-escolar/
TRANSP:OPAQUE
END:VEVENT
BEGIN:VEVENT
CREATED:20260226T105708Z
UID:62
DTSTART;TZID=Europe/Madrid:20260518T180000
DTEND;TZID=Europe/Madrid:20260518T200000
DTSTAMP:20260420T113813Z
LOCATION:Calle Marqués de Montortal\, 65 Bajo
DESCRIPTION;ENCODING=QUOTED-PRINTABLE:<p>Refuerzo educativo para niños y niñas hasta 14 años</p><br />
X-ALT-DESC;FMTTYPE=text/html:<p>Refuerzo educativo para niños y niñas hasta 14 años</p><br />
SUMMARY:Refuerzo escolar
ORGANIZER:Asociacion Valencia Acoge
URL;VALUE=URI:https://orriolsenpositivo.es/actividades/refuerzo-escolar/
TRANSP:OPAQUE
END:VEVENT
BEGIN:VEVENT
CREATED:20260226T105708Z
UID:61
DTSTART;TZID=Europe/Madrid:20260511T180000
DTEND;TZID=Europe/Madrid:20260511T200000
DTSTAMP:20260420T113813Z
LOCATION:Calle Marqués de Montortal\, 65 Bajo
DESCRIPTION;ENCODING=QUOTED-PRINTABLE:<p>Refuerzo educativo para niños y niñas hasta 14 años</p><br />
X-ALT-DESC;FMTTYPE=text/html:<p>Refuerzo educativo para niños y niñas hasta 14 años</p><br />
SUMMARY:Refuerzo escolar
ORGANIZER:Asociacion Valencia Acoge
URL;VALUE=URI:https://orriolsenpositivo.es/actividades/refuerzo-escolar/
TRANSP:OPAQUE
END:VEVENT
BEGIN:VEVENT
CREATED:20260226T105708Z
UID:60
DTSTART;TZID=Europe/Madrid:20260504T180000
DTEND;TZID=Europe/Madrid:20260504T200000
DTSTAMP:20260420T113813Z
LOCATION:Calle Marqués de Montortal\, 65 Bajo
DESCRIPTION;ENCODING=QUOTED-PRINTABLE:<p>Refuerzo educativo para niños y niñas hasta 14 años</p><br />
X-ALT-DESC;FMTTYPE=text/html:<p>Refuerzo educativo para niños y niñas hasta 14 años</p><br />
SUMMARY:Refuerzo escolar
ORGANIZER:Asociacion Valencia Acoge
URL;VALUE=URI:https://orriolsenpositivo.es/actividades/refuerzo-escolar/
TRANSP:OPAQUE
END:VEVENT
BEGIN:VEVENT
CREATED:20260226T105708Z
UID:59
DTSTART;TZID=Europe/Madrid:20260427T180000
DTEND;TZID=Europe/Madrid:20260427T200000
DTSTAMP:20260420T113813Z
LOCATION:Calle Marqués de Montortal\, 65 Bajo
DESCRIPTION;ENCODING=QUOTED-PRINTABLE:<p>Refuerzo educativo para niños y niñas hasta 14 años</p><br />
X-ALT-DESC;FMTTYPE=text/html:<p>Refuerzo educativo para niños y niñas hasta 14 años</p><br />
SUMMARY:Refuerzo escolar
ORGANIZER:Asociacion Valencia Acoge
URL;VALUE=URI:https://orriolsenpositivo.es/actividades/refuerzo-escolar/
TRANSP:OPAQUE
END:VEVENT
BEGIN:VEVENT
CREATED:20260226T105708Z
UID:58
DTSTART;TZID=Europe/Madrid:20260420T180000
DTEND;TZID=Europe/Madrid:20260420T200000
DTSTAMP:20260420T113813Z
LOCATION:Calle Marqués de Montortal\, 65 Bajo
DESCRIPTION;ENCODING=QUOTED-PRINTABLE:<p>Refuerzo educativo para niños y niñas hasta 14 años</p><br />
X-ALT-DESC;FMTTYPE=text/html:<p>Refuerzo educativo para niños y niñas hasta 14 años</p><br />
SUMMARY:Refuerzo escolar
ORGANIZER:Asociacion Valencia Acoge
URL;VALUE=URI:https://orriolsenpositivo.es/actividades/refuerzo-escolar/
TRANSP:OPAQUE
END:VEVENT
BEGIN:VEVENT
CREATED:20260226T105708Z
UID:57
DTSTART;TZID=Europe/Madrid:20260413T180000
DTEND;TZID=Europe/Madrid:20260413T200000
DTSTAMP:20260420T113813Z
LOCATION:Calle Marqués de Montortal\, 65 Bajo
DESCRIPTION;ENCODING=QUOTED-PRINTABLE:<p>Refuerzo educativo para niños y niñas hasta 14 años</p><br />
X-ALT-DESC;FMTTYPE=text/html:<p>Refuerzo educativo para niños y niñas hasta 14 años</p><br />
SUMMARY:Refuerzo escolar
ORGANIZER:Asociacion Valencia Acoge
URL;VALUE=URI:https://orriolsenpositivo.es/actividades/refuerzo-escolar/
TRANSP:OPAQUE
END:VEVENT
BEGIN:VEVENT
CREATED:20260226T105708Z
UID:56
DTSTART;TZID=Europe/Madrid:20260406T180000
DTEND;TZID=Europe/Madrid:20260406T200000
DTSTAMP:20260420T113813Z
LOCATION:Calle Marqués de Montortal\, 65 Bajo
DESCRIPTION;ENCODING=QUOTED-PRINTABLE:<p>Refuerzo educativo para niños y niñas hasta 14 años</p><br />
X-ALT-DESC;FMTTYPE=text/html:<p>Refuerzo educativo para niños y niñas hasta 14 años</p><br />
SUMMARY:Refuerzo escolar
ORGANIZER:Asociacion Valencia Acoge
URL;VALUE=URI:https://orriolsenpositivo.es/actividades/refuerzo-escolar/
TRANSP:OPAQUE
END:VEVENT
BEGIN:VEVENT
CREATED:20260226T105708Z
UID:55
DTSTART;TZID=Europe/Madrid:20260330T180000
DTEND;TZID=Europe/Madrid:20260330T200000
DTSTAMP:20260420T113813Z
LOCATION:Calle Marqués de Montortal\, 65 Bajo
DESCRIPTION;ENCODING=QUOTED-PRINTABLE:<p>Refuerzo educativo para niños y niñas hasta 14 años</p><br />
X-ALT-DESC;FMTTYPE=text/html:<p>Refuerzo educativo para niños y niñas hasta 14 años</p><br />
SUMMARY:Refuerzo escolar
ORGANIZER:Asociacion Valencia Acoge
URL;VALUE=URI:https://orriolsenpositivo.es/actividades/refuerzo-escolar/
TRANSP:OPAQUE
END:VEVENT
BEGIN:VEVENT
CREATED:20260226T105708Z
UID:54
DTSTART;TZID=Europe/Madrid:20260323T180000
DTEND;TZID=Europe/Madrid:20260323T200000
DTSTAMP:20260420T113813Z
LOCATION:Calle Marqués de Montortal\, 65 Bajo
DESCRIPTION;ENCODING=QUOTED-PRINTABLE:<p>Refuerzo educativo para niños y niñas hasta 14 años</p><br />
X-ALT-DESC;FMTTYPE=text/html:<p>Refuerzo educativo para niños y niñas hasta 14 años</p><br />
SUMMARY:Refuerzo escolar
ORGANIZER:Asociacion Valencia Acoge
URL;VALUE=URI:https://orriolsenpositivo.es/actividades/refuerzo-escolar/
TRANSP:OPAQUE
END:VEVENT
BEGIN:VEVENT
CREATED:20260226T105708Z
UID:53
DTSTART;TZID=Europe/Madrid:20260316T180000
DTEND;TZID=Europe/Madrid:20260316T200000
DTSTAMP:20260420T113813Z
LOCATION:Calle Marqués de Montortal\, 65 Bajo
DESCRIPTION;ENCODING=QUOTED-PRINTABLE:<p>Refuerzo educativo para niños y niñas hasta 14 años</p><br />
X-ALT-DESC;FMTTYPE=text/html:<p>Refuerzo educativo para niños y niñas hasta 14 años</p><br />
SUMMARY:Refuerzo escolar
ORGANIZER:Asociacion Valencia Acoge
URL;VALUE=URI:https://orriolsenpositivo.es/actividades/refuerzo-escolar/
TRANSP:OPAQUE
END:VEVENT
BEGIN:VEVENT
CREATED:20260226T105708Z
UID:52
DTSTART;TZID=Europe/Madrid:20260309T180000
DTEND;TZID=Europe/Madrid:20260309T200000
DTSTAMP:20260420T113813Z
LOCATION:Calle Marqués de Montortal\, 65 Bajo
DESCRIPTION;ENCODING=QUOTED-PRINTABLE:<p>Refuerzo educativo para niños y niñas hasta 14 años</p><br />
X-ALT-DESC;FMTTYPE=text/html:<p>Refuerzo educativo para niños y niñas hasta 14 años</p><br />
SUMMARY:Refuerzo escolar
ORGANIZER:Asociacion Valencia Acoge
URL;VALUE=URI:https://orriolsenpositivo.es/actividades/refuerzo-escolar/
TRANSP:OPAQUE
END:VEVENT
BEGIN:VEVENT
CREATED:20260226T105708Z
UID:51
DTSTART;TZID=Europe/Madrid:20260302T180000
DTEND;TZID=Europe/Madrid:20260302T200000
DTSTAMP:20260420T113813Z
LOCATION:Calle Marqués de Montortal\, 65 Bajo
DESCRIPTION;ENCODING=QUOTED-PRINTABLE:<p>Refuerzo educativo para niños y niñas hasta 14 años</p><br />
X-ALT-DESC;FMTTYPE=text/html:<p>Refuerzo educativo para niños y niñas hasta 14 años</p><br />
SUMMARY:Refuerzo escolar
ORGANIZER:Asociacion Valencia Acoge
URL;VALUE=URI:https://orriolsenpositivo.es/actividades/refuerzo-escolar/
TRANSP:OPAQUE
END:VEVENT
END:VCALENDAR
