BEGIN:VCALENDAR
VERSION:2.0
PRODID:-//Orriols en Positivo//NONSGML Manos que tejen flores //EN
CALSCALE:GREGORIAN
X-WR-CALNAME:Manos que tejen flores - Orriols en Positivo
X-Robots-Tag:noindex
X-WR-TIMEZONE:Europe/Madrid
BEGIN:VTIMEZONE
TZID:Europe/Madrid
X-LIC-LOCATION:Europe/Madrid
BEGIN:DAYLIGHT
TZOFFSETFROM:+0100
TZOFFSETTO:+0200
TZNAME:CEST
DTSTART:19700329T020000
RRULE:FREQ=YEARLY;BYMONTH=3;BYDAY=-1SU
END:DAYLIGHT
BEGIN:STANDARD
TZOFFSETFROM:+0200
TZOFFSETTO:+0100
TZNAME:CET
DTSTART:19701025T030000
RRULE:FREQ=YEARLY;BYMONTH=10;BYDAY=-1SU
END:STANDARD
END:VTIMEZONE
BEGIN:VEVENT
CREATED:20260226T105147Z
UID:50
DTSTART;TZID=Europe/Madrid:20260629T113000
DTEND;TZID=Europe/Madrid:20260629T130000
DTSTAMP:20260422T084248Z
LOCATION:Calle Arquitecto Rodríguez\, 34 Bajo
DESCRIPTION;ENCODING=QUOTED-PRINTABLE:<p>Encuentro de mujeres para compartir experiencias mientras realizan una actividad de ocio\, en este caso tejer.</p><br />
X-ALT-DESC;FMTTYPE=text/html:<p>Encuentro de mujeres para compartir experiencias mientras realizan una actividad de ocio\, en este caso tejer.</p><br />
SUMMARY:Manos que tejen flores
ORGANIZER:Asociacion Valencia Acoge
URL;VALUE=URI:https://orriolsenpositivo.es/actividades/manos-que-tejen-flores/
TRANSP:OPAQUE
END:VEVENT
BEGIN:VEVENT
CREATED:20260226T105147Z
UID:49
DTSTART;TZID=Europe/Madrid:20260622T113000
DTEND;TZID=Europe/Madrid:20260622T130000
DTSTAMP:20260422T084248Z
LOCATION:Calle Arquitecto Rodríguez\, 34 Bajo
DESCRIPTION;ENCODING=QUOTED-PRINTABLE:<p>Encuentro de mujeres para compartir experiencias mientras realizan una actividad de ocio\, en este caso tejer.</p><br />
X-ALT-DESC;FMTTYPE=text/html:<p>Encuentro de mujeres para compartir experiencias mientras realizan una actividad de ocio\, en este caso tejer.</p><br />
SUMMARY:Manos que tejen flores
ORGANIZER:Asociacion Valencia Acoge
URL;VALUE=URI:https://orriolsenpositivo.es/actividades/manos-que-tejen-flores/
TRANSP:OPAQUE
END:VEVENT
BEGIN:VEVENT
CREATED:20260226T105147Z
UID:48
DTSTART;TZID=Europe/Madrid:20260615T113000
DTEND;TZID=Europe/Madrid:20260615T130000
DTSTAMP:20260422T084248Z
LOCATION:Calle Arquitecto Rodríguez\, 34 Bajo
DESCRIPTION;ENCODING=QUOTED-PRINTABLE:<p>Encuentro de mujeres para compartir experiencias mientras realizan una actividad de ocio\, en este caso tejer.</p><br />
X-ALT-DESC;FMTTYPE=text/html:<p>Encuentro de mujeres para compartir experiencias mientras realizan una actividad de ocio\, en este caso tejer.</p><br />
SUMMARY:Manos que tejen flores
ORGANIZER:Asociacion Valencia Acoge
URL;VALUE=URI:https://orriolsenpositivo.es/actividades/manos-que-tejen-flores/
TRANSP:OPAQUE
END:VEVENT
BEGIN:VEVENT
CREATED:20260226T105147Z
UID:47
DTSTART;TZID=Europe/Madrid:20260608T113000
DTEND;TZID=Europe/Madrid:20260608T130000
DTSTAMP:20260422T084248Z
LOCATION:Calle Arquitecto Rodríguez\, 34 Bajo
DESCRIPTION;ENCODING=QUOTED-PRINTABLE:<p>Encuentro de mujeres para compartir experiencias mientras realizan una actividad de ocio\, en este caso tejer.</p><br />
X-ALT-DESC;FMTTYPE=text/html:<p>Encuentro de mujeres para compartir experiencias mientras realizan una actividad de ocio\, en este caso tejer.</p><br />
SUMMARY:Manos que tejen flores
ORGANIZER:Asociacion Valencia Acoge
URL;VALUE=URI:https://orriolsenpositivo.es/actividades/manos-que-tejen-flores/
TRANSP:OPAQUE
END:VEVENT
BEGIN:VEVENT
CREATED:20260226T105147Z
UID:46
DTSTART;TZID=Europe/Madrid:20260601T113000
DTEND;TZID=Europe/Madrid:20260601T130000
DTSTAMP:20260422T084248Z
LOCATION:Calle Arquitecto Rodríguez\, 34 Bajo
DESCRIPTION;ENCODING=QUOTED-PRINTABLE:<p>Encuentro de mujeres para compartir experiencias mientras realizan una actividad de ocio\, en este caso tejer.</p><br />
X-ALT-DESC;FMTTYPE=text/html:<p>Encuentro de mujeres para compartir experiencias mientras realizan una actividad de ocio\, en este caso tejer.</p><br />
SUMMARY:Manos que tejen flores
ORGANIZER:Asociacion Valencia Acoge
URL;VALUE=URI:https://orriolsenpositivo.es/actividades/manos-que-tejen-flores/
TRANSP:OPAQUE
END:VEVENT
BEGIN:VEVENT
CREATED:20260226T105147Z
UID:45
DTSTART;TZID=Europe/Madrid:20260525T113000
DTEND;TZID=Europe/Madrid:20260525T130000
DTSTAMP:20260422T084248Z
LOCATION:Calle Arquitecto Rodríguez\, 34 Bajo
DESCRIPTION;ENCODING=QUOTED-PRINTABLE:<p>Encuentro de mujeres para compartir experiencias mientras realizan una actividad de ocio\, en este caso tejer.</p><br />
X-ALT-DESC;FMTTYPE=text/html:<p>Encuentro de mujeres para compartir experiencias mientras realizan una actividad de ocio\, en este caso tejer.</p><br />
SUMMARY:Manos que tejen flores
ORGANIZER:Asociacion Valencia Acoge
URL;VALUE=URI:https://orriolsenpositivo.es/actividades/manos-que-tejen-flores/
TRANSP:OPAQUE
END:VEVENT
BEGIN:VEVENT
CREATED:20260226T105147Z
UID:44
DTSTART;TZID=Europe/Madrid:20260518T113000
DTEND;TZID=Europe/Madrid:20260518T130000
DTSTAMP:20260422T084248Z
LOCATION:Calle Arquitecto Rodríguez\, 34 Bajo
DESCRIPTION;ENCODING=QUOTED-PRINTABLE:<p>Encuentro de mujeres para compartir experiencias mientras realizan una actividad de ocio\, en este caso tejer.</p><br />
X-ALT-DESC;FMTTYPE=text/html:<p>Encuentro de mujeres para compartir experiencias mientras realizan una actividad de ocio\, en este caso tejer.</p><br />
SUMMARY:Manos que tejen flores
ORGANIZER:Asociacion Valencia Acoge
URL;VALUE=URI:https://orriolsenpositivo.es/actividades/manos-que-tejen-flores/
TRANSP:OPAQUE
END:VEVENT
BEGIN:VEVENT
CREATED:20260226T105147Z
UID:43
DTSTART;TZID=Europe/Madrid:20260511T113000
DTEND;TZID=Europe/Madrid:20260511T130000
DTSTAMP:20260422T084248Z
LOCATION:Calle Arquitecto Rodríguez\, 34 Bajo
DESCRIPTION;ENCODING=QUOTED-PRINTABLE:<p>Encuentro de mujeres para compartir experiencias mientras realizan una actividad de ocio\, en este caso tejer.</p><br />
X-ALT-DESC;FMTTYPE=text/html:<p>Encuentro de mujeres para compartir experiencias mientras realizan una actividad de ocio\, en este caso tejer.</p><br />
SUMMARY:Manos que tejen flores
ORGANIZER:Asociacion Valencia Acoge
URL;VALUE=URI:https://orriolsenpositivo.es/actividades/manos-que-tejen-flores/
TRANSP:OPAQUE
END:VEVENT
BEGIN:VEVENT
CREATED:20260226T105147Z
UID:42
DTSTART;TZID=Europe/Madrid:20260504T113000
DTEND;TZID=Europe/Madrid:20260504T130000
DTSTAMP:20260422T084248Z
LOCATION:Calle Arquitecto Rodríguez\, 34 Bajo
DESCRIPTION;ENCODING=QUOTED-PRINTABLE:<p>Encuentro de mujeres para compartir experiencias mientras realizan una actividad de ocio\, en este caso tejer.</p><br />
X-ALT-DESC;FMTTYPE=text/html:<p>Encuentro de mujeres para compartir experiencias mientras realizan una actividad de ocio\, en este caso tejer.</p><br />
SUMMARY:Manos que tejen flores
ORGANIZER:Asociacion Valencia Acoge
URL;VALUE=URI:https://orriolsenpositivo.es/actividades/manos-que-tejen-flores/
TRANSP:OPAQUE
END:VEVENT
BEGIN:VEVENT
CREATED:20260226T105147Z
UID:41
DTSTART;TZID=Europe/Madrid:20260427T113000
DTEND;TZID=Europe/Madrid:20260427T130000
DTSTAMP:20260422T084248Z
LOCATION:Calle Arquitecto Rodríguez\, 34 Bajo
DESCRIPTION;ENCODING=QUOTED-PRINTABLE:<p>Encuentro de mujeres para compartir experiencias mientras realizan una actividad de ocio\, en este caso tejer.</p><br />
X-ALT-DESC;FMTTYPE=text/html:<p>Encuentro de mujeres para compartir experiencias mientras realizan una actividad de ocio\, en este caso tejer.</p><br />
SUMMARY:Manos que tejen flores
ORGANIZER:Asociacion Valencia Acoge
URL;VALUE=URI:https://orriolsenpositivo.es/actividades/manos-que-tejen-flores/
TRANSP:OPAQUE
END:VEVENT
BEGIN:VEVENT
CREATED:20260226T105147Z
UID:40
DTSTART;TZID=Europe/Madrid:20260420T113000
DTEND;TZID=Europe/Madrid:20260420T130000
DTSTAMP:20260422T084248Z
LOCATION:Calle Arquitecto Rodríguez\, 34 Bajo
DESCRIPTION;ENCODING=QUOTED-PRINTABLE:<p>Encuentro de mujeres para compartir experiencias mientras realizan una actividad de ocio\, en este caso tejer.</p><br />
X-ALT-DESC;FMTTYPE=text/html:<p>Encuentro de mujeres para compartir experiencias mientras realizan una actividad de ocio\, en este caso tejer.</p><br />
SUMMARY:Manos que tejen flores
ORGANIZER:Asociacion Valencia Acoge
URL;VALUE=URI:https://orriolsenpositivo.es/actividades/manos-que-tejen-flores/
TRANSP:OPAQUE
END:VEVENT
BEGIN:VEVENT
CREATED:20260226T105147Z
UID:39
DTSTART;TZID=Europe/Madrid:20260413T113000
DTEND;TZID=Europe/Madrid:20260413T130000
DTSTAMP:20260422T084248Z
LOCATION:Calle Arquitecto Rodríguez\, 34 Bajo
DESCRIPTION;ENCODING=QUOTED-PRINTABLE:<p>Encuentro de mujeres para compartir experiencias mientras realizan una actividad de ocio\, en este caso tejer.</p><br />
X-ALT-DESC;FMTTYPE=text/html:<p>Encuentro de mujeres para compartir experiencias mientras realizan una actividad de ocio\, en este caso tejer.</p><br />
SUMMARY:Manos que tejen flores
ORGANIZER:Asociacion Valencia Acoge
URL;VALUE=URI:https://orriolsenpositivo.es/actividades/manos-que-tejen-flores/
TRANSP:OPAQUE
END:VEVENT
BEGIN:VEVENT
CREATED:20260226T105147Z
UID:38
DTSTART;TZID=Europe/Madrid:20260406T113000
DTEND;TZID=Europe/Madrid:20260406T130000
DTSTAMP:20260422T084248Z
LOCATION:Calle Arquitecto Rodríguez\, 34 Bajo
DESCRIPTION;ENCODING=QUOTED-PRINTABLE:<p>Encuentro de mujeres para compartir experiencias mientras realizan una actividad de ocio\, en este caso tejer.</p><br />
X-ALT-DESC;FMTTYPE=text/html:<p>Encuentro de mujeres para compartir experiencias mientras realizan una actividad de ocio\, en este caso tejer.</p><br />
SUMMARY:Manos que tejen flores
ORGANIZER:Asociacion Valencia Acoge
URL;VALUE=URI:https://orriolsenpositivo.es/actividades/manos-que-tejen-flores/
TRANSP:OPAQUE
END:VEVENT
BEGIN:VEVENT
CREATED:20260226T105147Z
UID:37
DTSTART;TZID=Europe/Madrid:20260330T113000
DTEND;TZID=Europe/Madrid:20260330T130000
DTSTAMP:20260422T084248Z
LOCATION:Calle Arquitecto Rodríguez\, 34 Bajo
DESCRIPTION;ENCODING=QUOTED-PRINTABLE:<p>Encuentro de mujeres para compartir experiencias mientras realizan una actividad de ocio\, en este caso tejer.</p><br />
X-ALT-DESC;FMTTYPE=text/html:<p>Encuentro de mujeres para compartir experiencias mientras realizan una actividad de ocio\, en este caso tejer.</p><br />
SUMMARY:Manos que tejen flores
ORGANIZER:Asociacion Valencia Acoge
URL;VALUE=URI:https://orriolsenpositivo.es/actividades/manos-que-tejen-flores/
TRANSP:OPAQUE
END:VEVENT
BEGIN:VEVENT
CREATED:20260226T105147Z
UID:36
DTSTART;TZID=Europe/Madrid:20260323T113000
DTEND;TZID=Europe/Madrid:20260323T130000
DTSTAMP:20260422T084248Z
LOCATION:Calle Arquitecto Rodríguez\, 34 Bajo
DESCRIPTION;ENCODING=QUOTED-PRINTABLE:<p>Encuentro de mujeres para compartir experiencias mientras realizan una actividad de ocio\, en este caso tejer.</p><br />
X-ALT-DESC;FMTTYPE=text/html:<p>Encuentro de mujeres para compartir experiencias mientras realizan una actividad de ocio\, en este caso tejer.</p><br />
SUMMARY:Manos que tejen flores
ORGANIZER:Asociacion Valencia Acoge
URL;VALUE=URI:https://orriolsenpositivo.es/actividades/manos-que-tejen-flores/
TRANSP:OPAQUE
END:VEVENT
BEGIN:VEVENT
CREATED:20260226T105147Z
UID:35
DTSTART;TZID=Europe/Madrid:20260316T113000
DTEND;TZID=Europe/Madrid:20260316T130000
DTSTAMP:20260422T084248Z
LOCATION:Calle Arquitecto Rodríguez\, 34 Bajo
DESCRIPTION;ENCODING=QUOTED-PRINTABLE:<p>Encuentro de mujeres para compartir experiencias mientras realizan una actividad de ocio\, en este caso tejer.</p><br />
X-ALT-DESC;FMTTYPE=text/html:<p>Encuentro de mujeres para compartir experiencias mientras realizan una actividad de ocio\, en este caso tejer.</p><br />
SUMMARY:Manos que tejen flores
ORGANIZER:Asociacion Valencia Acoge
URL;VALUE=URI:https://orriolsenpositivo.es/actividades/manos-que-tejen-flores/
TRANSP:OPAQUE
END:VEVENT
BEGIN:VEVENT
CREATED:20260226T105147Z
UID:34
DTSTART;TZID=Europe/Madrid:20260309T113000
DTEND;TZID=Europe/Madrid:20260309T130000
DTSTAMP:20260422T084248Z
LOCATION:Calle Arquitecto Rodríguez\, 34 Bajo
DESCRIPTION;ENCODING=QUOTED-PRINTABLE:<p>Encuentro de mujeres para compartir experiencias mientras realizan una actividad de ocio\, en este caso tejer.</p><br />
X-ALT-DESC;FMTTYPE=text/html:<p>Encuentro de mujeres para compartir experiencias mientras realizan una actividad de ocio\, en este caso tejer.</p><br />
SUMMARY:Manos que tejen flores
ORGANIZER:Asociacion Valencia Acoge
URL;VALUE=URI:https://orriolsenpositivo.es/actividades/manos-que-tejen-flores/
TRANSP:OPAQUE
END:VEVENT
BEGIN:VEVENT
CREATED:20260226T105147Z
UID:33
DTSTART;TZID=Europe/Madrid:20260302T113000
DTEND;TZID=Europe/Madrid:20260302T130000
DTSTAMP:20260422T084248Z
LOCATION:Calle Arquitecto Rodríguez\, 34 Bajo
DESCRIPTION;ENCODING=QUOTED-PRINTABLE:<p>Encuentro de mujeres para compartir experiencias mientras realizan una actividad de ocio\, en este caso tejer.</p><br />
X-ALT-DESC;FMTTYPE=text/html:<p>Encuentro de mujeres para compartir experiencias mientras realizan una actividad de ocio\, en este caso tejer.</p><br />
SUMMARY:Manos que tejen flores
ORGANIZER:Asociacion Valencia Acoge
URL;VALUE=URI:https://orriolsenpositivo.es/actividades/manos-que-tejen-flores/
TRANSP:OPAQUE
END:VEVENT
END:VCALENDAR
