BEGIN:VCALENDAR
VERSION:2.0
PRODID:-//Orriols en Positivo//NONSGML Puzle comunitario de la diversidad //EN
CALSCALE:GREGORIAN
X-WR-CALNAME:Puzle comunitario de la diversidad - Orriols en Positivo
X-Robots-Tag:noindex
X-WR-TIMEZONE:Europe/Madrid
BEGIN:VTIMEZONE
TZID:Europe/Madrid
X-LIC-LOCATION:Europe/Madrid
BEGIN:DAYLIGHT
TZOFFSETFROM:+0100
TZOFFSETTO:+0200
TZNAME:CEST
DTSTART:19700329T020000
RRULE:FREQ=YEARLY;BYMONTH=3;BYDAY=-1SU
END:DAYLIGHT
BEGIN:STANDARD
TZOFFSETFROM:+0200
TZOFFSETTO:+0100
TZNAME:CET
DTSTART:19701025T030000
RRULE:FREQ=YEARLY;BYMONTH=10;BYDAY=-1SU
END:STANDARD
END:VTIMEZONE
BEGIN:VEVENT
CREATED:20260226T102507Z
UID:32
DTSTART;TZID=Europe/Madrid:20260320T173000
DTEND;TZID=Europe/Madrid:20260320T183000
DTSTAMP:20260420T131824Z
LOCATION:Plaza de la Ermita de Orriols
DESCRIPTION;ENCODING=QUOTED-PRINTABLE:<p>Creación de un puzle de manera comunitaria.</p><br />
X-ALT-DESC;FMTTYPE=text/html:<p>Creación de un puzle de manera comunitaria.</p><br />
SUMMARY:Puzle comunitario de la diversidad
ORGANIZER:Asociacion Valencia Acoge
URL;VALUE=URI:https://orriolsenpositivo.es/actividades/puzle-comunitario-de-la-diversidad/
TRANSP:OPAQUE
END:VEVENT
END:VCALENDAR
