BEGIN:VCALENDAR
VERSION:2.0
PRODID:-//Orriols en Positivo//NONSGML Visita guiada intercultural //EN
CALSCALE:GREGORIAN
X-WR-CALNAME:Visita guiada intercultural - Orriols en Positivo
X-Robots-Tag:noindex
X-WR-TIMEZONE:Europe/Madrid
BEGIN:VTIMEZONE
TZID:Europe/Madrid
X-LIC-LOCATION:Europe/Madrid
BEGIN:DAYLIGHT
TZOFFSETFROM:+0100
TZOFFSETTO:+0200
TZNAME:CEST
DTSTART:19700329T020000
RRULE:FREQ=YEARLY;BYMONTH=3;BYDAY=-1SU
END:DAYLIGHT
BEGIN:STANDARD
TZOFFSETFROM:+0200
TZOFFSETTO:+0100
TZNAME:CET
DTSTART:19701025T030000
RRULE:FREQ=YEARLY;BYMONTH=10;BYDAY=-1SU
END:STANDARD
END:VTIMEZONE
BEGIN:VEVENT
CREATED:20260226T101708Z
UID:117
DTSTART;TZID=Europe/Madrid:20260309T160000
DTEND;TZID=Europe/Madrid:20260309T173000
DTSTAMP:20260422T101044Z
LOCATION:Plaza de la Ermita de Orriols
DESCRIPTION;ENCODING=QUOTED-PRINTABLE:<p>Visita guiada por el barrio Orriols destacando algunos sitios relevantes del patrimonio cultural y de lucha vecinal.</p><br />
X-ALT-DESC;FMTTYPE=text/html:<p>Visita guiada por el barrio Orriols destacando algunos sitios relevantes del patrimonio cultural y de lucha vecinal.</p><br />
SUMMARY:Visita guiada intercultural
ORGANIZER:Asociacion Valencia Acoge
URL;VALUE=URI:https://orriolsenpositivo.es/actividades/visita-guiada-intercultural/
TRANSP:OPAQUE
END:VEVENT
END:VCALENDAR
