BEGIN:VCALENDAR
VERSION:2.0
PRODID:-//Orriols en Positivo//NONSGML Jornada Comunitaria Orriols Violeta //EN
CALSCALE:GREGORIAN
X-WR-CALNAME:Jornada Comunitaria Orriols Violeta - Orriols en Positivo
X-Robots-Tag:noindex
X-WR-TIMEZONE:Europe/Madrid
BEGIN:VTIMEZONE
TZID:Europe/Madrid
X-LIC-LOCATION:Europe/Madrid
BEGIN:DAYLIGHT
TZOFFSETFROM:+0100
TZOFFSETTO:+0200
TZNAME:CEST
DTSTART:19700329T020000
RRULE:FREQ=YEARLY;BYMONTH=3;BYDAY=-1SU
END:DAYLIGHT
BEGIN:STANDARD
TZOFFSETFROM:+0200
TZOFFSETTO:+0100
TZNAME:CET
DTSTART:19701025T030000
RRULE:FREQ=YEARLY;BYMONTH=10;BYDAY=-1SU
END:STANDARD
END:VTIMEZONE
BEGIN:VEVENT
CREATED:20260226T095752Z
UID:28
DTSTART;TZID=Europe/Madrid:20260305T100000
DTEND;TZID=Europe/Madrid:20260305T130000
DTSTAMP:20260420T131824Z
LOCATION:Plaza de la Ermita de Orriols
DESCRIPTION;ENCODING=QUOTED-PRINTABLE:<p>Actividad de marcada del 8 de marzo realizada por entidades del barrio donde encontraremos talleres\, exposiciones\, poesia\,entre otras. </p><br />
X-ALT-DESC;FMTTYPE=text/html:<p>Actividad de marcada del 8 de marzo realizada por entidades del barrio donde encontraremos talleres\, exposiciones\, poesia\,entre otras. </p><br />
SUMMARY:Jornada Comunitaria Orriols Violeta
ORGANIZER:Asociacion Valencia Acoge
URL;VALUE=URI:https://orriolsenpositivo.es/actividades/jornada-comunitaria-orriols-violeta/
TRANSP:OPAQUE
END:VEVENT
END:VCALENDAR
