BEGIN:VCALENDAR
VERSION:2.0
PRODID:-//Orriols en Positivo//NONSGML Encuentro Situar el malestar //EN
CALSCALE:GREGORIAN
X-WR-CALNAME:Encuentro Situar el malestar - Orriols en Positivo
X-Robots-Tag:noindex
X-WR-TIMEZONE:Europe/Madrid
BEGIN:VTIMEZONE
TZID:Europe/Madrid
X-LIC-LOCATION:Europe/Madrid
BEGIN:DAYLIGHT
TZOFFSETFROM:+0100
TZOFFSETTO:+0200
TZNAME:CEST
DTSTART:19700329T020000
RRULE:FREQ=YEARLY;BYMONTH=3;BYDAY=-1SU
END:DAYLIGHT
BEGIN:STANDARD
TZOFFSETFROM:+0200
TZOFFSETTO:+0100
TZNAME:CET
DTSTART:19701025T030000
RRULE:FREQ=YEARLY;BYMONTH=10;BYDAY=-1SU
END:STANDARD
END:VTIMEZONE
BEGIN:VEVENT
CREATED:20260226T095728Z
UID:27
DTSTART;TZID=Europe/Madrid:20260304T170000
DTEND;TZID=Europe/Madrid:20260304T190000
DTSTAMP:20260420T131845Z
LOCATION:CMJ Orriols
DESCRIPTION;ENCODING=QUOTED-PRINTABLE:<p>Con motivo del 8M\, un encuentro para explorar el malestar como una experiencia situada -afectiva\, relacional y social- y practicar juntas otras formas de cuidado.</p><br />
X-ALT-DESC;FMTTYPE=text/html:<p>Con motivo del 8M\, un encuentro para explorar el malestar como una experiencia situada -afectiva\, relacional y social- y practicar juntas otras formas de cuidado.</p><br />
SUMMARY:Encuentro Situar el malestar
ORGANIZER:Asociacion Valencia Acoge
URL;VALUE=URI:https://orriolsenpositivo.es/actividades/encuentro-situar-el-malestar/
TRANSP:OPAQUE
END:VEVENT
END:VCALENDAR
